BEGIN:VCALENDAR
VERSION:2.0
PRODID:-//Human Resources - ECPv6.15.20//NONSGML v1.0//EN
CALSCALE:GREGORIAN
METHOD:PUBLISH
X-ORIGINAL-URL:https://www.monmouth.edu/hr
X-WR-CALDESC:Events for Human Resources
REFRESH-INTERVAL;VALUE=DURATION:PT1H
X-Robots-Tag:noindex
X-PUBLISHED-TTL:PT1H
BEGIN:VTIMEZONE
TZID:America/New_York
BEGIN:DAYLIGHT
TZOFFSETFROM:-0500
TZOFFSETTO:-0400
TZNAME:EDT
DTSTART:20240310T070000
END:DAYLIGHT
BEGIN:STANDARD
TZOFFSETFROM:-0400
TZOFFSETTO:-0500
TZNAME:EST
DTSTART:20241103T060000
END:STANDARD
BEGIN:DAYLIGHT
TZOFFSETFROM:-0500
TZOFFSETTO:-0400
TZNAME:EDT
DTSTART:20250309T070000
END:DAYLIGHT
BEGIN:STANDARD
TZOFFSETFROM:-0400
TZOFFSETTO:-0500
TZNAME:EST
DTSTART:20251102T060000
END:STANDARD
BEGIN:DAYLIGHT
TZOFFSETFROM:-0500
TZOFFSETTO:-0400
TZNAME:EDT
DTSTART:20260308T070000
END:DAYLIGHT
BEGIN:STANDARD
TZOFFSETFROM:-0400
TZOFFSETTO:-0500
TZNAME:EST
DTSTART:20261101T060000
END:STANDARD
END:VTIMEZONE
BEGIN:VEVENT
DTSTART;TZID=America/New_York:20250709T120000
DTEND;TZID=America/New_York:20250709T120000
DTSTAMP:20260425T002221
CREATED:20250603T210855Z
LAST-MODIFIED:20250603T210855Z
UID:15288-1752062400-1752062400@www.monmouth.edu
SUMMARY:TIAA Webinar: Quarterly Economic and Market Update
DESCRIPTION:Hear from the experts in our Wealth Chief Investment Office on the global economy’s effect on your retirement strategies. \n\nReserve Your Spot for a Webinar
URL:https://www.monmouth.edu/hr/event/tiaa-webinar-quarterly-economic-and-market-update/
CATEGORIES:TIAA Webinar
END:VEVENT
BEGIN:VEVENT
DTSTART;TZID=America/New_York:20250716T090000
DTEND;TZID=America/New_York:20250716T170000
DTSTAMP:20260425T002221
CREATED:20250501T144127Z
LAST-MODIFIED:20250501T144127Z
UID:15218-1752656400-1752685200@www.monmouth.edu
SUMMARY:TIAA Consultation
DESCRIPTION:
URL:https://www.monmouth.edu/hr/event/tiaa-consultation-3/
CATEGORIES:TIAA Consultation
END:VEVENT
BEGIN:VEVENT
DTSTART;TZID=America/New_York:20250716T130000
DTEND;TZID=America/New_York:20250716T130000
DTSTAMP:20260425T002221
CREATED:20250717T203104Z
LAST-MODIFIED:20250717T203104Z
UID:15371-1752670800-1752670800@www.monmouth.edu
SUMMARY:Care Talks: Caregiver 911 How to Prepare for Emergencies
DESCRIPTION:Care Talks support employees with access to advice and guidance from expert speakers in areas such as childcare\, senior care\, financial literacy\, emotional health\, and more. Care Talks are exclusively available to Care for Business clients and their employees.
URL:https://www.monmouth.edu/hr/event/care-talks-caregiver-911-how-to-prepare-for-emergencies/
CATEGORIES:Care Talks
END:VEVENT
BEGIN:VEVENT
DTSTART;TZID=America/New_York:20250717T130000
DTEND;TZID=America/New_York:20250717T130000
DTSTAMP:20260425T002221
CREATED:20250717T203133Z
LAST-MODIFIED:20250717T203133Z
UID:15372-1752757200-1752757200@www.monmouth.edu
SUMMARY:Care Talks: Motivation Bringing out the Best
DESCRIPTION:Care Talks support employees with access to advice and guidance from expert speakers in areas such as childcare\, senior care\, financial literacy\, emotional health\, and more. Care Talks are exclusively available to Care for Business clients and their employees.
URL:https://www.monmouth.edu/hr/event/care-talks-motivation-bringing-out-the-best/
CATEGORIES:Care Talks
END:VEVENT
BEGIN:VEVENT
DTSTART;TZID=America/New_York:20250722T130000
DTEND;TZID=America/New_York:20250722T130000
DTSTAMP:20260425T002221
CREATED:20250717T203147Z
LAST-MODIFIED:20250717T203147Z
UID:15373-1753189200-1753189200@www.monmouth.edu
SUMMARY:Care Talks: Clean Living
DESCRIPTION:Care Talks support employees with access to advice and guidance from expert speakers in areas such as childcare\, senior care\, financial literacy\, emotional health\, and more. Care Talks are exclusively available to Care for Business clients and their employees.
URL:https://www.monmouth.edu/hr/event/care-talks-clean-living/
CATEGORIES:Care Talks
END:VEVENT
BEGIN:VEVENT
DTSTART;TZID=America/New_York:20250723T120000
DTEND;TZID=America/New_York:20250723T120000
DTSTAMP:20260425T002221
CREATED:20250604T145414Z
LAST-MODIFIED:20250604T145414Z
UID:15292-1753272000-1753272000@www.monmouth.edu
SUMMARY:TIAA Webinar: Steps to Help Secure Your Income in Retirement—A Mid-Career Check-In
DESCRIPTION:Take stock of where you are at this critical checkpoint and use retirement-saving strategies to better balance competing financial priorities. \n\nReserve Your Spot for a Webinar
URL:https://www.monmouth.edu/hr/event/tiaa-webinar-steps-to-help-secure-your-income-in-retirement-a-mid-career-check-in/
CATEGORIES:TIAA Webinar
END:VEVENT
BEGIN:VEVENT
DTSTART;TZID=America/New_York:20250723T130000
DTEND;TZID=America/New_York:20250723T130000
DTSTAMP:20260425T002221
CREATED:20250717T203204Z
LAST-MODIFIED:20250717T203204Z
UID:15374-1753275600-1753275600@www.monmouth.edu
SUMMARY:Care Talks: Important Teen Issues
DESCRIPTION:Care Talks support employees with access to advice and guidance from expert speakers in areas such as childcare\, senior care\, financial literacy\, emotional health\, and more. Care Talks are exclusively available to Care for Business clients and their employees.
URL:https://www.monmouth.edu/hr/event/care-talks-important-teen-issues/
CATEGORIES:Care Talks
END:VEVENT
END:VCALENDAR