BEGIN:VCALENDAR
VERSION:2.0
PRODID:-//Human Resources - ECPv6.15.20//NONSGML v1.0//EN
CALSCALE:GREGORIAN
METHOD:PUBLISH
X-WR-CALNAME:Human Resources
X-ORIGINAL-URL:https://www.monmouth.edu/hr
X-WR-CALDESC:Events for Human Resources
REFRESH-INTERVAL;VALUE=DURATION:PT1H
X-Robots-Tag:noindex
X-PUBLISHED-TTL:PT1H
BEGIN:VTIMEZONE
TZID:America/New_York
BEGIN:DAYLIGHT
TZOFFSETFROM:-0500
TZOFFSETTO:-0400
TZNAME:EDT
DTSTART:20240310T070000
END:DAYLIGHT
BEGIN:STANDARD
TZOFFSETFROM:-0400
TZOFFSETTO:-0500
TZNAME:EST
DTSTART:20241103T060000
END:STANDARD
BEGIN:DAYLIGHT
TZOFFSETFROM:-0500
TZOFFSETTO:-0400
TZNAME:EDT
DTSTART:20250309T070000
END:DAYLIGHT
BEGIN:STANDARD
TZOFFSETFROM:-0400
TZOFFSETTO:-0500
TZNAME:EST
DTSTART:20251102T060000
END:STANDARD
BEGIN:DAYLIGHT
TZOFFSETFROM:-0500
TZOFFSETTO:-0400
TZNAME:EDT
DTSTART:20260308T070000
END:DAYLIGHT
BEGIN:STANDARD
TZOFFSETFROM:-0400
TZOFFSETTO:-0500
TZNAME:EST
DTSTART:20261101T060000
END:STANDARD
END:VTIMEZONE
BEGIN:VEVENT
DTSTART;TZID=America/New_York:20251105T120000
DTEND;TZID=America/New_York:20251105T120000
DTSTAMP:20260425T113617
CREATED:20250604T145810Z
LAST-MODIFIED:20250604T145810Z
UID:15300-1762344000-1762344000@www.monmouth.edu
SUMMARY:TIAA Webinar—Naming Your Beneficiaries: Why It Matters
DESCRIPTION:TIAA will help you make an informed decision based on legal issues\, financial goals and personal wishes. \n\nReserve Your Spot for a Webinar
URL:https://www.monmouth.edu/hr/event/tiaa-webinar-naming-your-beneficiaries-why-it-matters/
CATEGORIES:TIAA Webinar
END:VEVENT
BEGIN:VEVENT
DTSTART;TZID=America/New_York:20251113T150000
DTEND;TZID=America/New_York:20251113T150000
DTSTAMP:20260425T113617
CREATED:20250604T145839Z
LAST-MODIFIED:20250604T145839Z
UID:15301-1763046000-1763046000@www.monmouth.edu
SUMMARY:TIAA Webinar—How to Get the Most Out of Your Retirement Income
DESCRIPTION:Discover how to maximize your retirement income to ensure your financial security doesn’t stop when you stop working. \n\nReserve Your Spot for a Webinar
URL:https://www.monmouth.edu/hr/event/tiaa-webinar-how-to-get-the-most-out-of-your-retirement-income/
CATEGORIES:TIAA Webinar
END:VEVENT
END:VCALENDAR