BEGIN:VCALENDAR
VERSION:2.0
PRODID:-//Human Resources - ECPv6.15.20//NONSGML v1.0//EN
CALSCALE:GREGORIAN
METHOD:PUBLISH
X-WR-CALNAME:Human Resources
X-ORIGINAL-URL:https://www.monmouth.edu/hr
X-WR-CALDESC:Events for Human Resources
REFRESH-INTERVAL;VALUE=DURATION:PT1H
X-Robots-Tag:noindex
X-PUBLISHED-TTL:PT1H
BEGIN:VTIMEZONE
TZID:America/New_York
BEGIN:DAYLIGHT
TZOFFSETFROM:-0500
TZOFFSETTO:-0400
TZNAME:EDT
DTSTART:20240310T070000
END:DAYLIGHT
BEGIN:STANDARD
TZOFFSETFROM:-0400
TZOFFSETTO:-0500
TZNAME:EST
DTSTART:20241103T060000
END:STANDARD
BEGIN:DAYLIGHT
TZOFFSETFROM:-0500
TZOFFSETTO:-0400
TZNAME:EDT
DTSTART:20250309T070000
END:DAYLIGHT
BEGIN:STANDARD
TZOFFSETFROM:-0400
TZOFFSETTO:-0500
TZNAME:EST
DTSTART:20251102T060000
END:STANDARD
BEGIN:DAYLIGHT
TZOFFSETFROM:-0500
TZOFFSETTO:-0400
TZNAME:EDT
DTSTART:20260308T070000
END:DAYLIGHT
BEGIN:STANDARD
TZOFFSETFROM:-0400
TZOFFSETTO:-0500
TZNAME:EST
DTSTART:20261101T060000
END:STANDARD
END:VTIMEZONE
BEGIN:VEVENT
DTSTART;TZID=America/New_York:20250624T130000
DTEND;TZID=America/New_York:20250624T130000
DTSTAMP:20260425T081805
CREATED:20250604T151619Z
LAST-MODIFIED:20251223T214807Z
UID:15320-1750770000-1750770000@www.monmouth.edu
SUMMARY:Care Talks—Your Healthy Lifestyle: Sleep Basics
DESCRIPTION:In this seminar participants will learn the physical and mental benefits of a good nights’ sleep\, how to establish daily habits that promote sleep and ways to improve your sleep environment.  We will discuss techniques for relaxation and dealing with insomnia.
URL:https://www.monmouth.edu/hr/event/care-talks-your-healthy-lifestyle-sleep-basics/
CATEGORIES:Care Talks
END:VEVENT
END:VCALENDAR