BEGIN:VCALENDAR
VERSION:2.0
PRODID:-//Events - ECPv6.15.20//NONSGML v1.0//EN
CALSCALE:GREGORIAN
METHOD:PUBLISH
X-WR-CALNAME:Events
X-ORIGINAL-URL:https://www.monmouth.edu/events
X-WR-CALDESC:Events for Events
REFRESH-INTERVAL;VALUE=DURATION:PT1H
X-Robots-Tag:noindex
X-PUBLISHED-TTL:PT1H
BEGIN:VTIMEZONE
TZID:America/New_York
BEGIN:DAYLIGHT
TZOFFSETFROM:-0500
TZOFFSETTO:-0400
TZNAME:EDT
DTSTART:20210314T070000
END:DAYLIGHT
BEGIN:STANDARD
TZOFFSETFROM:-0400
TZOFFSETTO:-0500
TZNAME:EST
DTSTART:20211107T060000
END:STANDARD
BEGIN:DAYLIGHT
TZOFFSETFROM:-0500
TZOFFSETTO:-0400
TZNAME:EDT
DTSTART:20220313T070000
END:DAYLIGHT
BEGIN:STANDARD
TZOFFSETFROM:-0400
TZOFFSETTO:-0500
TZNAME:EST
DTSTART:20221106T060000
END:STANDARD
BEGIN:DAYLIGHT
TZOFFSETFROM:-0500
TZOFFSETTO:-0400
TZNAME:EDT
DTSTART:20230312T070000
END:DAYLIGHT
BEGIN:STANDARD
TZOFFSETFROM:-0400
TZOFFSETTO:-0500
TZNAME:EST
DTSTART:20231105T060000
END:STANDARD
BEGIN:DAYLIGHT
TZOFFSETFROM:-0500
TZOFFSETTO:-0400
TZNAME:EDT
DTSTART:20240310T070000
END:DAYLIGHT
BEGIN:STANDARD
TZOFFSETFROM:-0400
TZOFFSETTO:-0500
TZNAME:EST
DTSTART:20241103T060000
END:STANDARD
BEGIN:DAYLIGHT
TZOFFSETFROM:-0500
TZOFFSETTO:-0400
TZNAME:EDT
DTSTART:20250309T070000
END:DAYLIGHT
BEGIN:STANDARD
TZOFFSETFROM:-0400
TZOFFSETTO:-0500
TZNAME:EST
DTSTART:20251102T060000
END:STANDARD
BEGIN:DAYLIGHT
TZOFFSETFROM:-0500
TZOFFSETTO:-0400
TZNAME:EDT
DTSTART:20260308T070000
END:DAYLIGHT
BEGIN:STANDARD
TZOFFSETFROM:-0400
TZOFFSETTO:-0500
TZNAME:EST
DTSTART:20261101T060000
END:STANDARD
END:VTIMEZONE
BEGIN:VEVENT
DTSTART;TZID=America/New_York:20250727T133500
DTEND;TZID=America/New_York:20250727T133500
DTSTAMP:20260422T031922
CREATED:20250211T152055Z
LAST-MODIFIED:20250710T192219Z
UID:40810118647-1753623300-1753623300@www.monmouth.edu
SUMMARY:Alumni Yankee Game: Yankees vs. Phillies
DESCRIPTION:Be Advised: This Event Has Sold Out \n \nJoin Monmouth University and the New York Yankees for a fun-filled day at Yankee Stadium! Each ticket includes an exclusive New York Yankees hat co-branded with the Monmouth University logo (pictured here)\, a pre-game 90-minute all-inclusive meal in the Mastercard Batters Eye Deck until scheduled first pitch\, and a $5 donation to the Monmouth University Access Fund (scholarships for students with unmet financial need). \n\n\nLearn More About the Game
URL:https://www.monmouth.edu/events/event/alumni-yankee-game-yankees-vs-phillies/
LOCATION:Yankee Stadium
CATEGORIES:Alumni,Alumni Calendar Featured,Alumni Events,Social Events
ATTACH;FMTTYPE=image/jpeg:https://www.monmouth.edu/events/wp-content/uploads/sites/19/2025/02/Yankee-Game-graphic.jpg
END:VEVENT
BEGIN:VEVENT
DTSTART;TZID=America/New_York:20250518T191000
DTEND;TZID=America/New_York:20250518T191000
DTSTAMP:20260422T031922
CREATED:20250211T151832Z
LAST-MODIFIED:20250213T152459Z
UID:40810118644-1747595400-1747595400@www.monmouth.edu
SUMMARY:Alumni Yankee Game: Yankees vs. Mets
DESCRIPTION:Join Monmouth University and the New York Yankees for a fun-filled night at Yankee Stadium! Each ticket includes an exclusive New York Yankees hat co-branded with the Monmouth University logo (pictured here)\, a $20 food & beverage Voucher\, and a $5 donation to the Monmouth University Access Fund (scholarships for students with unmet financial need). \n\n\nPurchase Tickets for the Game
URL:https://www.monmouth.edu/events/event/alumni-yankee-game-yankees-vs-mets/
LOCATION:Yankee Stadium
CATEGORIES:Alumni,Alumni Calendar Featured,Alumni Events,Social Events
ATTACH;FMTTYPE=image/jpeg:https://www.monmouth.edu/events/wp-content/uploads/sites/19/2025/02/Yankee-Game-graphic.jpg
END:VEVENT
BEGIN:VEVENT
DTSTART;TZID=America/New_York:20240824T140500
DTEND;TZID=America/New_York:20240824T140500
DTSTAMP:20260422T031922
CREATED:20240411T152028Z
LAST-MODIFIED:20240715T193808Z
UID:40810112408-1724508300-1724508300@www.monmouth.edu
SUMMARY:Alumni Yankee Game
DESCRIPTION:
URL:https://www.monmouth.edu/events/event/alumni-yankee-game/
LOCATION:Yankee Stadium
CATEGORIES:Alumni,Alumni Calendar Featured,Alumni Events,Community Member,Faculty,Social Events,Undergraduate Student
ATTACH;FMTTYPE=image/jpeg:https://www.monmouth.edu/events/wp-content/uploads/sites/19/2024/04/Yankee-website-graphic-resized.jpg
END:VEVENT
BEGIN:VEVENT
DTSTART;TZID=America/New_York:20230805T130500
DTEND;TZID=America/New_York:20230805T130500
DTSTAMP:20260422T031922
CREATED:20230413T204527Z
LAST-MODIFIED:20230413T204643Z
UID:40810111886-1691240700-1691240700@www.monmouth.edu
SUMMARY:Yankee Stadium: Houston Astros vs. New York Yankees
DESCRIPTION:Join Monmouth University and the New York Yankees for a fun-filled day at Yankee Stadium as the Yankees take on the Houston Astros Included in your ticket price is a $5 donation to Monmouth University. In compliance with IRS regulations\, your fees are tax-deductible to the extent that payment exceeds the fair market value of goods and services received by attendee. The tax-deductible portion will benefit the Monmouth University Access Fund. \nThe first 1\,000 fans who purchase through this offer will receive an exclusive New York Yankees Hat co-branded with the Monmouth University logo.
URL:https://www.monmouth.edu/events/event/yankee-stadium-houston-astros-vs-new-york-yankees/
LOCATION:Yankee Stadium
CATEGORIES:Alumni,Community Member,Current Student,Faculty,Graduate Student,Social Events,Undergraduate Student
END:VEVENT
BEGIN:VEVENT
DTSTART;TZID=America/New_York:20220820T130000
DTEND;TZID=America/New_York:20220820T130000
DTSTAMP:20260422T031922
CREATED:20220630T180048Z
LAST-MODIFIED:20220802T124204Z
UID:40810111400-1661000400-1661000400@www.monmouth.edu
SUMMARY:Monmouth Alumni Day at Yankee Stadium
DESCRIPTION:Join your fellow Hawks at Yankee Stadium as the first-place Bronx Bombers take on the Toronto Blue Jays.  \nThis game is sold out! Due to the popularity\, we’ve added another Monmouth Alumni Day at Yankee Stadium for 9/24!
URL:https://www.monmouth.edu/events/event/monmouth-alumni-day-at-yankee-stadium/
LOCATION:Yankee Stadium
CATEGORIES:Alumni,Alumni Events
END:VEVENT
END:VCALENDAR