BEGIN:VCALENDAR
VERSION:2.0
PRODID:-//Events - ECPv6.15.20//NONSGML v1.0//EN
CALSCALE:GREGORIAN
METHOD:PUBLISH
X-WR-CALNAME:Events
X-ORIGINAL-URL:https://www.monmouth.edu/events
X-WR-CALDESC:Events for Events
REFRESH-INTERVAL;VALUE=DURATION:PT1H
X-Robots-Tag:noindex
X-PUBLISHED-TTL:PT1H
BEGIN:VTIMEZONE
TZID:America/New_York
BEGIN:DAYLIGHT
TZOFFSETFROM:-0500
TZOFFSETTO:-0400
TZNAME:EDT
DTSTART:20230312T070000
END:DAYLIGHT
BEGIN:STANDARD
TZOFFSETFROM:-0400
TZOFFSETTO:-0500
TZNAME:EST
DTSTART:20231105T060000
END:STANDARD
BEGIN:DAYLIGHT
TZOFFSETFROM:-0500
TZOFFSETTO:-0400
TZNAME:EDT
DTSTART:20240310T070000
END:DAYLIGHT
BEGIN:STANDARD
TZOFFSETFROM:-0400
TZOFFSETTO:-0500
TZNAME:EST
DTSTART:20241103T060000
END:STANDARD
BEGIN:DAYLIGHT
TZOFFSETFROM:-0500
TZOFFSETTO:-0400
TZNAME:EDT
DTSTART:20250309T070000
END:DAYLIGHT
BEGIN:STANDARD
TZOFFSETFROM:-0400
TZOFFSETTO:-0500
TZNAME:EST
DTSTART:20251102T060000
END:STANDARD
END:VTIMEZONE
BEGIN:VEVENT
DTSTART;TZID=America/New_York:20240911T090000
DTEND;TZID=America/New_York:20240911T170000
DTSTAMP:20260422T181634
CREATED:20240830T134409Z
LAST-MODIFIED:20240830T134409Z
UID:40810113059-1726045200-1726074000@www.monmouth.edu
SUMMARY:Poster Sale
DESCRIPTION:Rain Location: Anacon Hall
URL:https://www.monmouth.edu/events/event/poster-sale-3/
LOCATION:Student Center Patio
END:VEVENT
BEGIN:VEVENT
DTSTART;TZID=America/New_York:20240910T090000
DTEND;TZID=America/New_York:20240910T170000
DTSTAMP:20260422T181634
CREATED:20240830T134409Z
LAST-MODIFIED:20240830T134409Z
UID:40810113050-1725958800-1725987600@www.monmouth.edu
SUMMARY:Poster Sale
DESCRIPTION:Rain Location:  Anacon Hall
URL:https://www.monmouth.edu/events/event/poster-sale-2/
LOCATION:Student Center Patio
END:VEVENT
BEGIN:VEVENT
DTSTART;TZID=America/New_York:20240909T111500
DTEND;TZID=America/New_York:20240909T131500
DTSTAMP:20260422T181634
CREATED:20240830T134409Z
LAST-MODIFIED:20240830T134409Z
UID:40810113041-1725880500-1725887700@www.monmouth.edu
SUMMARY:Pizza is Consent
DESCRIPTION:
URL:https://www.monmouth.edu/events/event/pizza-is-consent/
LOCATION:Student Center Patio
END:VEVENT
BEGIN:VEVENT
DTSTART;TZID=America/New_York:20240909T090000
DTEND;TZID=America/New_York:20240909T170000
DTSTAMP:20260422T181634
CREATED:20240830T134409Z
LAST-MODIFIED:20240830T134409Z
UID:40810113038-1725872400-1725901200@www.monmouth.edu
SUMMARY:Poster Sale
DESCRIPTION:Rain Location:  Anacon Hall
URL:https://www.monmouth.edu/events/event/poster-sale/
LOCATION:Student Center Patio
END:VEVENT
BEGIN:VEVENT
DTSTART;TZID=America/New_York:20240905T120000
DTEND;TZID=America/New_York:20240905T150000
DTSTAMP:20260422T181634
CREATED:20240830T134408Z
LAST-MODIFIED:20240830T134408Z
UID:40810113008-1725537600-1725548400@www.monmouth.edu
SUMMARY:Dec Your Dorm Novelty Event
DESCRIPTION:Rain Location:  Anacon Hall
URL:https://www.monmouth.edu/events/event/dec-your-dorm-novelty-event/
LOCATION:Student Center Patio
END:VEVENT
END:VCALENDAR