BEGIN:VCALENDAR
VERSION:2.0
PRODID:-//Events - ECPv6.15.20//NONSGML v1.0//EN
CALSCALE:GREGORIAN
METHOD:PUBLISH
X-ORIGINAL-URL:https://www.monmouth.edu/events
X-WR-CALDESC:Events for Events
REFRESH-INTERVAL;VALUE=DURATION:PT1H
X-Robots-Tag:noindex
X-PUBLISHED-TTL:PT1H
BEGIN:VTIMEZONE
TZID:America/New_York
BEGIN:DAYLIGHT
TZOFFSETFROM:-0500
TZOFFSETTO:-0400
TZNAME:EDT
DTSTART:20240310T070000
END:DAYLIGHT
BEGIN:STANDARD
TZOFFSETFROM:-0400
TZOFFSETTO:-0500
TZNAME:EST
DTSTART:20241103T060000
END:STANDARD
BEGIN:DAYLIGHT
TZOFFSETFROM:-0500
TZOFFSETTO:-0400
TZNAME:EDT
DTSTART:20250309T070000
END:DAYLIGHT
BEGIN:STANDARD
TZOFFSETFROM:-0400
TZOFFSETTO:-0500
TZNAME:EST
DTSTART:20251102T060000
END:STANDARD
BEGIN:DAYLIGHT
TZOFFSETFROM:-0500
TZOFFSETTO:-0400
TZNAME:EDT
DTSTART:20260308T070000
END:DAYLIGHT
BEGIN:STANDARD
TZOFFSETFROM:-0400
TZOFFSETTO:-0500
TZNAME:EST
DTSTART:20261101T060000
END:STANDARD
END:VTIMEZONE
BEGIN:VEVENT
DTSTART;TZID=America/New_York:20250407T120000
DTEND;TZID=America/New_York:20250407T130000
DTSTAMP:20260423T191419
CREATED:20250119T134729Z
LAST-MODIFIED:20250403T142732Z
UID:40810117929-1744027200-1744030800@www.monmouth.edu
SUMMARY:LeaderHawk - Transitions Training for Club/Org Leaders: Leading the Monmouth Way!
DESCRIPTION:Facilitator: Vaughn Clay\, Ed.D.\, Director of Student Engagement\nMonday\, April 7\, 12pm-1pm | Student Center – Room 202-B\, SC \nDescription: Transitioning into a student organization executive board position can be stressful. Attending one of the Leading the Monmouth Way programs will provide new officers with the skills to hit the ground running once they officially adopt leadership roles. Refreshments will be served. *We encourage orgs to facilitate elections for the following academic year by the week following spring break. \nDiscussion Topics to include: \n\nRegistration\nTraining\nFall Programming\nMaintaining Professional Contacts\nImportant Dates and Deadlines
URL:https://www.monmouth.edu/events/event/leaderhawk-transitions-training-for-club-org-leaders-leading-the-monmouth-way/
LOCATION:Student Center – Conference Room 202B
ATTACH;FMTTYPE=image/png:https://www.monmouth.edu/events/wp-content/uploads/sites/19/2025/01/LeaderHawk-Sessions.png
END:VEVENT
BEGIN:VEVENT
DTSTART;TZID=America/New_York:20250310T120000
DTEND;TZID=America/New_York:20250310T130000
DTSTAMP:20260423T191419
CREATED:20250119T134425Z
LAST-MODIFIED:20250119T134425Z
UID:40810117926-1741608000-1741611600@www.monmouth.edu
SUMMARY:LeaderHawk - Social Media & Brand Strategy for Clubs/Orgs
DESCRIPTION:Facilitator: Nic Burr Social Media Coordinator\, Marketing and Communication\nMonday\, March 10\, 12pm-1pm | Student Center – Room 202-B\, SC \nDescription: Discover the ins and outs of social media platforms and learn how to leverage them effectively to market your organization and events. From crafting compelling content to understanding analytics and engagement strategies\, this workshop equips you with the skills needed to amplify your organization’s presence online. Join us to unlock the potential of social media as a powerful tool for connection\, outreach\, and growth.
URL:https://www.monmouth.edu/events/event/leaderhawk-social-media-brand-strategy-for-clubs-orgs/
LOCATION:Student Center – Conference Room 202B
ATTACH;FMTTYPE=image/png:https://www.monmouth.edu/events/wp-content/uploads/sites/19/2025/01/LeaderHawk-Sessions.png
END:VEVENT
END:VCALENDAR