BEGIN:VCALENDAR
VERSION:2.0
PRODID:-//Events - ECPv6.15.20//NONSGML v1.0//EN
CALSCALE:GREGORIAN
METHOD:PUBLISH
X-ORIGINAL-URL:https://www.monmouth.edu/events
X-WR-CALDESC:Events for Events
REFRESH-INTERVAL;VALUE=DURATION:PT1H
X-Robots-Tag:noindex
X-PUBLISHED-TTL:PT1H
BEGIN:VTIMEZONE
TZID:America/New_York
BEGIN:DAYLIGHT
TZOFFSETFROM:-0500
TZOFFSETTO:-0400
TZNAME:EDT
DTSTART:20230312T070000
END:DAYLIGHT
BEGIN:STANDARD
TZOFFSETFROM:-0400
TZOFFSETTO:-0500
TZNAME:EST
DTSTART:20231105T060000
END:STANDARD
BEGIN:DAYLIGHT
TZOFFSETFROM:-0500
TZOFFSETTO:-0400
TZNAME:EDT
DTSTART:20240310T070000
END:DAYLIGHT
BEGIN:STANDARD
TZOFFSETFROM:-0400
TZOFFSETTO:-0500
TZNAME:EST
DTSTART:20241103T060000
END:STANDARD
BEGIN:DAYLIGHT
TZOFFSETFROM:-0500
TZOFFSETTO:-0400
TZNAME:EDT
DTSTART:20250309T070000
END:DAYLIGHT
BEGIN:STANDARD
TZOFFSETFROM:-0400
TZOFFSETTO:-0500
TZNAME:EST
DTSTART:20251102T060000
END:STANDARD
BEGIN:DAYLIGHT
TZOFFSETFROM:-0500
TZOFFSETTO:-0400
TZNAME:EDT
DTSTART:20260308T070000
END:DAYLIGHT
BEGIN:STANDARD
TZOFFSETFROM:-0400
TZOFFSETTO:-0500
TZNAME:EST
DTSTART:20261101T060000
END:STANDARD
END:VTIMEZONE
BEGIN:VEVENT
DTSTART;TZID=America/New_York:20250326T120000
DTEND;TZID=America/New_York:20250326T130000
DTSTAMP:20260423T062736
CREATED:20250119T134549Z
LAST-MODIFIED:20250119T134549Z
UID:40810117927-1742990400-1742994000@www.monmouth.edu
SUMMARY:LeaderHawk - Conflict Resolution for Club/Org Leaders
DESCRIPTION:Facilitator: Chris McKitrick\, Ed.D. Director of Counseling and Prevention Services\nWednesday\, March 26\, 12pm-1pm | Student Center – Room 202-A\, SC  \nDescription: Join us for an interactive workshop on conflict resolution skills tailored for your organization. In this workshop\, you’ll learn effective communication techniques\, active listening strategies\, and collaborative problem-solving approaches to navigate and resolve conflicts constructively. Gain valuable insights and practical tools to manage conflict while fostering a culture of understanding and cooperation in your organization.
URL:https://www.monmouth.edu/events/event/leaderhawk-conflict-resolution-for-club-org-leaders/
LOCATION:Student Center – Conference Room 202A
ATTACH;FMTTYPE=image/png:https://www.monmouth.edu/events/wp-content/uploads/sites/19/2025/01/LeaderHawk-Sessions.png
END:VEVENT
BEGIN:VEVENT
DTSTART;TZID=America/New_York:20250304T150000
DTEND;TZID=America/New_York:20250304T160000
DTSTAMP:20260423T062736
CREATED:20250123T141250Z
LAST-MODIFIED:20250123T141250Z
UID:40810118057-1741100400-1741104000@www.monmouth.edu
SUMMARY:Grief IRL
DESCRIPTION:From Heartache to Healing: Find Meaning in Loss
URL:https://www.monmouth.edu/events/event/grief-irl-4/
LOCATION:Student Center – Conference Room 202A
END:VEVENT
BEGIN:VEVENT
DTSTART;TZID=America/New_York:20250303T120000
DTEND;TZID=America/New_York:20250303T130000
DTSTAMP:20260423T062736
CREATED:20250119T134300Z
LAST-MODIFIED:20250119T134300Z
UID:40810117924-1741003200-1741006800@www.monmouth.edu
SUMMARY:LeaderHawk - Leadership Vision Boards for Student Leaders
DESCRIPTION:Facilitator: Lauren Pfisterer\, Area Coordinator\, Office of Residential Life\nMonday\, March 3\, 12pm-1pm | Student Center – Room 202-A\, SC \nDescription: Discover the power of visualization and strategic planning as you craft your vision for success. Through guided exercises and hands-on activities\, you’ll clarify your goals\, articulate your values\, and map out actionable steps to lead your organization to new heights!
URL:https://www.monmouth.edu/events/event/leaderhawk-leadership-vision-boards-for-student-leaders/
LOCATION:Student Center – Conference Room 202A
ATTACH;FMTTYPE=image/png:https://www.monmouth.edu/events/wp-content/uploads/sites/19/2025/01/LeaderHawk-Sessions.png
END:VEVENT
BEGIN:VEVENT
DTSTART;TZID=America/New_York:20250225T150000
DTEND;TZID=America/New_York:20250225T160000
DTSTAMP:20260423T062736
CREATED:20250123T141243Z
LAST-MODIFIED:20250123T141243Z
UID:40810118056-1740495600-1740499200@www.monmouth.edu
SUMMARY:Grief IRL
DESCRIPTION:The Many Faces of Grief: Navigating Emotions After Loss
URL:https://www.monmouth.edu/events/event/grief-irl-3/
LOCATION:Student Center – Conference Room 202A
END:VEVENT
BEGIN:VEVENT
DTSTART;TZID=America/New_York:20250224T120000
DTEND;TZID=America/New_York:20250224T130000
DTSTAMP:20260423T062736
CREATED:20250119T134136Z
LAST-MODIFIED:20250119T134136Z
UID:40810117922-1740398400-1740402000@www.monmouth.edu
SUMMARY:LeaderHawk - Navigating Imposter Syndrome in Student Leadership
DESCRIPTION:Facilitators:  Chris McKittrick\, Ed.D.\, Director Counseling and Prevention Services & Tanner Purdy\, 2024-2025 SGA President\nMonday\, February 24\, 12-1 pm | Student Center – Room 202-A\, SC \nDescription:  This session will explore strategies to overcome imposter syndrome and thrive as a student leader in this empowering program.  Build confidence\, embrace your strengths\, and learn tools to lead with authenticity and resilience.
URL:https://www.monmouth.edu/events/event/leaderhawk-navigating-imposter-syndrome-in-student-leadership/
LOCATION:Student Center – Conference Room 202A
ATTACH;FMTTYPE=image/png:https://www.monmouth.edu/events/wp-content/uploads/sites/19/2025/01/LeaderHawk-Sessions.png
END:VEVENT
BEGIN:VEVENT
DTSTART;TZID=America/New_York:20250218T150000
DTEND;TZID=America/New_York:20250218T160000
DTSTAMP:20260423T062736
CREATED:20250123T141238Z
LAST-MODIFIED:20250123T141238Z
UID:40810118054-1739890800-1739894400@www.monmouth.edu
SUMMARY:Grief IRL
DESCRIPTION:Beyond the Tears: Healthy Ways to Cope with Grief
URL:https://www.monmouth.edu/events/event/grief-irl-2/
LOCATION:Student Center – Conference Room 202A
END:VEVENT
BEGIN:VEVENT
DTSTART;TZID=America/New_York:20250218T120000
DTEND;TZID=America/New_York:20250218T120000
DTSTAMP:20260423T062736
CREATED:20250119T133824Z
LAST-MODIFIED:20250204T174850Z
UID:40810117919-1739880000-1739880000@www.monmouth.edu
SUMMARY:LeaderHawk - Crowdfunding/Fundraising for Clubs/Orgs Refresher
DESCRIPTION:Facilitators: Emily Blaser\, Digital Giving Officer\, Alumni Engagement and Annual Giving & Vaughn Clay\, Ed.D.\, Director of Student Engagement\nTuesday\, February 18\, 12pm-1pm | Student Center – Room 202-A\, SC \nDescription: Learn the art of crowdfunding and fundraising in this interactive program designed for college students.  Gain practical skills\, explore effective strategies\, and discover how to turn your ideas into successful campaigns to achieve the goals you have for your club or organization!
URL:https://www.monmouth.edu/events/event/leaderhawk-crowdfunding-fundraising-for-clubs-orgs-refresher/
LOCATION:Student Center – Conference Room 202A
ATTACH;FMTTYPE=image/png:https://www.monmouth.edu/events/wp-content/uploads/sites/19/2025/01/LeaderHawk-Sessions.png
END:VEVENT
BEGIN:VEVENT
DTSTART;TZID=America/New_York:20250211T150000
DTEND;TZID=America/New_York:20250211T160000
DTSTAMP:20260423T062736
CREATED:20250123T141225Z
LAST-MODIFIED:20250123T141225Z
UID:40810118051-1739286000-1739289600@www.monmouth.edu
SUMMARY:Grief IRL
DESCRIPTION:Grief 101: Understanding Loss and the Healing Process
URL:https://www.monmouth.edu/events/event/grief-irl/
LOCATION:Student Center – Conference Room 202A
END:VEVENT
BEGIN:VEVENT
DTSTART;TZID=America/New_York:20250211T120000
DTEND;TZID=America/New_York:20250211T130000
DTSTAMP:20260423T062736
CREATED:20250119T133700Z
LAST-MODIFIED:20250119T133700Z
UID:40810117916-1739275200-1739278800@www.monmouth.edu
SUMMARY:LeaderHawk - Travel Planning for Clubs/Orgs Refresher
DESCRIPTION:Facilitator: Amy Bellina\, Director of Student Life for Logistics and Student Center Operations\nTuesday\, February 11\, 12pm-1pm | Student Center – Room 202-A\, SC \n\nDescription: If your student organization is planning to take any trips or participate in travel this semester\, your attendance is required at this workshop! We will discuss important policies and procedures\, emergency procedures\, how to work with transportation companies (bus\, car\, etc.)\, and how to satisfy all travel requirements. We will be available to answer any questions and provide information to improve the quality of your experience.
URL:https://www.monmouth.edu/events/event/leaderhawk-travel-planning-for-clubs-orgs-refresher/
LOCATION:Student Center – Conference Room 202A
ATTACH;FMTTYPE=image/png:https://www.monmouth.edu/events/wp-content/uploads/sites/19/2025/01/LeaderHawk-Sessions.png
END:VEVENT
BEGIN:VEVENT
DTSTART;TZID=America/New_York:20241119T153000
DTEND;TZID=America/New_York:20241119T173000
DTSTAMP:20260423T062736
CREATED:20241114T194023Z
LAST-MODIFIED:20241114T194023Z
UID:40810115835-1732030200-1732037400@www.monmouth.edu
SUMMARY:NCNW Presents: Vision Boards!
DESCRIPTION:This event will allow students to join the NCNW members and create vision boards for the year 2025. Students will have an opportunity to share their visions with the group and connect. There will also be free pizza.  *Materials will be provided*
URL:https://www.monmouth.edu/events/event/ncnw-presents-vision-boards/
LOCATION:Student Center – Conference Room 202A
CATEGORIES:Diversity and Inclusion,Social Events,Student Activities
ATTACH;FMTTYPE=image/png:https://www.monmouth.edu/events/wp-content/uploads/sites/19/2024/11/Vision-Board-24-25.png
ORGANIZER;CN="National Council of Negro Women (NCNW)":MAILTO:s1319769@monmouth.edu
END:VEVENT
BEGIN:VEVENT
DTSTART;TZID=America/New_York:20241023T150000
DTEND;TZID=America/New_York:20241023T160000
DTSTAMP:20260423T062736
CREATED:20241014T153727Z
LAST-MODIFIED:20241017T142051Z
UID:40810115036-1729695600-1729699200@www.monmouth.edu
SUMMARY:Monmouth Golf Interest Group (Second Meeting)
DESCRIPTION:This event will be to determine who is interested in joining a potential golf club. This meeting will take place in Conference Room 202A of the Rebecca Stafford Student Center.
URL:https://www.monmouth.edu/events/event/monmouth-golf-interest-group-second-meeting/
LOCATION:Student Center – Conference Room 202A
CATEGORIES:Current Student,Student Activities
ATTACH;FMTTYPE=application/pdf:https://www.monmouth.edu/events/wp-content/uploads/sites/19/2024/10/monmouth-golf-interest-group-flyers-options-dragged-2-1.pdf
END:VEVENT
END:VCALENDAR