BEGIN:VCALENDAR
VERSION:2.0
PRODID:-//Events - ECPv6.15.20//NONSGML v1.0//EN
CALSCALE:GREGORIAN
METHOD:PUBLISH
X-ORIGINAL-URL:https://www.monmouth.edu/events
X-WR-CALDESC:Events for Events
REFRESH-INTERVAL;VALUE=DURATION:PT1H
X-Robots-Tag:noindex
X-PUBLISHED-TTL:PT1H
BEGIN:VTIMEZONE
TZID:America/New_York
BEGIN:DAYLIGHT
TZOFFSETFROM:-0500
TZOFFSETTO:-0400
TZNAME:EDT
DTSTART:20220313T070000
END:DAYLIGHT
BEGIN:STANDARD
TZOFFSETFROM:-0400
TZOFFSETTO:-0500
TZNAME:EST
DTSTART:20221106T060000
END:STANDARD
BEGIN:DAYLIGHT
TZOFFSETFROM:-0500
TZOFFSETTO:-0400
TZNAME:EDT
DTSTART:20230312T070000
END:DAYLIGHT
BEGIN:STANDARD
TZOFFSETFROM:-0400
TZOFFSETTO:-0500
TZNAME:EST
DTSTART:20231105T060000
END:STANDARD
BEGIN:DAYLIGHT
TZOFFSETFROM:-0500
TZOFFSETTO:-0400
TZNAME:EDT
DTSTART:20240310T070000
END:DAYLIGHT
BEGIN:STANDARD
TZOFFSETFROM:-0400
TZOFFSETTO:-0500
TZNAME:EST
DTSTART:20241103T060000
END:STANDARD
BEGIN:DAYLIGHT
TZOFFSETFROM:-0500
TZOFFSETTO:-0400
TZNAME:EDT
DTSTART:20250309T070000
END:DAYLIGHT
BEGIN:STANDARD
TZOFFSETFROM:-0400
TZOFFSETTO:-0500
TZNAME:EST
DTSTART:20251102T060000
END:STANDARD
BEGIN:DAYLIGHT
TZOFFSETFROM:-0500
TZOFFSETTO:-0400
TZNAME:EDT
DTSTART:20260308T070000
END:DAYLIGHT
BEGIN:STANDARD
TZOFFSETFROM:-0400
TZOFFSETTO:-0500
TZNAME:EST
DTSTART:20261101T060000
END:STANDARD
BEGIN:DAYLIGHT
TZOFFSETFROM:-0500
TZOFFSETTO:-0400
TZNAME:EDT
DTSTART:20270314T070000
END:DAYLIGHT
BEGIN:STANDARD
TZOFFSETFROM:-0400
TZOFFSETTO:-0500
TZNAME:EST
DTSTART:20271107T060000
END:STANDARD
END:VTIMEZONE
BEGIN:VEVENT
DTSTART;TZID=America/New_York:20260311T163000
DTEND;TZID=America/New_York:20260311T173000
DTSTAMP:20260421T202320
CREATED:20260122T205200Z
LAST-MODIFIED:20260122T205200Z
UID:40810120999-1773246600-1773250200@www.monmouth.edu
SUMMARY:Artist Talk: Jake Yuzna
DESCRIPTION:Jake Yuzna (Filmmaker and Monmouth University Assistant Professor)\nArtist Talk\nMarch 11\, 2026\, 4:30pm – 5:30pm\nPozycki Hall\, Lecture Hall 115\n\nJoin us as we welcome the Department of Communication’s newest faculty member to campus\, Assistant Professor Jake Yuzna\, who will share an artist talk and selects from their creative practice. Yuzna is a filmmaker\, artist\, and curator whose work often explores evolving identities\, subculture\, and genre. Their films have been presented at the Cannes Film Festival\, Berlin Film Festival\, London Film Festival\, New Museum of Contemporary Art\, Walker Art Center\, and the British Film Institute\, among others. In addition\, their work has been distributed by NetFlix\, Hulu\, PBS\, and Arté Television\, among others. Yuzna is the first American feature director to win the Teddy Jury Prize at the Berlin Film Festival and has received additional grants and awards from the Guggenheim Foundation\, National Endowment for the Arts\, Creative Capital Foundation\, Frameline Foundation\, McKnight Foundation\, IFP MN\, FilmNorth\, as well as a Richard P. Rogers Spirit of Excellence Award in Directing from the American Film Institute. Yuzna has also curated projects and exhibitions for the Walker Art Center\, Performa: The NYC Biennial of Performance Art\, the Moscow Biennial of Contemporary Art\, the City of Los Angeles\, and SCCA-Center for Contemporary Art–Ljubljana. Their scholarship has been collected by Yale and New York Universities and they have been a contributor to Artforum Magazine since 2020.\n \nIf you have any questions\, feel free to contact ArtNOW’s chair\, Prof. Dickie Cox.
URL:https://www.monmouth.edu/events/event/artist-talk-jake-yuzna/
LOCATION:Pozycki Lecture Hall
CATEGORIES:Alumni,Alumni Affairs,Alumni Events,Arts at Monmouth,Community Member,Free,Lectures,Lectures/Workshops/Symposiums,School of Humanities and Social Sciences,Virtual,Workshops and Professional Development
END:VEVENT
BEGIN:VEVENT
DTSTART;TZID=America/New_York:20250328T180000
DTEND;TZID=America/New_York:20250328T210000
DTSTAMP:20260421T202320
CREATED:20250310T194757Z
LAST-MODIFIED:20250328T145315Z
UID:40810119005-1743184800-1743195600@www.monmouth.edu
SUMMARY:Revival Night
DESCRIPTION:Live music! Guest speakers! Food! Student Testimonies and Baptisms! All are welcome\, you can belong before you believe!
URL:https://www.monmouth.edu/events/event/revival-night/
LOCATION:Pozycki Lecture Hall
CATEGORIES:Free,Social Events,Special Events,Student Activities
END:VEVENT
BEGIN:VEVENT
DTSTART;TZID=America/New_York:20240411T183000
DTEND;TZID=America/New_York:20240411T200000
DTSTAMP:20260421T202320
CREATED:20240403T145401Z
LAST-MODIFIED:20240410T135421Z
UID:40810112393-1712860200-1712865600@www.monmouth.edu
SUMMARY:Daniel Alarcon of NPR's Radio Ambulante podcast - Stories Everywhere: Listening to Latin America
DESCRIPTION:Please join us for a special evening with award-winning journalist\, writer\, professor and podcast host and producer\, Daniel Alarcón! Daniel has found great success as a writer of fiction\, a journalist for outlets such as El País\, Harper’s Magazine\, and The New York Times\, and co-founder and executive producer of NPR’s podcast “Radio Ambulante”. \nDaniel will share with us his journey as a journalist and the story of “Radio Ambulante” and its important representation of Latin American cultures and experiences. \nYou do not need to speak Spanish to attend and follow the presentation. We will have food and refreshments\, so please come on over! We will have a sign-in sheet for students. \nThis event celebrates the launch of monmouth.edu/latinxconnect\, supported by a Diversity Innovation Grant.
URL:https://www.monmouth.edu/events/event/daniel-alarcon-of-nprs-radio-ambulante-podcast-stories-everywhere-listening-to-latin-america/
LOCATION:Pozycki Lecture Hall
CATEGORIES:Alumni,Current Student,Diversity and Inclusion,Intercultural Center Events,LatinXConnect,Lectures,Lectures/Workshops/Symposiums
ATTACH;FMTTYPE=image/jpeg:https://www.monmouth.edu/events/wp-content/uploads/sites/19/2024/04/Daniel-Alarcon1.jpg
ORGANIZER;CN="Julia Riordan-Goncalves":MAILTO:jriordan@monmouth.edu
END:VEVENT
BEGIN:VEVENT
DTSTART;TZID=America/New_York:20230601T153000
DTEND;TZID=America/New_York:20230601T180000
DTSTAMP:20260421T202320
CREATED:20230518T132220Z
LAST-MODIFIED:20230518T132220Z
UID:40810111982-1685633400-1685642400@www.monmouth.edu
SUMMARY:Women in Leadership
DESCRIPTION:Monmouth University and NJASA present “Women in Leadership – Being Courageous” \nThe afternoon includes a Keynote Conversation featuring Ginny Veras\, a retired senior audit partner. Following the conversation\, we have a unique panel of Women Leaders from finance\, P-12 education\, and higher education. The event will end with networking and refreshments. \nWalk ins are welcome. \nRegistration/Check in 3:30 p.m.–4 p.m.\nEvent 4 p.m.–6 p.m.\nNetworking 6 p.m. \nIf you are not a member of NJASA\, you will have to create an account to register.
URL:https://www.monmouth.edu/events/event/women-in-leadership/
LOCATION:Pozycki Lecture Hall
CATEGORIES:Alumni,Current Student,Faculty,Lectures,Lectures/Workshops/Symposiums,School of Education,Workshops and Professional Development
END:VEVENT
END:VCALENDAR