BEGIN:VCALENDAR
VERSION:2.0
PRODID:-//Events - ECPv6.15.20//NONSGML v1.0//EN
CALSCALE:GREGORIAN
METHOD:PUBLISH
X-ORIGINAL-URL:https://www.monmouth.edu/events
X-WR-CALDESC:Events for Events
REFRESH-INTERVAL;VALUE=DURATION:PT1H
X-Robots-Tag:noindex
X-PUBLISHED-TTL:PT1H
BEGIN:VTIMEZONE
TZID:America/New_York
BEGIN:DAYLIGHT
TZOFFSETFROM:-0500
TZOFFSETTO:-0400
TZNAME:EDT
DTSTART:20140309T070000
END:DAYLIGHT
BEGIN:STANDARD
TZOFFSETFROM:-0400
TZOFFSETTO:-0500
TZNAME:EST
DTSTART:20141102T060000
END:STANDARD
BEGIN:DAYLIGHT
TZOFFSETFROM:-0500
TZOFFSETTO:-0400
TZNAME:EDT
DTSTART:20150308T070000
END:DAYLIGHT
BEGIN:STANDARD
TZOFFSETFROM:-0400
TZOFFSETTO:-0500
TZNAME:EST
DTSTART:20151101T060000
END:STANDARD
BEGIN:DAYLIGHT
TZOFFSETFROM:-0500
TZOFFSETTO:-0400
TZNAME:EDT
DTSTART:20160313T070000
END:DAYLIGHT
BEGIN:STANDARD
TZOFFSETFROM:-0400
TZOFFSETTO:-0500
TZNAME:EST
DTSTART:20161106T060000
END:STANDARD
BEGIN:DAYLIGHT
TZOFFSETFROM:-0500
TZOFFSETTO:-0400
TZNAME:EDT
DTSTART:20170312T070000
END:DAYLIGHT
BEGIN:STANDARD
TZOFFSETFROM:-0400
TZOFFSETTO:-0500
TZNAME:EST
DTSTART:20171105T060000
END:STANDARD
BEGIN:DAYLIGHT
TZOFFSETFROM:-0500
TZOFFSETTO:-0400
TZNAME:EDT
DTSTART:20180311T070000
END:DAYLIGHT
BEGIN:STANDARD
TZOFFSETFROM:-0400
TZOFFSETTO:-0500
TZNAME:EST
DTSTART:20181104T060000
END:STANDARD
BEGIN:DAYLIGHT
TZOFFSETFROM:-0500
TZOFFSETTO:-0400
TZNAME:EDT
DTSTART:20190310T070000
END:DAYLIGHT
BEGIN:STANDARD
TZOFFSETFROM:-0400
TZOFFSETTO:-0500
TZNAME:EST
DTSTART:20191103T060000
END:STANDARD
BEGIN:DAYLIGHT
TZOFFSETFROM:-0500
TZOFFSETTO:-0400
TZNAME:EDT
DTSTART:20200308T070000
END:DAYLIGHT
BEGIN:STANDARD
TZOFFSETFROM:-0400
TZOFFSETTO:-0500
TZNAME:EST
DTSTART:20201101T060000
END:STANDARD
BEGIN:DAYLIGHT
TZOFFSETFROM:-0500
TZOFFSETTO:-0400
TZNAME:EDT
DTSTART:20210314T070000
END:DAYLIGHT
BEGIN:STANDARD
TZOFFSETFROM:-0400
TZOFFSETTO:-0500
TZNAME:EST
DTSTART:20211107T060000
END:STANDARD
BEGIN:DAYLIGHT
TZOFFSETFROM:-0500
TZOFFSETTO:-0400
TZNAME:EDT
DTSTART:20220313T070000
END:DAYLIGHT
BEGIN:STANDARD
TZOFFSETFROM:-0400
TZOFFSETTO:-0500
TZNAME:EST
DTSTART:20221106T060000
END:STANDARD
BEGIN:DAYLIGHT
TZOFFSETFROM:-0500
TZOFFSETTO:-0400
TZNAME:EDT
DTSTART:20230312T070000
END:DAYLIGHT
BEGIN:STANDARD
TZOFFSETFROM:-0400
TZOFFSETTO:-0500
TZNAME:EST
DTSTART:20231105T060000
END:STANDARD
BEGIN:DAYLIGHT
TZOFFSETFROM:-0500
TZOFFSETTO:-0400
TZNAME:EDT
DTSTART:20240310T070000
END:DAYLIGHT
BEGIN:STANDARD
TZOFFSETFROM:-0400
TZOFFSETTO:-0500
TZNAME:EST
DTSTART:20241103T060000
END:STANDARD
BEGIN:DAYLIGHT
TZOFFSETFROM:-0500
TZOFFSETTO:-0400
TZNAME:EDT
DTSTART:20250309T070000
END:DAYLIGHT
BEGIN:STANDARD
TZOFFSETFROM:-0400
TZOFFSETTO:-0500
TZNAME:EST
DTSTART:20251102T060000
END:STANDARD
END:VTIMEZONE
BEGIN:VEVENT
DTSTART;TZID=America/New_York:20240926T160000
DTEND;TZID=America/New_York:20240926T190000
DTSTAMP:20260421T010637
CREATED:20240920T115855Z
LAST-MODIFIED:20240920T115855Z
UID:40810114299-1727366400-1727377200@www.monmouth.edu
SUMMARY:Senior Class S'mores
DESCRIPTION:Come join the Senior Class Offices in front of Pozycki Hall at Torcivia Commons and make your own S’mores.
URL:https://www.monmouth.edu/events/event/senior-class-smores/
LOCATION:Pozycki Hall
END:VEVENT
BEGIN:VEVENT
DTSTART;TZID=America/New_York:20240925T161500
DTEND;TZID=America/New_York:20240925T181500
DTSTAMP:20260421T010637
CREATED:20240920T122438Z
LAST-MODIFIED:20240920T122438Z
UID:40810114302-1727280900-1727288100@www.monmouth.edu
SUMMARY:Monmouth Untold Panel
DESCRIPTION:“The Monmouth Untold Project\, led by the Student Government Association\, is a campus-wide initiative focused on breaking mental and emotional health stigmas. Through student-led panels\, we provide a platform for individuals to share their personal struggles\, triumphs\, and stories\, helping to challenge stereotypes and foster empathy. Our goal is to create a supportive environment where open dialogue can lead to greater understanding and a stronger\, more inclusive campus community.” \nLocation:  Pozycki Hall 115
URL:https://www.monmouth.edu/events/event/monmouth-untold-panel/
LOCATION:Pozycki Hall
ATTACH;FMTTYPE=image/png:https://www.monmouth.edu/events/wp-content/uploads/sites/19/2024/09/Monmouth-Untold-Poster-1.png
END:VEVENT
BEGIN:VEVENT
DTSTART;TZID=America/New_York:20240918T110000
DTEND;TZID=America/New_York:20240918T140000
DTSTAMP:20260421T010637
CREATED:20240916T133903Z
LAST-MODIFIED:20240916T133931Z
UID:40810113983-1726657200-1726668000@www.monmouth.edu
SUMMARY:Study Abroad Fair
DESCRIPTION:Come learn more about your options to Study Abroad at Monmouth!
URL:https://www.monmouth.edu/events/event/study-abroad-fair-2/
LOCATION:Student Center Patio
ATTACH;FMTTYPE=image/png:https://www.monmouth.edu/events/wp-content/uploads/sites/19/2024/09/Study-Abroad-Fair-Today-2024-.png
ORGANIZER;CN="Global Education Office":MAILTO:geo@monmouth.edu
END:VEVENT
BEGIN:VEVENT
DTSTART;TZID=America/New_York:20240902T130000
DTEND;TZID=America/New_York:20240902T150000
DTSTAMP:20260421T010637
CREATED:20240830T134407Z
LAST-MODIFIED:20240830T143326Z
UID:40810112957-1725282000-1725289200@www.monmouth.edu
SUMMARY:SOTA (Student Occupational Therapy Association) Club Session
DESCRIPTION:
URL:https://www.monmouth.edu/events/event/sota-student-occupational-therapy-association-club-session/
LOCATION:Pozycki Hall
END:VEVENT
BEGIN:VEVENT
DTSTART;TZID=America/New_York:20181009T160000
DTEND;TZID=America/New_York:20181009T180000
DTSTAMP:20260421T010637
CREATED:20181002T193806Z
LAST-MODIFIED:20181008T203018Z
UID:40810104410-1539100800-1539108000@www.monmouth.edu
SUMMARY:Love Wins Documentary Screening
DESCRIPTION:Public screening of “Love Wins\,” a documentary about two women\, Jan and Emily\, who fell in love and raised a family together but were not able to get married until they were in their 80s. Jan and Emily\, the filmmaker\, and Garden State Equality\, will participate in a panel discussion after the film. This event celebrates the 5th anniversary of the passage of the Marriage Equality Bill in NJ.
URL:https://www.monmouth.edu/events/event/love-wins-documentary-screening/
LOCATION:Pozycki Hall
CATEGORIES:Current Student
ATTACH;FMTTYPE=image/jpeg:https://www.monmouth.edu/events/wp-content/uploads/sites/19/2018/10/LOVE-WINS-MOVIE-POSTER.jpg
END:VEVENT
BEGIN:VEVENT
DTSTART;TZID=America/New_York:20171025T153000
DTEND;TZID=America/New_York:20171025T170000
DTSTAMP:20260421T010637
CREATED:20180725T203301Z
LAST-MODIFIED:20190304T163245Z
UID:40810100960-1508945400-1508950800@www.monmouth.edu
SUMMARY:Rook Coffee Co-Founder Holly Migliaccio: A Presentation and Discussion on Customer Service
DESCRIPTION:
URL:https://www.monmouth.edu/events/event/rook-coffee-co-founder-holly-migliaccio-a-presentation-and-discussion-on-customer-service/
LOCATION:Pozycki Hall
CATEGORIES:Current Student,Faculty,Leon Hess Business School,MBA Event
ATTACH;FMTTYPE=image/png:https://www.monmouth.edu/events/wp-content/uploads/sites/19/2018/07/Fall2017CustomerServiceEvent-StudentEmployment.png
END:VEVENT
BEGIN:VEVENT
DTSTART;TZID=America/New_York:20170615T150000
DTEND;TZID=America/New_York:20170615T160000
DTSTAMP:20260421T010637
CREATED:20180725T203456Z
LAST-MODIFIED:20190304T163445Z
UID:40810101092-1497538800-1497542400@www.monmouth.edu
SUMMARY:Customer Service Panel Discussion: Learn Best Practices from Four Professionals in Different Fields
DESCRIPTION:
URL:https://www.monmouth.edu/events/event/customer-service-panel-discussion-learn-best-practices-from-four-professionals-in-different-fields/
LOCATION:Pozycki Hall
CATEGORIES:Alumni,Community Member,Current Student,Faculty,Workshops and Professional Development
ATTACH;FMTTYPE=image/png:https://www.monmouth.edu/events/wp-content/uploads/sites/19/2018/07/CustomerServicePanel2017.png
END:VEVENT
BEGIN:VEVENT
DTSTART;TZID=America/New_York:20170606T090000
DTEND;TZID=America/New_York:20170606T150000
DTSTAMP:20260421T010637
CREATED:20180725T203739Z
LAST-MODIFIED:20190304T163600Z
UID:40810101320-1496739600-1496761200@www.monmouth.edu
SUMMARY:Improving Communication Regarding End-of-Life Decisions
DESCRIPTION:This workshop is designed to provide health care professionals with a better understanding of the complex decision making process that is involved in the planning of end-of-life care. The instructors will explore and review end-of life care choices such as hospice\, palliative care and advanced directives. The patients’ perspective will be presented\, highlighting research on “The inner life at the end of life\,” life reviews and attitudes toward death. Participants will engage in a simulated medical decision process and analyze different types of advanced directives. The goal will be to facilitate patient centered care and shared decision making through effective communication and planning. \nCOURSE OBJECTIVES: \n\nExamine the complexities surrounding end-of-life care including different levels of care\, types of proxy and advanced directives.\nDiscuss ethical issues faced by healthcare professionals in providing care during the dying process.\nReview challenges faced by families and caregivers as they honor patient wishes in end of life decisions.\nEvaluate strategies to maximize patient autonomy.\nFacilitating communication about end-of-life decisions.\n\nFee: $98/$20 for current MU Nursing and Health Studies Students (a light lunch is included in the program fee) \nThis program will provide 5 contact hours for Nurses. \nFor more information\, contact Barbara Paskewich\, MSN\,RN\, MA\, CHES\, Director of Professional Development and Special Projects\, at 732-571-3694 or bpaskewi@monmouth.edu.
URL:https://www.monmouth.edu/events/event/improving-communication-regarding-end-of-life-decisions/
LOCATION:Pozycki Hall
CATEGORIES:Alumni,Community Member,Current Student,School of Nursing and Health Studies
ATTACH;FMTTYPE=image/png:https://www.monmouth.edu/events/wp-content/uploads/sites/19/2018/07/EndOfLife.png
END:VEVENT
BEGIN:VEVENT
DTSTART;VALUE=DATE:20160410
DTEND;VALUE=DATE:20160417
DTSTAMP:20260421T010637
CREATED:20180725T204045Z
LAST-MODIFIED:20190304T163706Z
UID:40810101911-1460246400-1460851199@www.monmouth.edu
SUMMARY:National Student Employment Appreciation Week
DESCRIPTION:Monmouth University Celebrates National Student Employment Week – April 10 – 16\, 2016 \nIn celebration of National Student Employment Week\, the Student Employment Office will sponsor a number of events celebrating the 20th Annual Student Employee Appreciation Week! \nSCHEDULE OF EVENTS\nTuesday\, April 12 – 3rd Annual “Bake Off” – Pozycki Hall Upstairs Patio\nWednesday \, April 13 – Student Employee Appreciation Day – Student Center\nThursday\, April 14 – “Deck Your Door Contest” Winner Announced\nFriday\, April 15 – Student Employee of the Year Reception – Wilson Hall
URL:https://www.monmouth.edu/events/event/national-student-employment-appreciation-week/
LOCATION:Pozycki Hall
CATEGORIES:Current Student,Faculty
ATTACH;FMTTYPE=image/jpeg:https://www.monmouth.edu/events/wp-content/uploads/sites/19/2018/07/SEAW-combo.jpg
END:VEVENT
BEGIN:VEVENT
DTSTART;TZID=America/New_York:20151024T110000
DTEND;TZID=America/New_York:20151024T130000
DTSTAMP:20260421T010637
CREATED:20180725T204125Z
LAST-MODIFIED:20190304T163852Z
UID:40810102034-1445684400-1445691600@www.monmouth.edu
SUMMARY:MBA Homecoming Barbecue
DESCRIPTION:Attendance by Invitation Only\n“We Bleed Blue”\nMBA Homecoming Barbecue\nTwo-hour barbecue event held on the terrace outside Pozycki Hall as part of the University’s homecoming weekend events. In the event of rain\, the BBQ will be held inside. Upon request\, attendees are offered free tickets to the football game.\nAttendance at this event is by invitation only and not open to the general public.\nSaturday\, October 24\, 2015\n11 a.m. to 1 p.m.\nPozycki Hall\, Leon Hess Business School\nSponsored by: Leon Hess Business School\, LHBS Business Council & MBA Program\nFOR MORE INFORMATION\nnkelly@monmouth.edu\n732-571-3434
URL:https://www.monmouth.edu/events/event/mba-homecoming-barbecue/
LOCATION:Pozycki Hall
CATEGORIES:Alumni,Alumni Affairs,Current Student,Faculty,Leon Hess Business School
ATTACH;FMTTYPE=image/jpeg:https://www.monmouth.edu/events/wp-content/uploads/sites/19/2018/07/MBAHomecomingBBQDisplay.jpg
END:VEVENT
END:VCALENDAR