BEGIN:VCALENDAR
VERSION:2.0
PRODID:-//Events - ECPv6.15.20//NONSGML v1.0//EN
CALSCALE:GREGORIAN
METHOD:PUBLISH
X-ORIGINAL-URL:https://www.monmouth.edu/events
X-WR-CALDESC:Events for Events
REFRESH-INTERVAL;VALUE=DURATION:PT1H
X-Robots-Tag:noindex
X-PUBLISHED-TTL:PT1H
BEGIN:VTIMEZONE
TZID:America/New_York
BEGIN:DAYLIGHT
TZOFFSETFROM:-0500
TZOFFSETTO:-0400
TZNAME:EDT
DTSTART:20140309T070000
END:DAYLIGHT
BEGIN:STANDARD
TZOFFSETFROM:-0400
TZOFFSETTO:-0500
TZNAME:EST
DTSTART:20141102T060000
END:STANDARD
BEGIN:DAYLIGHT
TZOFFSETFROM:-0500
TZOFFSETTO:-0400
TZNAME:EDT
DTSTART:20150308T070000
END:DAYLIGHT
BEGIN:STANDARD
TZOFFSETFROM:-0400
TZOFFSETTO:-0500
TZNAME:EST
DTSTART:20151101T060000
END:STANDARD
BEGIN:DAYLIGHT
TZOFFSETFROM:-0500
TZOFFSETTO:-0400
TZNAME:EDT
DTSTART:20160313T070000
END:DAYLIGHT
BEGIN:STANDARD
TZOFFSETFROM:-0400
TZOFFSETTO:-0500
TZNAME:EST
DTSTART:20161106T060000
END:STANDARD
BEGIN:DAYLIGHT
TZOFFSETFROM:-0500
TZOFFSETTO:-0400
TZNAME:EDT
DTSTART:20170312T070000
END:DAYLIGHT
BEGIN:STANDARD
TZOFFSETFROM:-0400
TZOFFSETTO:-0500
TZNAME:EST
DTSTART:20171105T060000
END:STANDARD
BEGIN:DAYLIGHT
TZOFFSETFROM:-0500
TZOFFSETTO:-0400
TZNAME:EDT
DTSTART:20180311T070000
END:DAYLIGHT
BEGIN:STANDARD
TZOFFSETFROM:-0400
TZOFFSETTO:-0500
TZNAME:EST
DTSTART:20181104T060000
END:STANDARD
END:VTIMEZONE
BEGIN:VEVENT
DTSTART;TZID=America/New_York:20171129T163000
DTEND;TZID=America/New_York:20171129T200000
DTSTAMP:20260422T022042
CREATED:20180725T203252Z
LAST-MODIFIED:20190304T150853Z
UID:40810100951-1511973000-1511985600@www.monmouth.edu
SUMMARY:TechLaunch BullPen #6
DESCRIPTION:You are invited to join us at Monmouth University for TechLaunch Bullpen #6 on Wednesday November 29th beginning at 4:30 p.m. in Pozycki Auditorium here at Monmouth University where three tech startup companies along with one lucky student tech startup from Monmouth University will pitch their business plans to a panel of investors. Come and Participate as a member of the audience and see how tech startups defend their concept and win the interest of angel investors. Audience members will vote! \nMonmouth University’s Representative Startup\nRetrender—Eric Alves and Shravan Parvathaneni \nEvent Registration\nRegister on Eventbrite to let us know you are planning to attend. \nStudents: You can also register for LHBS PPD points via the MBA events page (please make sure to register in both the Eventbrite at the link above; and LHBS PPD system — accessed from MYMU) or contact mba.events@monmouth.edu for more information. \nAbout\nTechLaunch is a for-profit business accelerator for tech startups. The series of “BullPen” pitch events (similar in concept to “Shark Tank”) is where a select handful of (3-4) tech startup companies pitch their business plans to a panel of investors and mixed audience. BullPen #6 is being hosted at Monmouth University. Each presenting team is screened\, mentored and prepared to make a 10-minute investor-type presentation to a panel of 4 Investors and successful entrepreneurs. The audience is encouraged to participate in the 10-minute Q&A session. Afterwards\, the investor panel will have 10 minutes to provide constructive feedback. BullPen is aimed at serious early stage tech startup companies with high growth potential\, an experienced team\, a demonstrated Minimum Viable Product (MVP)\, and at least one potential customer who is prepared to pay for your product. \nThe BullPen #6 Distinguished Investor Panel will consist of the following: \n\nKatherine O’Neill\, Angel Investor and Executive Director of Jumpostart NJ Angel network\nJeff Weinstein\, Entrepreneur and Angel Investor\nJay Bhatti\, Entrepreneur and VC/Angel Investor\nHal Ornstein\, MD\, Entrepreneur and Angel Investor\n\n  \nAgenda\n4:30 PM – 5:15 PM: Registration/Pizza/Networking\n5:15 PM – 5:30 PM: Introductions and Program\n5:30 PM – 7:30 PM: BullPen Program (3-4 Investor Pitches)\n7:30 PM – TBD: Winners announced & networking with entrepreneurs and investors
URL:https://www.monmouth.edu/events/event/techlaunch-bullpen-6/
LOCATION:Pozycki Hall Auditorium
CATEGORIES:Alumni,Current Student,Faculty,Graduate Student,Marketing + International Business,MBA Event,Undergraduate Student
ATTACH;FMTTYPE=image/jpeg:https://www.monmouth.edu/events/wp-content/uploads/sites/19/2018/07/techlaunch.jpg
END:VEVENT
BEGIN:VEVENT
DTSTART;TZID=America/New_York:20170504T130000
DTEND;TZID=America/New_York:20170504T170000
DTSTAMP:20260422T022042
CREATED:20180725T203731Z
LAST-MODIFIED:20190304T151121Z
UID:40810101305-1493902800-1493917200@www.monmouth.edu
SUMMARY:Stephen B. Siegel Lecture Series: "The Future of New Jersey's Suburbs"
DESCRIPTION:The Kislak Real Estate Institute at Monmouth University\ncordially invites you to attend the \nStephen B. Siegel Lecture Series\n“The Future of New Jersey’s Suburbs”\nThursday\, May 4\, 2017 \n1:00 – 5:00 p.m. \nPozycki Hall Auditorium\nReception Immediately Following \n  \nRegistration Required\nSeating Is Limited \n  \nRSVP by May 1\, 2017\ntlowy@monmouth.edu or 732-571-4412 \n  \nSponsored by\nThe Leon Hess Business School and The Kislak Real Estate Institute \nAbout the Program\nThe program will feature a series of panels of experts dealing with various aspects of the topic. The opening panel will feature Geoffrey Anderson\, the CEO of Smart Growth America\, a leading national organization on land use headquartered in Washington\, D.C.\, and Dr. Lisa Sturtevant\, Senior Visiting Fellow at the Urban Land Institute Terwilliger Center for Housing in Washington\, D.C. \nDr. James W. Hughes\, the Dean of the Bloustein School of Planning at Rutgers University and Timothy Evans\, Research Director at New Jersey Future\, will discuss their research on the demographic shifts in New Jersey that are impacting the housing and economic activity in the suburbs. \nJosh Burd\, the Editor of Real Estate-NJ\, will moderate a panel of developers currently working on redevelopment of the suburbs including Ralph Zucker of Somerset Development who is creating the Bell Works reuse of the Bell labs facility in Holmdel\, New Jersey\, Carl Goldberg from Mack-Cali Roseland\, developers of many large suburban campuses\, Jenny Bernell from Kushner Companies\, owner of the Monmouth Mall and other properties\, and David Fisher\, from K. Hovnanian Companies\, who are redeveloping several large office campuses. \nThe final panel will include local officials who will provide their response to the earlier panels and discuss activity in their suburban municipalities. Officials include Mayor Gerald Scharfenberger of Middletown\, Mayor Dennis Connelly from Eatontown\, Eric Hinds from Holmdel\, and former Mayor Kenneth Pringle from Belmar. The panel will be moderated by John Giunco\, adjunct Professor at Monmouth University and a partner in the law firm of Giordano Halleran & Ciesla.
URL:https://www.monmouth.edu/events/event/stephen-b-siegel-lecture-series-the-future-of-new-jerseys-suburbs/
LOCATION:Pozycki Hall Auditorium
CATEGORIES:Alumni,Community Member,Current Student,Faculty,Lectures,Leon Hess Business School
ATTACH;FMTTYPE=image/png:https://www.monmouth.edu/events/wp-content/uploads/sites/19/2018/07/SiegelLectureSeries2017.png
END:VEVENT
BEGIN:VEVENT
DTSTART;TZID=America/New_York:20170413T163000
DTEND;TZID=America/New_York:20170413T181500
DTSTAMP:20260422T022042
CREATED:20180725T203753Z
LAST-MODIFIED:20190304T151348Z
UID:40810101362-1492101000-1492107300@www.monmouth.edu
SUMMARY:Film Screening: Les Saisons (Seasons)
DESCRIPTION:After traveling the world alongside migrating birds and diving the oceans in the acclaimed nature documentaries Winged Migrations and Oceans\, Jacques Perrin and Jacques Cluzaud return to the lush green forests that emerged across Europe following the last Ice Age. Winter had gone on for 80\,000 years when\, in a short period of time the ice retreated\, the landscape metamorphosed\, the cycle of seasons was established and the beasts occupied their new kingdom. Les Saisons\, with its exceptional footage of animals in the wild\, is the awe-inspiring and thought-provoking tale of the long shared history that binds humankind with the natural world. \nThe film will be introduced by Rockefeller University Professor Jesse Ausubel\, who served as a science advisor to Les Saisons’ directors. \nThis free and public event is being offered as part of the Monmouth University Urban Coast Institute’s 2017 Spring Film Series. \nFor more information\, contact Karl Vilacoba at 732-571-3688 or kvilacob@monmouth.edu. \nRegister Online
URL:https://www.monmouth.edu/events/event/film-screening-les-saisons-seasons/
LOCATION:Pozycki Hall Auditorium
CATEGORIES:Alumni,Community Member,Current Student,Faculty,School of Science
ATTACH;FMTTYPE=image/png:https://www.monmouth.edu/events/wp-content/uploads/sites/19/2018/07/LesSaisonsPromo.png
END:VEVENT
BEGIN:VEVENT
DTSTART;TZID=America/New_York:20170406T180000
DTEND;TZID=America/New_York:20170406T203000
DTSTAMP:20260422T022042
CREATED:20180725T203808Z
LAST-MODIFIED:20190304T151534Z
UID:40810101398-1491501600-1491510600@www.monmouth.edu
SUMMARY:Ocean Frontiers III
DESCRIPTION:Ocean Frontiers III is a truly unique and hopeful ocean film that explores the intersection of national security\, marine commerce and conservation. Savor rare underwater footage of stunning marine life along the coast from Virginia to Maine and hear from a range of people who are leading the way to a sustainable and thriving ocean. \nParticipate in the post-film conversation about the new Mid-Atlantic Ocean Action plan and get your questions answered by an expert panel that includes: Liz Semple\, Manager\, Office of Coastal and Land Use Planning\, New Jersey Dept. of Environmental Protection; Tim Dillingham\, Executive Director\, American Littoral Society; Tony MacDonald\, Director\, Monmouth University Urban Coast Institute (moderator); and others to be announced. The film showing begins at 6:30 p.m.; guests are welcome to attend a reception at 6 p.m. with light refreshments. \nThis free film screening and panel discussion is being presented by the Monmouth University Urban Coast Institute with the American Littoral Society\, New Jersey Sea Grant Consortium\, Association of New Jersey Environmental Commissions\, Surfrider Foundation – Jersey Shore Chapter\, Green Fire Productions\, and The Nature Conservancy – New Jersey Chapter. \nFor more information\, contact Karl Vilacoba at 732-571-3688 or kvilacob@monmouth.edu. \nRegistration and More Information
URL:https://www.monmouth.edu/events/event/ocean-frontiers-iii/
LOCATION:Pozycki Hall Auditorium
CATEGORIES:Alumni,Community Member,Current Student,Faculty,School of Science
ATTACH;FMTTYPE=image/png:https://www.monmouth.edu/events/wp-content/uploads/sites/19/2018/07/OceanFrontiersPromo.png
END:VEVENT
BEGIN:VEVENT
DTSTART;TZID=America/New_York:20170322T163000
DTEND;TZID=America/New_York:20170322T180000
DTSTAMP:20260422T022042
CREATED:20180725T203814Z
LAST-MODIFIED:20190304T151959Z
UID:40810101437-1490200200-1490205600@www.monmouth.edu
SUMMARY:American-Israeli Relations in the Trump Era: A Lecture by Michael Tuchfeld
DESCRIPTION:The positions that president Trump expressed in his campaign regarding Israel and the Middle East conflict were sometimes inconsistent or contradictory.  Nevertheless\, some characteristics show that he will act to roll back most of former president Obama’s ideas and policies of how to promote peace in the area. It is obvious that new terminologies have been formed and reached the gates of the region. What are they and what do they indicate? Many Israelis feel relieved\, others – worried. What are P.M. Netanyahu’s expectations in the new era? What are the Israeli cabinet ministers’ expectations and do they expect the same things?  The questions of settlements\, annexation of territories conquered in 1967\, the two-state solution and the settlement regulation law will be raised as well as the policy towards Iran\, Egypt and other players on the political field \nIs the defeat of the American political establishment a positive development for Israel?\nWhat mistakes should both sides avoid?\n \nThese questions and others will be raised in the lecture….\n \nMichael Tuchfeld is a journalist\, currently working for Maariv-Makor Rishon and NRG 360 News website as a political analyst and correspondent. He was the parliamentary correspondent of Kol-Israel\, IBA\, and the host of the daily talk show on The Knesset Channel – Channel 2 News. He also has a weekly talk show on Galey Israel. He has an M.A. degree from Bar Ilan University in Communications and Political Sciences.\nThis event sponsored by The Jewish Cultural Studies Program at Monmouth University
URL:https://www.monmouth.edu/events/event/american-israeli-relations-in-the-trump-era-a-lecture-by-michael-tuchfeld/
LOCATION:Pozycki Hall Auditorium
ATTACH;FMTTYPE=image/jpeg:https://www.monmouth.edu/events/wp-content/uploads/sites/19/2018/07/560trump.jpg
END:VEVENT
BEGIN:VEVENT
DTSTART;TZID=America/New_York:20161117T163000
DTEND;TZID=America/New_York:20161117T180000
DTSTAMP:20260422T022042
CREATED:20180725T203821Z
LAST-MODIFIED:20190304T152231Z
UID:40810101455-1479400200-1479405600@www.monmouth.edu
SUMMARY:The Financial Crisis of 2008: An Insider's Prospective
DESCRIPTION:
URL:https://www.monmouth.edu/events/event/the-financial-crisis-of-2008-an-insiders-prospective/
LOCATION:Pozycki Hall Auditorium
CATEGORIES:Alumni,Community Member,Current Student,Faculty,Lectures,Leon Hess Business School,Media
ATTACH;FMTTYPE=image/png:https://www.monmouth.edu/events/wp-content/uploads/sites/19/2018/07/HRYoungLecture2016.png
END:VEVENT
BEGIN:VEVENT
DTSTART;TZID=America/New_York:20151007T144500
DTEND;TZID=America/New_York:20151007T160000
DTSTAMP:20260422T022042
CREATED:20180725T204148Z
LAST-MODIFIED:20190304T152423Z
UID:40810102115-1444229100-1444233600@www.monmouth.edu
SUMMARY:Manufacturing Today is More Than an Assembly Line: How American Made Products Can Drive the Next Generation
DESCRIPTION:As part of the nationwide Manufacturing Day celebration\, the Leon Hess Business School\, in partnership with the American Oil & Supply International LLC\, will be hosting an event that aims to educate students about the true value of manufacturing jobs and its importance to the U.S. economy. \nThis event is scheduled for Wednesday\, October 7\, 2015 starting at 2:45 p.m. until 4 p.m. in Pozycki Hall Auditorium. All business students including entrepreneurship and those with marketing and/or management concentrations are encouraged to participate in an interactive discussion and video presentation emphasizing “Made in America” products and career opportunities in today’s manufacturing environment. \nModerator: \n\nChuck Decker\, President\, American Oil since 1895 ®\n\nPanelists and Presenters: \n\nStanley Ziemski\, Chairman\, American Oil since 1895 / AOS Thermal Compounds\nJeff Leiter\, Managing Partner\, Leiter & Cramer\, Washington DC\nHolly Alfano\, Executive Director\, ILMA\, Washington DC\nJohn Ziemski\, President\, AOS Thermal Compounds\n\nFor additional information\, please contact Janeth Merkle at jmerkle@monmouth.edu.
URL:https://www.monmouth.edu/events/event/manufacturing-today-is-more-than-an-assembly-line-how-american-made-products-can-drive-the-next-generation/
LOCATION:Pozycki Hall Auditorium
CATEGORIES:Current Student,Faculty,Leon Hess Business School
ATTACH;FMTTYPE=image/jpeg:https://www.monmouth.edu/events/wp-content/uploads/sites/19/2018/07/Manufacturing-Day-Display.jpg
END:VEVENT
BEGIN:VEVENT
DTSTART;TZID=America/New_York:20150916T144500
DTEND;TZID=America/New_York:20150916T160000
DTSTAMP:20260422T022042
CREATED:20180725T204136Z
LAST-MODIFIED:20190304T152518Z
UID:40810102073-1442414700-1442419200@www.monmouth.edu
SUMMARY:Leon Hess School of Business Academic Welcome 2015
DESCRIPTION:All transfer and new students are invited to attend a brief presentation in Pozycki Hall Auditorium. Current Business students are encouraged to join the Leon Hess Business School Faculty and Administration for a barbecue following the Welcome Presentation. \nFor more information\, please contact Trish LaMarca at 732-571-3423 or plamarca@monmouth.edu.
URL:https://www.monmouth.edu/events/event/leon-hess-school-of-business-academic-welcome-2015/
LOCATION:Pozycki Hall Auditorium
CATEGORIES:Current Student,Leon Hess Business School
ATTACH;FMTTYPE=image/jpeg:https://www.monmouth.edu/events/wp-content/uploads/sites/19/2018/07/PozyckiHall.jpg
END:VEVENT
END:VCALENDAR