BEGIN:VCALENDAR
VERSION:2.0
PRODID:-//Events - ECPv6.15.20//NONSGML v1.0//EN
CALSCALE:GREGORIAN
METHOD:PUBLISH
X-ORIGINAL-URL:https://www.monmouth.edu/events
X-WR-CALDESC:Events for Events
REFRESH-INTERVAL;VALUE=DURATION:PT1H
X-Robots-Tag:noindex
X-PUBLISHED-TTL:PT1H
BEGIN:VTIMEZONE
TZID:America/New_York
BEGIN:DAYLIGHT
TZOFFSETFROM:-0500
TZOFFSETTO:-0400
TZNAME:EDT
DTSTART:20210314T070000
END:DAYLIGHT
BEGIN:STANDARD
TZOFFSETFROM:-0400
TZOFFSETTO:-0500
TZNAME:EST
DTSTART:20211107T060000
END:STANDARD
BEGIN:DAYLIGHT
TZOFFSETFROM:-0500
TZOFFSETTO:-0400
TZNAME:EDT
DTSTART:20220313T070000
END:DAYLIGHT
BEGIN:STANDARD
TZOFFSETFROM:-0400
TZOFFSETTO:-0500
TZNAME:EST
DTSTART:20221106T060000
END:STANDARD
BEGIN:DAYLIGHT
TZOFFSETFROM:-0500
TZOFFSETTO:-0400
TZNAME:EDT
DTSTART:20230312T070000
END:DAYLIGHT
BEGIN:STANDARD
TZOFFSETFROM:-0400
TZOFFSETTO:-0500
TZNAME:EST
DTSTART:20231105T060000
END:STANDARD
BEGIN:DAYLIGHT
TZOFFSETFROM:-0500
TZOFFSETTO:-0400
TZNAME:EDT
DTSTART:20240310T070000
END:DAYLIGHT
BEGIN:STANDARD
TZOFFSETFROM:-0400
TZOFFSETTO:-0500
TZNAME:EST
DTSTART:20241103T060000
END:STANDARD
BEGIN:DAYLIGHT
TZOFFSETFROM:-0500
TZOFFSETTO:-0400
TZNAME:EDT
DTSTART:20250309T070000
END:DAYLIGHT
BEGIN:STANDARD
TZOFFSETFROM:-0400
TZOFFSETTO:-0500
TZNAME:EST
DTSTART:20251102T060000
END:STANDARD
BEGIN:DAYLIGHT
TZOFFSETFROM:-0500
TZOFFSETTO:-0400
TZNAME:EDT
DTSTART:20260308T070000
END:DAYLIGHT
BEGIN:STANDARD
TZOFFSETFROM:-0400
TZOFFSETTO:-0500
TZNAME:EST
DTSTART:20261101T060000
END:STANDARD
END:VTIMEZONE
BEGIN:VEVENT
DTSTART;TZID=America/New_York:20250902T193000
DTEND;TZID=America/New_York:20250902T210000
DTSTAMP:20260425T084030
CREATED:20241031T150241Z
LAST-MODIFIED:20250811T175741Z
UID:40810115195-1756841400-1756846800@www.monmouth.edu
SUMMARY:Bruce Springsteen\, Born to Run
DESCRIPTION:It’s just like book club but with albums! With new advances in technology\, the way we consume music through our devices\, apps and on demand streaming services like Pandora\, Spotify and iTunes is making the idea of the “album” as an art form extinct. Get together with other music enthusiasts on Tuesday nights to discuss some of the greatest records of all-time! Listen to the album beforehand and then come prepared to discuss. This event will feature Born to Run. Bob Santelli and Ken Campbell will be our special guest co-hosts! \nThis event is offered both in person and via Zoom. Join us in person at Pollak Theatre on the Campus of Monmouth University or join us via zoom. When you register you will be provided the Zoom meeting link to join the conversation. \nFree and open to the public\, but registration is required.
URL:https://www.monmouth.edu/events/event/bruce-springsteen-born-to-run/
LOCATION:Pollak Theatre/Virtual\, 400 Cedar Ave\, West Long Branch\, NJ\, 07764\, United States
CATEGORIES:Alumni,Arts at Monmouth,Current Student,Faculty,Free,Graduate Student
ATTACH;FMTTYPE=image/png:https://www.monmouth.edu/events/wp-content/uploads/sites/19/2024/10/Screenshot-2024-10-30-at-10.48.10 AM.png
ORGANIZER;CN="Kenneth Womack":MAILTO:kwomack@monmouth.edu
END:VEVENT
BEGIN:VEVENT
DTSTART;TZID=America/New_York:20221206T193000
DTEND;TZID=America/New_York:20221206T210000
DTSTAMP:20260425T084030
CREATED:20220510T201335Z
LAST-MODIFIED:20221025T132113Z
UID:40810111265-1670355000-1670360400@www.monmouth.edu
SUMMARY:Aretha Franklin\, Young\, Gifted\, and Black
DESCRIPTION:It’s just like book club but with albums! With new advances in technology\, the way we consume music through our devices\, apps and on demand streaming services like Pandora\, Spotify and iTunes is making the idea of the “album” as an art form extinct. Get together with other music enthusiasts on Tuesday nights to discuss some of the greatest records of all-time! Listen to the album beforehand and then come prepared to discuss. This event will feature Aretha Franklin\, Young\, Gifted\, and Black. \nThis event will be held in person at Pollak Theatre and will also be available remotely via Zoom. When you register you will be provided the ZOOM meeting link to join the conversation.  \nFree and open to the public\, but registration is required.
URL:https://www.monmouth.edu/events/event/aretha-franklin-young-gifted-and-black/
LOCATION:Pollak Theatre/Virtual\, 400 Cedar Ave\, West Long Branch\, NJ\, 07764\, United States
CATEGORIES:Alumni,Arts at Monmouth,Free,Lectures,Lectures/Workshops/Symposiums
ATTACH;FMTTYPE=image/jpeg:https://www.monmouth.edu/events/wp-content/uploads/sites/19/2022/05/Aretha_header.jpg
END:VEVENT
BEGIN:VEVENT
DTSTART;TZID=America/New_York:20221101T193000
DTEND;TZID=America/New_York:20221101T210000
DTSTAMP:20260425T084030
CREATED:20220510T201049Z
LAST-MODIFIED:20221025T132059Z
UID:40810111262-1667331000-1667336400@www.monmouth.edu
SUMMARY:The Grateful Dead\, American Beauty
DESCRIPTION:It’s just like book club but with albums! With new advances in technology\, the way we consume music through our devices\, apps and on demand streaming services like Pandora\, Spotify and iTunes is making the idea of the “album” as an art form extinct. Get together with other music enthusiasts on Tuesday nights to discuss some of the greatest records of all-time! Listen to the album beforehand and then come prepared to discuss. This event will feature The Grateful Dead\, American Beauty. \nThis event will be held in person at Pollak Theatre and will also be available remotely via Zoom. When you register you will be provided the ZOOM meeting link to join the conversation.  \nFree and open to the public\, but registration is required.
URL:https://www.monmouth.edu/events/event/the-grateful-dead-american-beauty/
LOCATION:Pollak Theatre/Virtual\, 400 Cedar Ave\, West Long Branch\, NJ\, 07764\, United States
CATEGORIES:Alumni,Arts at Monmouth,Free,Lectures/Workshops/Symposiums
ATTACH;FMTTYPE=image/jpeg:https://www.monmouth.edu/events/wp-content/uploads/sites/19/2022/05/dead.jpg
END:VEVENT
BEGIN:VEVENT
DTSTART;TZID=America/New_York:20221004T193000
DTEND;TZID=America/New_York:20221004T210000
DTSTAMP:20260425T084030
CREATED:20220510T200658Z
LAST-MODIFIED:20220825T162909Z
UID:40810111259-1664911800-1664917200@www.monmouth.edu
SUMMARY:Kendrick Lamar\, To Pimp a Butterfly
DESCRIPTION:It’s just like book club but with albums! With new advances in technology\, the way we consume music through our devices\, apps and on demand streaming services like Pandora\, Spotify and iTunes is making the idea of the “album” as an art form extinct. Get together with other music enthusiasts on Tuesday nights to discuss some of the greatest records of all-time! Listen to the album beforehand and then come prepared to discuss. This event will feature Kendrick Lamar\, To Pimp a Butterfly. \nThis event will be held in person at Pollak Theatre and will also be available remotely via Zoom. When you register you will be provided the ZOOM meeting link to join the conversation.  \nFree and open to the public\, but registration is required.
URL:https://www.monmouth.edu/events/event/kendrick-lamar-to-pimp-a-butterfly/
LOCATION:Pollak Theatre/Virtual\, 400 Cedar Ave\, West Long Branch\, NJ\, 07764\, United States
CATEGORIES:Arts at Monmouth,Free,Lectures/Workshops/Symposiums
ATTACH;FMTTYPE=image/jpeg:https://www.monmouth.edu/events/wp-content/uploads/sites/19/2022/05/lamarheader.jpg
END:VEVENT
END:VCALENDAR