BEGIN:VCALENDAR
VERSION:2.0
PRODID:-//Events - ECPv6.15.20//NONSGML v1.0//EN
CALSCALE:GREGORIAN
METHOD:PUBLISH
X-ORIGINAL-URL:https://www.monmouth.edu/events
X-WR-CALDESC:Events for Events
REFRESH-INTERVAL;VALUE=DURATION:PT1H
X-Robots-Tag:noindex
X-PUBLISHED-TTL:PT1H
BEGIN:VTIMEZONE
TZID:America/New_York
BEGIN:DAYLIGHT
TZOFFSETFROM:-0500
TZOFFSETTO:-0400
TZNAME:EDT
DTSTART:20230312T070000
END:DAYLIGHT
BEGIN:STANDARD
TZOFFSETFROM:-0400
TZOFFSETTO:-0500
TZNAME:EST
DTSTART:20231105T060000
END:STANDARD
BEGIN:DAYLIGHT
TZOFFSETFROM:-0500
TZOFFSETTO:-0400
TZNAME:EDT
DTSTART:20240310T070000
END:DAYLIGHT
BEGIN:STANDARD
TZOFFSETFROM:-0400
TZOFFSETTO:-0500
TZNAME:EST
DTSTART:20241103T060000
END:STANDARD
BEGIN:DAYLIGHT
TZOFFSETFROM:-0500
TZOFFSETTO:-0400
TZNAME:EDT
DTSTART:20250309T070000
END:DAYLIGHT
BEGIN:STANDARD
TZOFFSETFROM:-0400
TZOFFSETTO:-0500
TZNAME:EST
DTSTART:20251102T060000
END:STANDARD
BEGIN:DAYLIGHT
TZOFFSETFROM:-0500
TZOFFSETTO:-0400
TZNAME:EDT
DTSTART:20260308T070000
END:DAYLIGHT
BEGIN:STANDARD
TZOFFSETFROM:-0400
TZOFFSETTO:-0500
TZNAME:EST
DTSTART:20261101T060000
END:STANDARD
END:VTIMEZONE
BEGIN:VEVENT
DTSTART;TZID=America/New_York:20250306T200000
DTEND;TZID=America/New_York:20250306T210000
DTSTAMP:20260423T161223
CREATED:20250207T152711Z
LAST-MODIFIED:20250207T153913Z
UID:40810118588-1741291200-1741294800@www.monmouth.edu
SUMMARY:Thursday Night Alternative - Bingo Night
DESCRIPTION:🎉 Thursday Night Alternative – Bingo! 🎉 \nLooking for a fun way to unwind after a long week of classes? Join us for Thursday Night Alternative – Bingo! 🏆✨ Enjoy a free bingo night with awesome prizes\, great vibes\, and a chance to connect with friends (or make new ones!). No experience needed—just bring your game face and get ready for a night of laughs and surprises.  Thursday\, March 6 @ 8 pm\, Pinewood Lounge
URL:https://www.monmouth.edu/events/event/thursday-night-alternative-bingo-night/
LOCATION:Pinewood Hall Lounge
ATTACH;FMTTYPE=image/jpeg:https://www.monmouth.edu/events/wp-content/uploads/sites/19/2025/01/apps.34080.13510798887528624.ea88a7e6-557c-4ad5-99d7-c574f430c827.jpg
END:VEVENT
BEGIN:VEVENT
DTSTART;TZID=America/New_York:20250301T210000
DTEND;TZID=America/New_York:20250301T230000
DTSTAMP:20260423T161223
CREATED:20250221T184009Z
LAST-MODIFIED:20250221T184009Z
UID:40810118792-1740862800-1740870000@www.monmouth.edu
SUMMARY:PJ's and Pancakes
DESCRIPTION:PJ’s & Pancakes: A Cozy Late-Night Breakfast Bash! 🥞🎉 \nKick back\, relax\, and roll out of bed (literally) for PJ’s & Pancakes\, the ultimate late-night breakfast event! Join us for a chill night filled with free\, fluffy pancakes\, all your favorite toppings\, prizes and a cozy vibe—just bring your comfiest pajamas!  Saturday\, March 1 in Pinewood Hall Lounge\, 9-11 pm. 
URL:https://www.monmouth.edu/events/event/pjs-and-pancakes/
LOCATION:Pinewood Hall Lounge
ATTACH;FMTTYPE=image/jpeg:https://www.monmouth.edu/events/wp-content/uploads/sites/19/2025/02/download-1-1.jpg
END:VEVENT
BEGIN:VEVENT
DTSTART;TZID=America/New_York:20250227T200000
DTEND;TZID=America/New_York:20250227T213000
DTSTAMP:20260423T161223
CREATED:20250122T155644Z
LAST-MODIFIED:20250207T152259Z
UID:40810118019-1740686400-1740691800@www.monmouth.edu
SUMMARY:Thursday Night Alternative - Trivia Night
DESCRIPTION:🧠 Thursday Night Alternative – Trivia Night! 🧠 \nThink you’ve got what it takes to be the ultimate trivia champ? Grab your friends and test your knowledge at TNA – Trivia Night! 🏆 From pop culture to history\, sports to random fun facts\, expect a mix of exciting questions\, friendly competition\, and prizes. No need to be a genius—just bring your best guesses and good vibes!  Thursday\, February 27 @ 8 pm\, Pinewood Lounge
URL:https://www.monmouth.edu/events/event/trivia-thursday-history-buffs/
LOCATION:Pinewood Hall Lounge
ATTACH;FMTTYPE=image/jpeg:https://www.monmouth.edu/events/wp-content/uploads/sites/19/2025/01/shutterstock_686118184-2.jpg
END:VEVENT
BEGIN:VEVENT
DTSTART;TZID=America/New_York:20250223T160000
DTEND;TZID=America/New_York:20250223T180000
DTSTAMP:20260423T161223
CREATED:20250214T162942Z
LAST-MODIFIED:20250214T163119Z
UID:40810118714-1740326400-1740333600@www.monmouth.edu
SUMMARY:Game Day:  Just Dance Video Game
DESCRIPTION:🎮🕺 Game Day: Just Dance Edition! 🕺🎮 \nGet ready to show off your best moves at Game Day: Just Dance Video Game Event! Grab your friends\, hit the dance floor\, and battle it out to your favorite songs in a fun\, high-energy dance competition. No experience needed—just bring your enthusiasm!  Sunday\, February 23\, 4-6 pm\, Pinewood Hall Lounge
URL:https://www.monmouth.edu/events/event/game-day-just-dance-video-game/
LOCATION:Pinewood Hall Lounge
ATTACH;FMTTYPE=image/jpeg:https://www.monmouth.edu/events/wp-content/uploads/sites/19/2025/02/71Sg8suiUZL._AC_UF8941000_QL80_.jpg
END:VEVENT
BEGIN:VEVENT
DTSTART;TZID=America/New_York:20250220T200000
DTEND;TZID=America/New_York:20250220T213000
DTSTAMP:20260423T161223
CREATED:20250122T154813Z
LAST-MODIFIED:20250207T151947Z
UID:40810118013-1740081600-1740087000@www.monmouth.edu
SUMMARY:Thursday Night Alternative - Game Night
DESCRIPTION:Thursday Night Alternative – Game Night! \nTake a break from studying and level up your Thursday nights with TNA – Game Night! 🏆 Whether you’re into board games\, triva games dominos or  card games we’ve got something for everyone. Bring your competitive spirit\, enjoy free snacks\, and challenge your friends (or make new ones) in a fun\, laid-back atmosphere.  Thursday\, February 20 @ 8 pm\, Pinewood Lounge
URL:https://www.monmouth.edu/events/event/trivia-thursday-tv-show-throwdown/
LOCATION:Pinewood Hall Lounge
ATTACH;FMTTYPE=image/jpeg:https://www.monmouth.edu/events/wp-content/uploads/sites/19/2025/01/download-1-2.jpg
END:VEVENT
BEGIN:VEVENT
DTSTART;TZID=America/New_York:20250216T120000
DTEND;TZID=America/New_York:20250216T130000
DTSTAMP:20260423T161223
CREATED:20250124T194638Z
LAST-MODIFIED:20250204T144818Z
UID:40810118490-1739707200-1739710800@www.monmouth.edu
SUMMARY:Zumba
DESCRIPTION:This class takes the “work” out of workout\, by mixing low-intensity and high-intensity moves for an interval-style\, calorie-burning dance fitness party.
URL:https://www.monmouth.edu/events/event/zumba-3/
LOCATION:Pinewood Hall Lounge
ATTACH;FMTTYPE=image/jpeg:https://www.monmouth.edu/events/wp-content/uploads/sites/19/2025/01/M-Recreation-3.jpg
END:VEVENT
BEGIN:VEVENT
DTSTART;TZID=America/New_York:20250209T120000
DTEND;TZID=America/New_York:20250209T130000
DTSTAMP:20260423T161223
CREATED:20250204T144352Z
LAST-MODIFIED:20250204T144415Z
UID:40810117695-1739102400-1739106000@www.monmouth.edu
SUMMARY:Sweat it Out Sunday - Yoga
DESCRIPTION:Join us for “Sweat It Out Sunday: Yoga Edition\,” a revitalizing session designed to stretch\, strengthen\, and energize your body for the week ahead. Unwind\, recharge\, and find your Zen in a calming yet invigorating yoga flow that’s perfect for all!
URL:https://www.monmouth.edu/events/event/sweat-it-out-sunday-yoga-4/
LOCATION:Pinewood Hall Lounge
ATTACH;FMTTYPE=image/jpeg:https://www.monmouth.edu/events/wp-content/uploads/sites/19/2025/01/41nuyq-9eUL._AC_UF8941000_QL80_.jpg
END:VEVENT
BEGIN:VEVENT
DTSTART;TZID=America/New_York:20250208T220000
DTEND;TZID=America/New_York:20250208T233000
DTSTAMP:20260423T161223
CREATED:20250203T205151Z
LAST-MODIFIED:20250208T225809Z
UID:40810118565-1739052000-1739057400@www.monmouth.edu
SUMMARY:Paint and Sip Event
DESCRIPTION:DUE TO IMPENDING INCLEMENT WEATHER\, TONIGHT’S PAINT AND SIP EVENT HAS BEEN CANCELLED! \nPaint & Sip Night – College Edition! 🎨 \nCalling all students! Take a break from the books and unleash your creativity at our Paint & Sip Night – the ultimate stress-free\, fun-filled evening with friends! 🖌️✨ Saturday\, February 8 from 10 pm to 11:30 pm\, Pinewood Hall Lounge
URL:https://www.monmouth.edu/events/event/paint-and-sip-event/
LOCATION:Pinewood Hall Lounge
ATTACH;FMTTYPE=image/jpeg:https://www.monmouth.edu/events/wp-content/uploads/sites/19/2025/02/download-1.jpg
END:VEVENT
BEGIN:VEVENT
DTSTART;TZID=America/New_York:20250207T210000
DTEND;TZID=America/New_York:20250207T220000
DTSTAMP:20260423T161223
CREATED:20250204T175852Z
LAST-MODIFIED:20250204T175852Z
UID:40810118568-1738962000-1738965600@www.monmouth.edu
SUMMARY:Bingo Night in Pinewood Lounge
DESCRIPTION:Join us for a late night edition of Bingo in Pinewood Lounge.  We call the numbers and you have a chance to win prizes.  Friday\, February 7\, Pinewood Hall Lounge\, 9 pm.  
URL:https://www.monmouth.edu/events/event/bingo-night-in-pinewood-lounge/
LOCATION:Pinewood Hall Lounge
ATTACH;FMTTYPE=image/jpeg:https://www.monmouth.edu/events/wp-content/uploads/sites/19/2025/01/apps.34080.13510798887528624.ea88a7e6-557c-4ad5-99d7-c574f430c827.jpg
END:VEVENT
BEGIN:VEVENT
DTSTART;TZID=America/New_York:20250130T200000
DTEND;TZID=America/New_York:20250130T213000
DTSTAMP:20260423T161223
CREATED:20250122T152737Z
LAST-MODIFIED:20250224T172514Z
UID:40810118005-1738267200-1738272600@www.monmouth.edu
SUMMARY:Thursday Night Alternative - Trivia Night
DESCRIPTION:Get ready to flex your movie knowledge at Thursday Night Alternative  – Trivia! Join your fellow students for a night of fun\, prizes\, and cinematic surprises—don’t miss out! Thursday\, February 27\, 2025 at 8 pm\, Pinewood Hall Lounge
URL:https://www.monmouth.edu/events/event/trivia-thursday-movie-mania/
LOCATION:Pinewood Hall Lounge
ATTACH;FMTTYPE=image/jpeg:https://www.monmouth.edu/events/wp-content/uploads/sites/19/2025/01/shutterstock_686118184-2.jpg
END:VEVENT
BEGIN:VEVENT
DTSTART;TZID=America/New_York:20250126T130000
DTEND;TZID=America/New_York:20250126T150000
DTSTAMP:20260423T161223
CREATED:20250117T143941Z
LAST-MODIFIED:20250117T143941Z
UID:40810117904-1737896400-1737903600@www.monmouth.edu
SUMMARY:Video Game Day:  Wii Sports
DESCRIPTION:Get ready to swing\, bowl\, and smash your way to victory at the Wii Sports Showdown\, a fun and competitive gaming event! Grab your friends\, bring your A-game\, and enjoy an afternoon of nostalgia\, laughter\, and epic gameplay.  Event will take place in Pinewood Lounge.
URL:https://www.monmouth.edu/events/event/video-game-day-wii-sports/
LOCATION:Pinewood Hall Lounge
ATTACH;FMTTYPE=image/jpeg:https://www.monmouth.edu/events/wp-content/uploads/sites/19/2025/01/download.jpg
END:VEVENT
BEGIN:VEVENT
DTSTART;TZID=America/New_York:20250123T180000
DTEND;TZID=America/New_York:20250123T200000
DTSTAMP:20260423T161223
CREATED:20250117T161612Z
LAST-MODIFIED:20250123T174557Z
UID:40810117908-1737655200-1737662400@www.monmouth.edu
SUMMARY:Trivia Night
DESCRIPTION:Get ready for a fun-filled evening of friendly competition at our Trivia Night! Test your knowledge across various categories and connect with others in a lively atmosphere\, all while vying for exciting prizes.
URL:https://www.monmouth.edu/events/event/trivia-night/
LOCATION:Pinewood Hall Lounge
ATTACH;FMTTYPE=image/jpeg:https://www.monmouth.edu/events/wp-content/uploads/sites/19/2025/01/shutterstock_686118184-2.jpg
END:VEVENT
BEGIN:VEVENT
DTSTART;TZID=America/New_York:20241215T140000
DTEND;TZID=America/New_York:20241215T180000
DTSTAMP:20260423T161223
CREATED:20241105T194741Z
LAST-MODIFIED:20241105T194741Z
UID:40810115792-1734271200-1734285600@www.monmouth.edu
SUMMARY:Final Exams Study Break
DESCRIPTION:We’re finishing strong and we hope you do too!  Stop by Pinewood Lounge between 2:00-6:00 pm for our last edition of Fall 2024 Final Exams Study Break – Coffee Bar\, Snacks\, Music edition.  Best wishes on your final exams and we hope you have a safe and wonderful winter break.  Fly Hawks!
URL:https://www.monmouth.edu/events/event/final-exams-study-break-3/
LOCATION:Pinewood Hall Lounge
END:VEVENT
BEGIN:VEVENT
DTSTART;TZID=America/New_York:20241213T210000
DTEND;TZID=America/New_York:20241213T230000
DTSTAMP:20260423T161223
CREATED:20241105T194741Z
LAST-MODIFIED:20241105T194741Z
UID:40810115789-1734123600-1734130800@www.monmouth.edu
SUMMARY:Final Exams Study Break
DESCRIPTION:We haven’t forgot that it’s final exams.  Remember to stop by Pinewood Lounge from 12:00 pm to 6:00 pm to enjoy some crafts and games in between studying.   Best wishes with your exams and projects
URL:https://www.monmouth.edu/events/event/final-exams-study-break-2/
LOCATION:Pinewood Hall Lounge
END:VEVENT
BEGIN:VEVENT
DTSTART;TZID=America/New_York:20241213T210000
DTEND;TZID=America/New_York:20241213T230000
DTSTAMP:20260423T161223
CREATED:20241105T194619Z
LAST-MODIFIED:20241105T194619Z
UID:40810115786-1734123600-1734130800@www.monmouth.edu
SUMMARY:Final Exams Study Break
DESCRIPTION:Take a moment to catch your breath in Pinewood Hall Lounge as you study for your final exams.  We’ll have some snacks and refreshments to get you through the day.  Best wishes on your final exams!
URL:https://www.monmouth.edu/events/event/final-exams-study-break/
LOCATION:Pinewood Hall Lounge
END:VEVENT
BEGIN:VEVENT
DTSTART;TZID=America/New_York:20241123T190000
DTEND;TZID=America/New_York:20241123T220000
DTSTAMP:20260423T161223
CREATED:20241108T180042Z
LAST-MODIFIED:20241115T202817Z
UID:40810115806-1732388400-1732399200@www.monmouth.edu
SUMMARY:Karaoke Night\, Crafts\, Snacks and Prizes
DESCRIPTION:Where are our singers Monmouth?!  Come join OSE for an evening of Karaoke\, make some crafts\, students will also have a chance to win prizes and we’ll have snacks.  Event will take place on Saturday\, November 23 from 7:00 pm to 10:00 pm in Pinewood Hall Lounge.
URL:https://www.monmouth.edu/events/event/karaoke-night-caricatures-snacks-and-prizes-2/
LOCATION:Pinewood Hall Lounge
ATTACH;FMTTYPE=image/png:https://www.monmouth.edu/events/wp-content/uploads/sites/19/2024/11/Karaoke-and-Craft-Party.png
END:VEVENT
BEGIN:VEVENT
DTSTART;TZID=America/New_York:20241122T200000
DTEND;TZID=America/New_York:20241122T220000
DTSTAMP:20260423T161223
CREATED:20241108T180402Z
LAST-MODIFIED:20241118T205142Z
UID:40810115502-1732305600-1732312800@www.monmouth.edu
SUMMARY:Chocolate Palooza
DESCRIPTION:  \nWho doesn’t love chocolate?!  It’s Chocolate Palooza night at Pinewood Hall Lounge.  Come and enjoy a make your own chocolate lollipops\, an ice cream bar and watch the movie Willy Wonka.  Yum!
URL:https://www.monmouth.edu/events/event/chocolate-palooza-2/
LOCATION:Pinewood Hall Lounge
END:VEVENT
BEGIN:VEVENT
DTSTART;TZID=America/New_York:20241103T130000
DTEND;TZID=America/New_York:20241103T163000
DTSTAMP:20260423T161223
CREATED:20240916T190946Z
LAST-MODIFIED:20240916T190946Z
UID:40810114001-1730638800-1730651400@www.monmouth.edu
SUMMARY:NFL Watch Party - NY Giants vs. Commanders
DESCRIPTION:Location:  Pinewood Hall Lounge \nFREE Pizza and Refreshments \nSponsored by the Office of Student Engagement\, The Office of Residential Life\, and The Student Government Association.
URL:https://www.monmouth.edu/events/event/nfl-watch-party-ny-giants-vs-commanders/
LOCATION:Pinewood Hall Lounge
ATTACH;FMTTYPE=image/png:https://www.monmouth.edu/events/wp-content/uploads/sites/19/2024/09/NFL-Watch-Parties-2-4.png
END:VEVENT
BEGIN:VEVENT
DTSTART;TZID=America/New_York:20241027T130000
DTEND;TZID=America/New_York:20241027T163000
DTSTAMP:20260423T161223
CREATED:20240916T190639Z
LAST-MODIFIED:20240916T190639Z
UID:40810113998-1730034000-1730046600@www.monmouth.edu
SUMMARY:NY Jets vs. Patriots
DESCRIPTION:Location:  Pinewood Hall Lounge \nFREE Pizza and Refreshments \nSponsored by the Office of Student Engagement\, The Office of Residential Life\, and The Student Government Association.
URL:https://www.monmouth.edu/events/event/ny-jets-vs-patriots/
LOCATION:Pinewood Hall Lounge
ATTACH;FMTTYPE=image/png:https://www.monmouth.edu/events/wp-content/uploads/sites/19/2024/09/NFL-Watch-Parties-2-3.png
END:VEVENT
BEGIN:VEVENT
DTSTART;TZID=America/New_York:20241020T130000
DTEND;TZID=America/New_York:20241020T163000
DTSTAMP:20260423T161223
CREATED:20240916T184123Z
LAST-MODIFIED:20240916T185234Z
UID:40810113992-1729429200-1729441800@www.monmouth.edu
SUMMARY:NFL Watch Party - Eagles vs. NY Giants
DESCRIPTION:Location:  Pinewood Hall Lounge \nFREE Pizza and Refreshments \nSponsored by the Office of Student Engagement\, The Office of Residential Life\, and The Student Government Association.
URL:https://www.monmouth.edu/events/event/nfl-watch-party-eagles-vs-ny-giants/
LOCATION:Pinewood Hall Lounge
ATTACH;FMTTYPE=image/png:https://www.monmouth.edu/events/wp-content/uploads/sites/19/2024/09/NFL-Watch-Parties-2-1.png
END:VEVENT
BEGIN:VEVENT
DTSTART;TZID=America/New_York:20241006T163000
DTEND;TZID=America/New_York:20241006T200000
DTSTAMP:20260423T161223
CREATED:20240916T184811Z
LAST-MODIFIED:20240916T184811Z
UID:40810113995-1728232200-1728244800@www.monmouth.edu
SUMMARY:NFL Watch Party - NY Giants vs. Seahawks
DESCRIPTION:Location:  Pinewood Hall Lounge \nFREE Pizza and Refreshments \nSponsored by the Office of Student Engagement\, The Office of Residential Life\, and The Student Government Association.
URL:https://www.monmouth.edu/events/event/nfl-watch-party-ny-giants-vs-seahawks/
LOCATION:Pinewood Hall Lounge
ATTACH;FMTTYPE=image/png:https://www.monmouth.edu/events/wp-content/uploads/sites/19/2024/09/NFL-Watch-Parties-2-2.png
END:VEVENT
BEGIN:VEVENT
DTSTART;TZID=America/New_York:20241005T190000
DTEND;TZID=America/New_York:20241005T220000
DTSTAMP:20260423T161223
CREATED:20241002T173603Z
LAST-MODIFIED:20241002T173603Z
UID:40810114437-1728154800-1728165600@www.monmouth.edu
SUMMARY:Twisters Movie Night
DESCRIPTION:Come out and see Twisters!
URL:https://www.monmouth.edu/events/event/twisters-movie-night/
LOCATION:Pinewood Hall Lounge
END:VEVENT
BEGIN:VEVENT
DTSTART;TZID=America/New_York:20241002T190000
DTEND;TZID=America/New_York:20241002T210000
DTSTAMP:20260423T161223
CREATED:20240830T183649Z
LAST-MODIFIED:20240930T132946Z
UID:40810113218-1727895600-1727902800@www.monmouth.edu
SUMMARY:Inside Out 2: Movie Night
DESCRIPTION:Join us in Pinewood Lounge to watch Inside Out 2 and enjoy some pizza.
URL:https://www.monmouth.edu/events/event/movie-night/
LOCATION:Pinewood Hall Lounge
ATTACH;FMTTYPE=application/pdf:https://www.monmouth.edu/events/wp-content/uploads/sites/19/2024/08/Inside-Out-2-Movie-Night-Flyer.pdf
END:VEVENT
BEGIN:VEVENT
DTSTART;TZID=America/New_York:20240907T180000
DTEND;TZID=America/New_York:20240907T200000
DTSTAMP:20260423T161223
CREATED:20240830T134409Z
LAST-MODIFIED:20240830T134409Z
UID:40810113029-1725732000-1725739200@www.monmouth.edu
SUMMARY:DIY Night
DESCRIPTION:
URL:https://www.monmouth.edu/events/event/diy-night/
LOCATION:Pinewood Hall Lounge
END:VEVENT
END:VCALENDAR