BEGIN:VCALENDAR
VERSION:2.0
PRODID:-//Events - ECPv6.15.20//NONSGML v1.0//EN
CALSCALE:GREGORIAN
METHOD:PUBLISH
X-ORIGINAL-URL:https://www.monmouth.edu/events
X-WR-CALDESC:Events for Events
REFRESH-INTERVAL;VALUE=DURATION:PT1H
X-Robots-Tag:noindex
X-PUBLISHED-TTL:PT1H
BEGIN:VTIMEZONE
TZID:America/New_York
BEGIN:DAYLIGHT
TZOFFSETFROM:-0500
TZOFFSETTO:-0400
TZNAME:EDT
DTSTART:20190310T070000
END:DAYLIGHT
BEGIN:STANDARD
TZOFFSETFROM:-0400
TZOFFSETTO:-0500
TZNAME:EST
DTSTART:20191103T060000
END:STANDARD
BEGIN:DAYLIGHT
TZOFFSETFROM:-0500
TZOFFSETTO:-0400
TZNAME:EDT
DTSTART:20200308T070000
END:DAYLIGHT
BEGIN:STANDARD
TZOFFSETFROM:-0400
TZOFFSETTO:-0500
TZNAME:EST
DTSTART:20201101T060000
END:STANDARD
BEGIN:DAYLIGHT
TZOFFSETFROM:-0500
TZOFFSETTO:-0400
TZNAME:EDT
DTSTART:20210314T070000
END:DAYLIGHT
BEGIN:STANDARD
TZOFFSETFROM:-0400
TZOFFSETTO:-0500
TZNAME:EST
DTSTART:20211107T060000
END:STANDARD
END:VTIMEZONE
BEGIN:VEVENT
DTSTART;TZID=America/New_York:20201027T123000
DTEND;TZID=America/New_York:20201027T160000
DTSTAMP:20260423T064711
CREATED:20201020T134831Z
LAST-MODIFIED:20201020T134831Z
UID:40810110506-1603801800-1603814400@www.monmouth.edu
SUMMARY:Virtual Internship & Fall Career Day
DESCRIPTION:
URL:https://www.monmouth.edu/events/event/virtual-internship-fall-career-day-2/
LOCATION:Online
CATEGORIES:Featured
ATTACH;FMTTYPE=image/jpeg:https://www.monmouth.edu/events/wp-content/uploads/sites/19/2020/10/Virtual-Fall-Career-Day-and-Internship-Fair.jpg
END:VEVENT
BEGIN:VEVENT
DTSTART;TZID=America/New_York:20201023T120000
DTEND;TZID=America/New_York:20201023T133000
DTSTAMP:20260423T064711
CREATED:20201014T144339Z
LAST-MODIFIED:20201014T144339Z
UID:40810110488-1603454400-1603459800@www.monmouth.edu
SUMMARY:Green Infrastructure and New Jersey Stormwater Management
DESCRIPTION:
URL:https://www.monmouth.edu/events/event/green-infrastructure-and-new-jersey-stormwater-management/
LOCATION:Online
CATEGORIES:Urban Coast Institute
ATTACH;FMTTYPE=image/jpeg:https://www.monmouth.edu/events/wp-content/uploads/sites/19/2020/10/green-infrastructure.jpg
END:VEVENT
BEGIN:VEVENT
DTSTART;TZID=America/New_York:20201021T120000
DTEND;TZID=America/New_York:20201021T130000
DTSTAMP:20260423T064711
CREATED:20200929T130318Z
LAST-MODIFIED:20200930T150740Z
UID:40810110449-1603281600-1603285200@www.monmouth.edu
SUMMARY:The Ocean Climate Action Plan: Building the Blue Economy for the 21st Century
DESCRIPTION:The Ocean Climate Action Plan: Building the Blue Economy for the 21st Century\nOctober 21\, 2020\n12:00 – 1:00 p.m.\nOnline\nDr. Scorce will discuss key projects that he is working on in food systems and ocean and coastal policy and why the International Environmental Policy (IEP) program at the Middlebury Institute of International Studies at Monterrey (MIIS) is unique. \nFor more information\, please contact Aliya Satku at asatku@monmouth.edu.
URL:https://www.monmouth.edu/events/event/the-ocean-climate-action-plan-building-the-blue-economy-for-the-21st-century/
LOCATION:Online
CATEGORIES:School of Science,Urban Coast Institute
ATTACH;FMTTYPE=image/jpeg:https://www.monmouth.edu/events/wp-content/uploads/sites/19/2020/09/OCAP-Event-Promo-Square.jpg
END:VEVENT
BEGIN:VEVENT
DTSTART;TZID=America/New_York:20201012T120000
DTEND;TZID=America/New_York:20201012T130000
DTSTAMP:20260423T064711
CREATED:20200922T130849Z
LAST-MODIFIED:20210519T153854Z
UID:40810110434-1602504000-1602507600@www.monmouth.edu
SUMMARY:Global Ocean Governance Lecture Series
DESCRIPTION:Antacids for the Sea: The Potential Role of Ocean Alkalinization Enhancement in Combating Climate Change\nDr. Wil Burns\nThe Institute for Carbon Removal Law and Policy at American University\nOctober 12\, 2020\n12-1 p.m.\nOnline \nIt is becoming increasingly clear that achievement of the Paris Agreement’s temperature targets will require both aggressive policies to reduce greenhouse gas emissions and large-scale deployment of so-called “carbon dioxide removal” options\, i.e. processes that remove carbon from the atmosphere to reduce radiative forcing. While much of the early research in this context focused on terrestrial options\, scalability and sustainability issues have led to increasing interest in ocean­-based approaches. This presentation focuses on one of the more promising options: Ocean Alkalinization Enhancement\, which seeks to enhance storage of carbon dioxide in the world’s oceans through the addition of limestone or other substances. The presentation will examine the potential effectiveness of this approach\, potential risks to ocean ecosystems\, and avenues for international governance.
URL:https://www.monmouth.edu/events/event/global-ocean-governance-lecture-series/
LOCATION:Online
CATEGORIES:Institute for Global Understanding,Virtual
ATTACH;FMTTYPE=image/jpeg:https://www.monmouth.edu/events/wp-content/uploads/sites/19/2020/09/IGU-UCI-Global-Ocean-Governance-Lecture-Series-Banner.jpg
END:VEVENT
BEGIN:VEVENT
DTSTART;TZID=America/New_York:20201003T100000
DTEND;TZID=America/New_York:20201003T120000
DTSTAMP:20260423T064711
CREATED:20200925T152142Z
LAST-MODIFIED:20200925T165142Z
UID:40810110440-1601719200-1601726400@www.monmouth.edu
SUMMARY:Virtual Graduate Studies Open House
DESCRIPTION:Students interested in exploring graduate programs at Monmouth University are invited to attend this virtual event. \nLearn more about our 20+ graduate programs\, the admission process\, and how affordable your advanced degree can be.
URL:https://www.monmouth.edu/events/event/virtual-graduate-studies-open-house-oct2020/
LOCATION:Online
CATEGORIES:Alumni
ATTACH;FMTTYPE=image/jpeg:https://www.monmouth.edu/events/wp-content/uploads/sites/19/2020/09/Bronze-Hawk-Graduate-Open-House.jpg
END:VEVENT
BEGIN:VEVENT
DTSTART;TZID=America/New_York:20201001T180000
DTEND;TZID=America/New_York:20201001T190000
DTSTAMP:20260423T064711
CREATED:20200923T190705Z
LAST-MODIFIED:20200924T180920Z
UID:40810110437-1601575200-1601578800@www.monmouth.edu
SUMMARY:A Beginner’s Guide to Starting a Hydroponic Garden at Home
DESCRIPTION:
URL:https://www.monmouth.edu/events/event/a-beginners-guide-to-starting-a-hydroponic-garden-at-home/
LOCATION:Online
CATEGORIES:Alumni,Alumni Events,Community Member,Current Student,Faculty,School of Social Work,Virtual
ATTACH;FMTTYPE=image/jpeg:https://www.monmouth.edu/events/wp-content/uploads/sites/19/2020/09/Hydroponic-Container.jpg
END:VEVENT
BEGIN:VEVENT
DTSTART;TZID=America/New_York:20200916T210000
DTEND;TZID=America/New_York:20200916T210000
DTSTAMP:20260423T064711
CREATED:20200908T205030Z
LAST-MODIFIED:20220418T191642Z
UID:40810110383-1600290000-1600290000@www.monmouth.edu
SUMMARY:Urban Bachata: The Black History of Bachata Dance
DESCRIPTION:Join Chi Upsilon Sigma National Latin Sorority Inc. and Lambda Theta Phi Latin Fraternity\, Incorporated\, for this interactive history of Bachata dance. The program will also include live dance instruction. \nThis event is just part of Hispanic Heritage Month\, presented by Monmouth University’s Intercultural Center. \nEach year\, Monmouth University observes National Hispanic Heritage Month from September 15 to October 15\, by celebrating the histories\, cultures\, and contributions of those whose ancestors came from Spain\, Mexico\, the Caribbean\, and Central and South America. Join the Hispanic Heritage Month Planning Committee for our month-long virtual event series including critical dialogues\, performances\, scholarship\, and speakers including legendary labor rights organizer and feminist activist Dolores Huerta\, president and founder of the Dolores Huerta Foundation.
URL:https://www.monmouth.edu/events/event/urban-bachata/
LOCATION:Online
CATEGORIES:Diversity and Inclusion,Intercultural Center,Intercultural Center Events,Virtual
ATTACH;FMTTYPE=image/jpeg:https://www.monmouth.edu/events/wp-content/uploads/sites/19/2020/09/urban-bachata.jpeg
END:VEVENT
BEGIN:VEVENT
DTSTART;VALUE=DATE:20200915
DTEND;VALUE=DATE:20201016
DTSTAMP:20260423T064711
CREATED:20200908T190740Z
LAST-MODIFIED:20200924T180922Z
UID:40810110380-1600128000-1602806399@www.monmouth.edu
SUMMARY:Hispanic Heritage Month
DESCRIPTION:
URL:https://www.monmouth.edu/events/event/hispanic-heritage-month/
LOCATION:Online
CATEGORIES:Alumni,Community Member,Current Student,Diversity and Inclusion,Faculty,Graduate Student,Intercultural Center,Lectures,Lectures/Workshops/Symposiums,Virtual
ATTACH;FMTTYPE=image/png:https://www.monmouth.edu/events/wp-content/uploads/sites/19/2020/09/HHM-2020-Individual-Flyers.png
END:VEVENT
BEGIN:VEVENT
DTSTART;TZID=America/New_York:20200512T110000
DTEND;TZID=America/New_York:20200512T160000
DTSTAMP:20260423T064711
CREATED:20200511T130417Z
LAST-MODIFIED:20200924T181802Z
UID:40810110266-1589281200-1589299200@www.monmouth.edu
SUMMARY:Virtual Career Day
DESCRIPTION:Click on Image for Registration to Attend the Virtual Career Day
URL:https://www.monmouth.edu/events/event/virtual-career-day/
LOCATION:Online
CATEGORIES:Current Student,Virtual
ATTACH;FMTTYPE=image/jpeg:https://www.monmouth.edu/events/wp-content/uploads/sites/19/2020/05/Virtual-Career-Day-5-12-20-Promo.jpg
ORGANIZER;CN="Career Services":MAILTO:careerservices@monmouth.edu
END:VEVENT
END:VCALENDAR