BEGIN:VCALENDAR
VERSION:2.0
PRODID:-//Events - ECPv6.15.20//NONSGML v1.0//EN
CALSCALE:GREGORIAN
METHOD:PUBLISH
X-ORIGINAL-URL:https://www.monmouth.edu/events
X-WR-CALDESC:Events for Events
REFRESH-INTERVAL;VALUE=DURATION:PT1H
X-Robots-Tag:noindex
X-PUBLISHED-TTL:PT1H
BEGIN:VTIMEZONE
TZID:America/New_York
BEGIN:DAYLIGHT
TZOFFSETFROM:-0500
TZOFFSETTO:-0400
TZNAME:EDT
DTSTART:20230312T070000
END:DAYLIGHT
BEGIN:STANDARD
TZOFFSETFROM:-0400
TZOFFSETTO:-0500
TZNAME:EST
DTSTART:20231105T060000
END:STANDARD
BEGIN:DAYLIGHT
TZOFFSETFROM:-0500
TZOFFSETTO:-0400
TZNAME:EDT
DTSTART:20240310T070000
END:DAYLIGHT
BEGIN:STANDARD
TZOFFSETFROM:-0400
TZOFFSETTO:-0500
TZNAME:EST
DTSTART:20241103T060000
END:STANDARD
BEGIN:DAYLIGHT
TZOFFSETFROM:-0500
TZOFFSETTO:-0400
TZNAME:EDT
DTSTART:20250309T070000
END:DAYLIGHT
BEGIN:STANDARD
TZOFFSETFROM:-0400
TZOFFSETTO:-0500
TZNAME:EST
DTSTART:20251102T060000
END:STANDARD
BEGIN:DAYLIGHT
TZOFFSETFROM:-0500
TZOFFSETTO:-0400
TZNAME:EDT
DTSTART:20260308T070000
END:DAYLIGHT
BEGIN:STANDARD
TZOFFSETFROM:-0400
TZOFFSETTO:-0500
TZNAME:EST
DTSTART:20261101T060000
END:STANDARD
END:VTIMEZONE
BEGIN:VEVENT
DTSTART;TZID=America/New_York:20250906T180000
DTEND;TZID=America/New_York:20250906T210000
DTSTAMP:20260421T232153
CREATED:20241219T144033Z
LAST-MODIFIED:20250906T184108Z
UID:40810117131-1757181600-1757192400@www.monmouth.edu
SUMMARY:Football at Fordham
DESCRIPTION:Monmouth University Football at Fordham\nStreaming Video: https://www.espn.com/watch/player/_/id/cd05d8ed-906a-4de0-8cb5-355e06005d00\nStreaming Audio: https://monmouthhawks.com/showcase?Live=132
URL:https://www.monmouth.edu/events/event/monmouth-university-football-at-fordham/
LOCATION:New York\, NY
CATEGORIES:Men's Football
END:VEVENT
BEGIN:VEVENT
DTSTART;TZID=America/New_York:20250401T150000
DTEND;TZID=America/New_York:20250401T180000
DTSTAMP:20260421T232153
CREATED:20250102T214101Z
LAST-MODIFIED:20250331T224112Z
UID:40810117407-1743519600-1743530400@www.monmouth.edu
SUMMARY:Baseball at Fordham
DESCRIPTION:Monmouth University Baseball at Fordham
URL:https://www.monmouth.edu/events/event/monmouth-university-baseball-at-fordham/
LOCATION:New York\, NY
CATEGORIES:Men's Baseball
END:VEVENT
BEGIN:VEVENT
DTSTART;TZID=America/New_York:20250215T000000
DTEND;TZID=America/New_York:20250215T235959
DTSTAMP:20260421T232153
CREATED:20241127T185516Z
LAST-MODIFIED:20250215T185608Z
UID:40810115914-1739577600-1739663999@www.monmouth.edu
SUMMARY:Women's Track and Field at NYU Invitational
DESCRIPTION:Monmouth University Women’s Track and Field at NYU Invitational
URL:https://www.monmouth.edu/events/event/monmouth-university-womens-track-and-field-at-nyu-invitational/
LOCATION:New York\, NY
CATEGORIES:Women's Track & Field
END:VEVENT
BEGIN:VEVENT
DTSTART;TZID=America/New_York:20250215T000000
DTEND;TZID=America/New_York:20250215T235959
DTSTAMP:20260421T232153
CREATED:20241126T191029Z
LAST-MODIFIED:20250215T194109Z
UID:40810115883-1739577600-1739663999@www.monmouth.edu
SUMMARY:Men's Track and Field at NYU Invitational
DESCRIPTION:Monmouth University Men’s Track and Field at NYU Invitational
URL:https://www.monmouth.edu/events/event/monmouth-university-mens-track-and-field-at-nyu-invitational/
LOCATION:New York\, NY
CATEGORIES:Men's Track & Field
END:VEVENT
BEGIN:VEVENT
DTSTART;TZID=America/New_York:20250131T000000
DTEND;TZID=America/New_York:20250131T235959
DTSTAMP:20260421T232153
CREATED:20241127T185516Z
LAST-MODIFIED:20250131T171109Z
UID:40810115905-1738281600-1738367999@www.monmouth.edu
SUMMARY:Women's Track and Field at Scarlet Knight Open
DESCRIPTION:Monmouth University Women’s Track and Field at Scarlet Knight Open
URL:https://www.monmouth.edu/events/event/monmouth-university-womens-track-and-field-at-scarlet-knight-open/
LOCATION:New York\, NY
CATEGORIES:Women's Track & Field
END:VEVENT
BEGIN:VEVENT
DTSTART;TZID=America/New_York:20250131T000000
DTEND;TZID=America/New_York:20250131T235959
DTSTAMP:20260421T232153
CREATED:20241126T191029Z
LAST-MODIFIED:20250131T184108Z
UID:40810115874-1738281600-1738367999@www.monmouth.edu
SUMMARY:Men's Track and Field at Scarlet Knight Open
DESCRIPTION:Monmouth University Men’s Track and Field at Scarlet Knight Open
URL:https://www.monmouth.edu/events/event/monmouth-university-mens-track-and-field-at-scarlet-knight-open/
LOCATION:New York\, NY
CATEGORIES:Men's Track & Field
END:VEVENT
BEGIN:VEVENT
DTSTART;TZID=America/New_York:20250124T000000
DTEND;TZID=America/New_York:20250124T235959
DTSTAMP:20260421T232153
CREATED:20241127T185515Z
LAST-MODIFIED:20250124T161107Z
UID:40810115902-1737676800-1737763199@www.monmouth.edu
SUMMARY:Women's Track and Field at Dr. Sander Invitational
DESCRIPTION:Monmouth University Women’s Track and Field at Dr. Sander Invitational
URL:https://www.monmouth.edu/events/event/monmouth-university-womens-track-and-field-at-dr-sander-invitational/
LOCATION:New York\, NY
CATEGORIES:Women's Track & Field
END:VEVENT
BEGIN:VEVENT
DTSTART;TZID=America/New_York:20250124T000000
DTEND;TZID=America/New_York:20250124T235959
DTSTAMP:20260421T232153
CREATED:20241126T191029Z
LAST-MODIFIED:20250124T181108Z
UID:40810115871-1737676800-1737763199@www.monmouth.edu
SUMMARY:Men's Track and Field at Dr. Sander Invitational
DESCRIPTION:Monmouth University Men’s Track and Field at Dr. Sander Invitational
URL:https://www.monmouth.edu/events/event/monmouth-university-mens-track-and-field-at-dr-sander-invitational/
LOCATION:New York\, NY
CATEGORIES:Men's Track & Field
END:VEVENT
BEGIN:VEVENT
DTSTART;TZID=America/New_York:20241103T090000
DTEND;TZID=America/New_York:20241103T140000
DTSTAMP:20260421T232153
CREATED:20241025T150407Z
LAST-MODIFIED:20241025T150407Z
UID:40810115156-1730624400-1730642400@www.monmouth.edu
SUMMARY:Village Pride Walking Tour NYC
DESCRIPTION:Join us on our Village Pride Walking Tour! On this tour around Greenwich Village\, we will visit historic sites where revolutions began\, riots were sparked\, and history was made. \nWe will see common threads within the LGBTQ+ generations who have lived life in New York City\, sharing their stories throughout the tour. You’ll also learn more about individual stories of Queer activists and the major political and social movements that have shaped the LGBTQ+ community over time. \nSites include the historic Stonewall Inn\, the Gay Liberation Monument\, the NYC AIDS Memorial\, the LGBT Community Center\, and more.
URL:https://www.monmouth.edu/events/event/village-pride-walking-tour-nyc/
LOCATION:New York\, NY
CATEGORIES:Artful Explorations of Gender,Current Student,Diversity and Inclusion,Faculty,Free,Intercultural Center Events
ORGANIZER;CN="Intercultural Center":MAILTO:Intercultural@monmouth.edu
END:VEVENT
BEGIN:VEVENT
DTSTART;TZID=America/New_York:20240922T130000
DTEND;TZID=America/New_York:20240922T160000
DTSTAMP:20260421T232153
CREATED:20240904T154120Z
LAST-MODIFIED:20240922T181108Z
UID:40810113551-1727010000-1727020800@www.monmouth.edu
SUMMARY:Field Hockey at Columbia
DESCRIPTION:Monmouth University Field Hockey at Columbia\nStreaming Video: https://www.espn.com/watch/player/_/id/532d1fde-9478-4220-bec2-6c1c95c782f2
URL:https://www.monmouth.edu/events/event/field-hockey-at-columbia/
LOCATION:New York\, NY
CATEGORIES:Women's Field Hockey
END:VEVENT
END:VCALENDAR