BEGIN:VCALENDAR
VERSION:2.0
PRODID:-//Events - ECPv6.15.20//NONSGML v1.0//EN
CALSCALE:GREGORIAN
METHOD:PUBLISH
X-WR-CALNAME:Events
X-ORIGINAL-URL:https://www.monmouth.edu/events
X-WR-CALDESC:Events for Events
REFRESH-INTERVAL;VALUE=DURATION:PT1H
X-Robots-Tag:noindex
X-PUBLISHED-TTL:PT1H
BEGIN:VTIMEZONE
TZID:America/New_York
BEGIN:DAYLIGHT
TZOFFSETFROM:-0500
TZOFFSETTO:-0400
TZNAME:EDT
DTSTART:20190310T070000
END:DAYLIGHT
BEGIN:STANDARD
TZOFFSETFROM:-0400
TZOFFSETTO:-0500
TZNAME:EST
DTSTART:20191103T060000
END:STANDARD
BEGIN:DAYLIGHT
TZOFFSETFROM:-0500
TZOFFSETTO:-0400
TZNAME:EDT
DTSTART:20200308T070000
END:DAYLIGHT
BEGIN:STANDARD
TZOFFSETFROM:-0400
TZOFFSETTO:-0500
TZNAME:EST
DTSTART:20201101T060000
END:STANDARD
BEGIN:DAYLIGHT
TZOFFSETFROM:-0500
TZOFFSETTO:-0400
TZNAME:EDT
DTSTART:20210314T070000
END:DAYLIGHT
BEGIN:STANDARD
TZOFFSETFROM:-0400
TZOFFSETTO:-0500
TZNAME:EST
DTSTART:20211107T060000
END:STANDARD
BEGIN:DAYLIGHT
TZOFFSETFROM:-0500
TZOFFSETTO:-0400
TZNAME:EDT
DTSTART:20220313T070000
END:DAYLIGHT
BEGIN:STANDARD
TZOFFSETFROM:-0400
TZOFFSETTO:-0500
TZNAME:EST
DTSTART:20221106T060000
END:STANDARD
END:VTIMEZONE
BEGIN:VEVENT
DTSTART;TZID=America/New_York:20210221T140000
DTEND;TZID=America/New_York:20210221T153000
DTSTAMP:20260422T010355
CREATED:20210122T212659Z
LAST-MODIFIED:20220207T213307Z
UID:40810110635-1613916000-1613921400@www.monmouth.edu
SUMMARY:Virtual Women's Leadership Celebration
DESCRIPTION:
URL:https://www.monmouth.edu/events/event/virtual-womens-leadership-celebration/
LOCATION:Live over Zoom
CATEGORIES:Alumni,Athletics,Community Member,Current Student,Faculty,Free,Lectures/Workshops/Symposiums,Media,Virtual
END:VEVENT
BEGIN:VEVENT
DTSTART;TZID=America/New_York:20210210T190000
DTEND;TZID=America/New_York:20210210T190000
DTSTAMP:20260422T010355
CREATED:20201015T204140Z
LAST-MODIFIED:20210316T130452Z
UID:40810110497-1612983600-1612983600@www.monmouth.edu
SUMMARY:Policing in Communities of Color
DESCRIPTION:A Conversation on Police Violence\, Black Lives Matter\, and Police Reform. \nPanelists\n\n\nLorenzo M. Boyd\, Ph.D.\, is a nationally recognized leader in police-community relations and an authority on urban policing. Boyd is the vice president for diversity & inclusion at the University of New Haven. As the former director of the Center for Advanced Policing and a life member of the National Organization of Black Law Enforcement Executives (NOBLE)\, Boyd has appeared on local\, regional\, and national media outlets to discuss policing in the aftermath of high-profile cases. \n\n\n\nJason Williams\, Ph.D.\, is an assistant professor of justice studies at Montclair State University. He is a passionate activist criminologist deeply concerned about racial disparity and mistreatment within the criminal legal system. Williams has conducted ethnographic research in Baltimore\, Maryland\, and Ferguson\, Missouri\, following the police-involved tragedies of Freddie Gray and Michael Brown. He recently published a co-edited book entitled Black Males and the Criminal Justice System. \n\n\n\nSean K. Wilson\, Ph.D.\, is an assistant professor in the Sociology and Criminal Justice Department at William Paterson University. As a community-based scholar\, Wilson’s research seeks to foreground the voices and lived experiences of the oppressed and marginalized. His research interests include reentry\, critical policing\, critical criminology\,reentry\, critical gang studies\, and race and justice. \n\n\n\nAndrea McChristian\, Esq.\, is the law and policy director at the New Jersey Institute for Social Justice. In this capacity\, she leads the implementation of the strategic vision and the director of the law and policy program. Andrea oversees the programmatic function of the institute’s three pillars of social justice: democracy and justice\, economic justice\, and criminal justice reform. Andrea previously served as the director of the institute’s Criminal Justice Reform Initiative and was the primary author of Bring Our Children Home: Ain’t I a Child\, which forms the basis of the 150 Years is Enough campaign. \n\n  \n\nOrganized by Marie Mele\, Ph.D.\, mmele@monmouth.edu \nSponsors: Intercultural Center; School of Humanities & Social Sciences\, Sociology program; and Helen Bennett McMurray Endowment for Social Ethics \nCollaborators: Program in Gender and Intersectionality Studies\,\nBlack and African Diaspora Forum United\, Black Student Union\, Students for Systemic Change\, Social Work Society\, Guardians Club\, and Global & Community Practice Action Group
URL:https://www.monmouth.edu/events/event/policing-in-communities-of-color/
LOCATION:Live over Zoom
CATEGORIES:Diversity and Inclusion,Free,Intercultural Center Events,School of Humanities and Social Sciences,Virtual
ATTACH;FMTTYPE=image/jpeg:https://www.monmouth.edu/events/wp-content/uploads/sites/19/2020/10/policereform.jpg
ORGANIZER;CN="Marie Mele":MAILTO:mmele@monmouth.edu
END:VEVENT
BEGIN:VEVENT
DTSTART;TZID=America/New_York:20200421T130000
DTEND;TZID=America/New_York:20200421T135000
DTSTAMP:20260422T010355
CREATED:20200415T150005Z
LAST-MODIFIED:20200924T181848Z
UID:40810110212-1587474000-1587477000@www.monmouth.edu
SUMMARY:VIRTUAL: Internships Could Lead You To Your Dream Job\, Here’s How To Land One
DESCRIPTION:Internships Could Lead You To Your Dream Job\, Here’s How To Land One\nPresented by Liz Wessel\, Co-Founder & CEO of WayUp\, a venture-backed startup based in NYC that transforms how employers recruit students and recent graduates \nTuesday\, April 21\, 2020 \n 1:00 – 1:50 p.m. EST \nLive over Zoom: Please RSVP to careerservices@monmouth.edu in order to receive the Zoom link. This event is open to all students and majors! \n\nResearch shows that participating in multiple internships in college helps you to secure employment or enter graduate school within six months of graduation. Yet with over 16 million students enrolled in degree-granting post-secondary institutions\, how do you stand out in a crowd for the internship of your dreams? \nFollow Liz Wessel’s secret formula — REAF — to nail any interview and land your next internship. From research to enthusiasm and asking questions to following up\, here’s how you stand out (and eventually wind up at your dream job). \n 
URL:https://www.monmouth.edu/events/event/internships-how-to-land-one/
LOCATION:Live over Zoom
CATEGORIES:Current Student,Virtual,Workshops and Professional Development
ATTACH;FMTTYPE=image/jpeg:https://www.monmouth.edu/events/wp-content/uploads/sites/19/2020/04/Virtual-Promo-Internships-How-To-Land-One.jpg
END:VEVENT
END:VCALENDAR