BEGIN:VCALENDAR
VERSION:2.0
PRODID:-//Events - ECPv6.15.20//NONSGML v1.0//EN
CALSCALE:GREGORIAN
METHOD:PUBLISH
X-ORIGINAL-URL:https://www.monmouth.edu/events
X-WR-CALDESC:Events for Events
REFRESH-INTERVAL;VALUE=DURATION:PT1H
X-Robots-Tag:noindex
X-PUBLISHED-TTL:PT1H
BEGIN:VTIMEZONE
TZID:America/New_York
BEGIN:DAYLIGHT
TZOFFSETFROM:-0500
TZOFFSETTO:-0400
TZNAME:EDT
DTSTART:20230312T070000
END:DAYLIGHT
BEGIN:STANDARD
TZOFFSETFROM:-0400
TZOFFSETTO:-0500
TZNAME:EST
DTSTART:20231105T060000
END:STANDARD
BEGIN:DAYLIGHT
TZOFFSETFROM:-0500
TZOFFSETTO:-0400
TZNAME:EDT
DTSTART:20240310T070000
END:DAYLIGHT
BEGIN:STANDARD
TZOFFSETFROM:-0400
TZOFFSETTO:-0500
TZNAME:EST
DTSTART:20241103T060000
END:STANDARD
BEGIN:DAYLIGHT
TZOFFSETFROM:-0500
TZOFFSETTO:-0400
TZNAME:EDT
DTSTART:20250309T070000
END:DAYLIGHT
BEGIN:STANDARD
TZOFFSETFROM:-0400
TZOFFSETTO:-0500
TZNAME:EST
DTSTART:20251102T060000
END:STANDARD
BEGIN:DAYLIGHT
TZOFFSETFROM:-0500
TZOFFSETTO:-0400
TZNAME:EDT
DTSTART:20260308T070000
END:DAYLIGHT
BEGIN:STANDARD
TZOFFSETFROM:-0400
TZOFFSETTO:-0500
TZNAME:EST
DTSTART:20261101T060000
END:STANDARD
END:VTIMEZONE
BEGIN:VEVENT
DTSTART;TZID=America/New_York:20250325T191500
DTEND;TZID=America/New_York:20250325T203000
DTSTAMP:20260423T021758
CREATED:20250318T144059Z
LAST-MODIFIED:20250318T144059Z
UID:40810119029-1742930100-1742934600@www.monmouth.edu
SUMMARY:Puppies and Popcorn at the Library
DESCRIPTION:Take a study break and come and enjoy a visit with the Seeing Eye Service puppies at the Guggenheim Memorial Library.
URL:https://www.monmouth.edu/events/event/puppies-and-popcorn-at-the-library/
LOCATION:Library Room 101 – 1st Floor
CATEGORIES:Social Events
ATTACH;FMTTYPE=image/jpeg:https://www.monmouth.edu/events/wp-content/uploads/sites/19/2025/03/20250325-puppies-popcorn.jpg
END:VEVENT
BEGIN:VEVENT
DTSTART;TZID=America/New_York:20250128T123000
DTEND;TZID=America/New_York:20250128T133000
DTSTAMP:20260423T021758
CREATED:20250127T140338Z
LAST-MODIFIED:20250127T140338Z
UID:40810118500-1738067400-1738071000@www.monmouth.edu
SUMMARY:Study Abroad in London "Pop Up" Information Session!
DESCRIPTION:Join us at our London Study Abroad information session! Speak with our study abroad student alumnae and our CIS Abroad partners about life in London and academics at the University of Westminster. Tuesday\, January 28th at 12:30pm to 1:30pm\, Guggenheim Library 101 Lounge.
URL:https://www.monmouth.edu/events/event/study-abroad-in-london-pop-up-information-session/
LOCATION:Guggenheim Memorial Library
ORGANIZER;CN="Global Education Office":MAILTO:geo@monmouth.edu
END:VEVENT
BEGIN:VEVENT
DTSTART;TZID=America/New_York:20241215T110000
DTEND;TZID=America/New_York:20241216T020000
DTSTAMP:20260423T021758
CREATED:20241205T152724Z
LAST-MODIFIED:20241205T152724Z
UID:40810115952-1734260400-1734314400@www.monmouth.edu
SUMMARY:Self-Service Gift Wrapping and Holiday Cards
DESCRIPTION:Create some holiday cheer by gift wrapping the things you got at the Holiday Bazaar on Thursday 12/12/2024 at our special wrapping event!
URL:https://www.monmouth.edu/events/event/self-service-gift-wrapping-and-holiday-cards-3/
LOCATION:Library Room 101 – 1st Floor
CATEGORIES:Featured Student Activites,Free
END:VEVENT
BEGIN:VEVENT
DTSTART;TZID=America/New_York:20241214T100000
DTEND;TZID=America/New_York:20241214T230000
DTSTAMP:20260423T021758
CREATED:20241205T152708Z
LAST-MODIFIED:20241205T152708Z
UID:40810115951-1734170400-1734217200@www.monmouth.edu
SUMMARY:Self-Service Gift Wrapping and Holiday Cards
DESCRIPTION:Create some holiday cheer by gift wrapping the things you got at the Holiday Bazaar on Thursday 12/12/2024 at our special wrapping event!
URL:https://www.monmouth.edu/events/event/self-service-gift-wrapping-and-holiday-cards-2/
LOCATION:Library Room 101 – 1st Floor
CATEGORIES:Featured Student Activites,Free
END:VEVENT
BEGIN:VEVENT
DTSTART;TZID=America/New_York:20241208T080000
DTEND;TZID=America/New_York:20241208T233000
DTSTAMP:20260423T021758
CREATED:20241205T152633Z
LAST-MODIFIED:20241205T152633Z
UID:40810115941-1733644800-1733700600@www.monmouth.edu
SUMMARY:Game Room
DESCRIPTION:Destress from finals with some games!
URL:https://www.monmouth.edu/events/event/game-room/
LOCATION:Library Room 101 – 1st Floor
CATEGORIES:Featured Student Activites,Free,Social Events
END:VEVENT
BEGIN:VEVENT
DTSTART;TZID=America/New_York:20241207T080000
DTEND;TZID=America/New_York:20241207T233000
DTSTAMP:20260423T021758
CREATED:20241205T152832Z
LAST-MODIFIED:20241205T152832Z
UID:40810115938-1733558400-1733614200@www.monmouth.edu
SUMMARY:Game Room
DESCRIPTION:Enjoy some games to de-stress for finals!
URL:https://www.monmouth.edu/events/event/game-room-2/
LOCATION:Library Room 101 – 1st Floor
CATEGORIES:Featured Student Activites,Free,Social Events
END:VEVENT
BEGIN:VEVENT
DTSTART;TZID=America/New_York:20240920T100000
DTEND;TZID=America/New_York:20240920T103000
DTSTAMP:20260423T021758
CREATED:20240830T134411Z
LAST-MODIFIED:20240830T134411Z
UID:40810113146-1726826400-1726828200@www.monmouth.edu
SUMMARY:Intro to the Library & Finding Your Library Space
DESCRIPTION:Presented by the University Librarian\, Kurt Wagner
URL:https://www.monmouth.edu/events/event/intro-to-the-library-finding-your-library-space-4/
LOCATION:Library Room 101 – 1st Floor
END:VEVENT
BEGIN:VEVENT
DTSTART;TZID=America/New_York:20240919T100000
DTEND;TZID=America/New_York:20240919T103000
DTSTAMP:20260423T021758
CREATED:20240830T134411Z
LAST-MODIFIED:20240830T134411Z
UID:40810113134-1726740000-1726741800@www.monmouth.edu
SUMMARY:Intro to the Library & Finding Your Library Space
DESCRIPTION:Presented by the University Librarian\, Kurt Wagner
URL:https://www.monmouth.edu/events/event/intro-to-the-library-finding-your-library-space-3/
LOCATION:Library Room 101 – 1st Floor
END:VEVENT
BEGIN:VEVENT
DTSTART;TZID=America/New_York:20240918T160000
DTEND;TZID=America/New_York:20240918T163000
DTSTAMP:20260423T021758
CREATED:20240830T134411Z
LAST-MODIFIED:20240830T134411Z
UID:40810113128-1726675200-1726677000@www.monmouth.edu
SUMMARY:Intro to the Library & Preparing for Voting
DESCRIPTION:Presented by Specialist Librarian\, Lisa Iannucci
URL:https://www.monmouth.edu/events/event/intro-to-the-library-preparing-for-voting-2/
LOCATION:Library Room 101 – 1st Floor
END:VEVENT
BEGIN:VEVENT
DTSTART;TZID=America/New_York:20240918T100000
DTEND;TZID=America/New_York:20240918T103000
DTSTAMP:20260423T021758
CREATED:20240830T134410Z
LAST-MODIFIED:20240830T134410Z
UID:40810113113-1726653600-1726655400@www.monmouth.edu
SUMMARY:Intro to the Library & Finding Your Library Space
DESCRIPTION:Presented by the University Librarian\, Kurt Wagner
URL:https://www.monmouth.edu/events/event/intro-to-the-library-finding-your-library-space-2/
LOCATION:Library Room 101 – 1st Floor
END:VEVENT
BEGIN:VEVENT
DTSTART;TZID=America/New_York:20240916T100000
DTEND;TZID=America/New_York:20240916T103000
DTSTAMP:20260423T021758
CREATED:20240830T134410Z
LAST-MODIFIED:20240830T134410Z
UID:40810113086-1726480800-1726482600@www.monmouth.edu
SUMMARY:Intro to the Library & Finding Your Library Space
DESCRIPTION:Presented by the University Librarian\, Kurt Wagner
URL:https://www.monmouth.edu/events/event/intro-to-the-library-finding-your-library-space/
LOCATION:Library Room 101 – 1st Floor
END:VEVENT
END:VCALENDAR