BEGIN:VCALENDAR
VERSION:2.0
PRODID:-//Events - ECPv6.15.20//NONSGML v1.0//EN
CALSCALE:GREGORIAN
METHOD:PUBLISH
X-WR-CALNAME:Events
X-ORIGINAL-URL:https://www.monmouth.edu/events
X-WR-CALDESC:Events for Events
REFRESH-INTERVAL;VALUE=DURATION:PT1H
X-Robots-Tag:noindex
X-PUBLISHED-TTL:PT1H
BEGIN:VTIMEZONE
TZID:America/New_York
BEGIN:DAYLIGHT
TZOFFSETFROM:-0500
TZOFFSETTO:-0400
TZNAME:EDT
DTSTART:20230312T070000
END:DAYLIGHT
BEGIN:STANDARD
TZOFFSETFROM:-0400
TZOFFSETTO:-0500
TZNAME:EST
DTSTART:20231105T060000
END:STANDARD
BEGIN:DAYLIGHT
TZOFFSETFROM:-0500
TZOFFSETTO:-0400
TZNAME:EDT
DTSTART:20240310T070000
END:DAYLIGHT
BEGIN:STANDARD
TZOFFSETFROM:-0400
TZOFFSETTO:-0500
TZNAME:EST
DTSTART:20241103T060000
END:STANDARD
BEGIN:DAYLIGHT
TZOFFSETFROM:-0500
TZOFFSETTO:-0400
TZNAME:EDT
DTSTART:20250309T070000
END:DAYLIGHT
BEGIN:STANDARD
TZOFFSETFROM:-0400
TZOFFSETTO:-0500
TZNAME:EST
DTSTART:20251102T060000
END:STANDARD
END:VTIMEZONE
BEGIN:VEVENT
DTSTART;TZID=America/New_York:20241005T130000
DTEND;TZID=America/New_York:20241005T160000
DTSTAMP:20260424T170952
CREATED:20240828T183521Z
LAST-MODIFIED:20241005T192616Z
UID:40810112744-1728133200-1728144000@www.monmouth.edu
SUMMARY:Football vs Delaware - Tackle Cancer presented by RWJBarnabas Health
DESCRIPTION:Monmouth University Football vs Delaware – Tackle Cancer presented by RWJBarnabas Health\nStreaming Video: https://my.flosports.tv/partner/caa?utm_campaign=caa&utm_medium=partner&utm_source=teams&utm_content=teams&rtid=monmouth&coverage_id=\nTickets: https://mpv.tickets.com/schedule/?orgid=44869&agency=MNMV_PLAGENCY_MPV&ccid=MNMV#/?venue=athletics&view=list&includePackages=false
URL:https://www.monmouth.edu/events/event/monmouth-university-football-vs-delaware-cancer-awareness-game-2/
LOCATION:Kessler Stadium\, 107 Larchwood Ave\, West Long Branch\, NJ\, United States
CATEGORIES:Men's Football
GEO:40.279417;-74.010815
X-APPLE-STRUCTURED-LOCATION;VALUE=URI;X-ADDRESS=Kessler Stadium 107 Larchwood Ave West Long Branch NJ United States;X-APPLE-RADIUS=500;X-TITLE=107 Larchwood Ave:geo:-74.010815,40.279417
END:VEVENT
BEGIN:VEVENT
DTSTART;TZID=America/New_York:20240928T130000
DTEND;TZID=America/New_York:20240928T160000
DTSTAMP:20260424T170952
CREATED:20240828T183521Z
LAST-MODIFIED:20240928T191109Z
UID:40810112741-1727528400-1727539200@www.monmouth.edu
SUMMARY:Football vs Fordham - Family Weekend
DESCRIPTION:Monmouth University Football vs Fordham – Family Weekend\nStreaming Video: https://my.flosports.tv/partner/caa?utm_campaign=caa&utm_medium=partner&utm_source=teams&utm_content=teams&rtid=monmouth&coverage_id=\nTickets: https://mpv.tickets.com/schedule/?orgid=44869&agency=MNMV_PLAGENCY_MPV&ccid=MNMV#/?venue=athletics&view=list&includePackages=false
URL:https://www.monmouth.edu/events/event/monmouth-university-football-vs-fordham-family-weekend-2/
LOCATION:Kessler Stadium\, 107 Larchwood Ave\, West Long Branch\, NJ\, United States
CATEGORIES:Men's Football
GEO:40.279417;-74.010815
X-APPLE-STRUCTURED-LOCATION;VALUE=URI;X-ADDRESS=Kessler Stadium 107 Larchwood Ave West Long Branch NJ United States;X-APPLE-RADIUS=500;X-TITLE=107 Larchwood Ave:geo:-74.010815,40.279417
END:VEVENT
BEGIN:VEVENT
DTSTART;TZID=America/New_York:20240907T120000
DTEND;TZID=America/New_York:20240907T150000
DTSTAMP:20260424T170952
CREATED:20240828T183521Z
LAST-MODIFIED:20240907T165808Z
UID:40810112732-1725710400-1725721200@www.monmouth.edu
SUMMARY:Football vs Lafayette - Local Summer Kickoff & Youth Football Day
DESCRIPTION:Monmouth University Football vs Lafayette – Local Summer Kickoff & Youth Football Day\nStreaming Video: https://my.flosports.tv/partner/caa?utm_campaign=caa&utm_medium=partner&utm_source=teams&utm_content=teams&rtid=monmouth&coverage_id=\nTickets: https://mpv.tickets.com/schedule/?orgid=44869&agency=MNMV_PLAGENCY_MPV&ccid=MNMV#/?venue=athletics&view=list&includePackages=false
URL:https://www.monmouth.edu/events/event/monmouth-university-football-vs-lafayette-local-summer-kickoff-youth-football-day-2/
LOCATION:Kessler Stadium\, 107 Larchwood Ave\, West Long Branch\, NJ\, United States
CATEGORIES:Men's Football
GEO:40.279417;-74.010815
X-APPLE-STRUCTURED-LOCATION;VALUE=URI;X-ADDRESS=Kessler Stadium 107 Larchwood Ave West Long Branch NJ United States;X-APPLE-RADIUS=500;X-TITLE=107 Larchwood Ave:geo:-74.010815,40.279417
END:VEVENT
BEGIN:VEVENT
DTSTART;TZID=America/New_York:20240907T100000
DTEND;TZID=America/New_York:20240907T120000
DTSTAMP:20260424T170952
CREATED:20240830T134409Z
LAST-MODIFIED:20240830T184646Z
UID:40810113026-1725703200-1725710400@www.monmouth.edu
SUMMARY:First-Year Football Frenzy
DESCRIPTION:
URL:https://www.monmouth.edu/events/event/first-year-football-frenzy/
LOCATION:Kessler Stadium\, 107 Larchwood Ave\, West Long Branch\, NJ\, United States
GEO:40.279417;-74.010815
X-APPLE-STRUCTURED-LOCATION;VALUE=URI;X-ADDRESS=Kessler Stadium 107 Larchwood Ave West Long Branch NJ United States;X-APPLE-RADIUS=500;X-TITLE=107 Larchwood Ave:geo:-74.010815,40.279417
END:VEVENT
BEGIN:VEVENT
DTSTART;TZID=America/New_York:20240831T100000
DTEND;TZID=America/New_York:20240831T113000
DTSTAMP:20260424T170952
CREATED:20240830T134405Z
LAST-MODIFIED:20240830T140439Z
UID:40810112846-1725098400-1725103800@www.monmouth.edu
SUMMARY:PlayFair
DESCRIPTION:
URL:https://www.monmouth.edu/events/event/playfair/
LOCATION:Kessler Stadium\, 107 Larchwood Ave\, West Long Branch\, NJ\, United States
GEO:40.279417;-74.010815
X-APPLE-STRUCTURED-LOCATION;VALUE=URI;X-ADDRESS=Kessler Stadium 107 Larchwood Ave West Long Branch NJ United States;X-APPLE-RADIUS=500;X-TITLE=107 Larchwood Ave:geo:-74.010815,40.279417
END:VEVENT
BEGIN:VEVENT
DTSTART;TZID=America/New_York:20240831T093000
DTEND;TZID=America/New_York:20240831T100000
DTSTAMP:20260424T170952
CREATED:20240830T134405Z
LAST-MODIFIED:20240830T140429Z
UID:40810112843-1725096600-1725098400@www.monmouth.edu
SUMMARY:Commuter NSO Check-In
DESCRIPTION:
URL:https://www.monmouth.edu/events/event/commuter-nso-check-in/
LOCATION:Kessler Stadium\, 107 Larchwood Ave\, West Long Branch\, NJ\, United States
GEO:40.279417;-74.010815
X-APPLE-STRUCTURED-LOCATION;VALUE=URI;X-ADDRESS=Kessler Stadium 107 Larchwood Ave West Long Branch NJ United States;X-APPLE-RADIUS=500;X-TITLE=107 Larchwood Ave:geo:-74.010815,40.279417
END:VEVENT
BEGIN:VEVENT
DTSTART;TZID=America/New_York:20240830T161500
DTEND;TZID=America/New_York:20240830T164500
DTSTAMP:20260424T170952
CREATED:20240830T134405Z
LAST-MODIFIED:20240830T135108Z
UID:40810112819-1725034500-1725036300@www.monmouth.edu
SUMMARY:NSO Welcome & Class Photo
DESCRIPTION:
URL:https://www.monmouth.edu/events/event/nso-welcome-class-photo/
LOCATION:Kessler Stadium\, 107 Larchwood Ave\, West Long Branch\, NJ\, United States
GEO:40.279417;-74.010815
X-APPLE-STRUCTURED-LOCATION;VALUE=URI;X-ADDRESS=Kessler Stadium 107 Larchwood Ave West Long Branch NJ United States;X-APPLE-RADIUS=500;X-TITLE=107 Larchwood Ave:geo:-74.010815,40.279417
END:VEVENT
BEGIN:VEVENT
DTSTART;TZID=America/New_York:20240830T154500
DTEND;TZID=America/New_York:20240830T160000
DTSTAMP:20260424T170952
CREATED:20240830T134405Z
LAST-MODIFIED:20240830T135123Z
UID:40810112816-1725032700-1725033600@www.monmouth.edu
SUMMARY:Commuter Student NSO Check In
DESCRIPTION:
URL:https://www.monmouth.edu/events/event/commuter-student-nso-check-in/
LOCATION:Kessler Stadium\, 107 Larchwood Ave\, West Long Branch\, NJ\, United States
GEO:40.279417;-74.010815
X-APPLE-STRUCTURED-LOCATION;VALUE=URI;X-ADDRESS=Kessler Stadium 107 Larchwood Ave West Long Branch NJ United States;X-APPLE-RADIUS=500;X-TITLE=107 Larchwood Ave:geo:-74.010815,40.279417
END:VEVENT
END:VCALENDAR