BEGIN:VCALENDAR
VERSION:2.0
PRODID:-//Events - ECPv6.15.20//NONSGML v1.0//EN
CALSCALE:GREGORIAN
METHOD:PUBLISH
X-WR-CALNAME:Events
X-ORIGINAL-URL:https://www.monmouth.edu/events
X-WR-CALDESC:Events for Events
REFRESH-INTERVAL;VALUE=DURATION:PT1H
X-Robots-Tag:noindex
X-PUBLISHED-TTL:PT1H
BEGIN:VTIMEZONE
TZID:America/New_York
BEGIN:DAYLIGHT
TZOFFSETFROM:-0500
TZOFFSETTO:-0400
TZNAME:EDT
DTSTART:20230312T070000
END:DAYLIGHT
BEGIN:STANDARD
TZOFFSETFROM:-0400
TZOFFSETTO:-0500
TZNAME:EST
DTSTART:20231105T060000
END:STANDARD
BEGIN:DAYLIGHT
TZOFFSETFROM:-0500
TZOFFSETTO:-0400
TZNAME:EDT
DTSTART:20240310T070000
END:DAYLIGHT
BEGIN:STANDARD
TZOFFSETFROM:-0400
TZOFFSETTO:-0500
TZNAME:EST
DTSTART:20241103T060000
END:STANDARD
BEGIN:DAYLIGHT
TZOFFSETFROM:-0500
TZOFFSETTO:-0400
TZNAME:EDT
DTSTART:20250309T070000
END:DAYLIGHT
BEGIN:STANDARD
TZOFFSETFROM:-0400
TZOFFSETTO:-0500
TZNAME:EST
DTSTART:20251102T060000
END:STANDARD
BEGIN:DAYLIGHT
TZOFFSETFROM:-0500
TZOFFSETTO:-0400
TZNAME:EDT
DTSTART:20260308T070000
END:DAYLIGHT
BEGIN:STANDARD
TZOFFSETFROM:-0400
TZOFFSETTO:-0500
TZNAME:EST
DTSTART:20261101T060000
END:STANDARD
END:VTIMEZONE
BEGIN:VEVENT
DTSTART;TZID=America/New_York:20250419T140000
DTEND;TZID=America/New_York:20250419T170000
DTSTAMP:20260424T152946
CREATED:20241223T162526Z
LAST-MODIFIED:20250419T161110Z
UID:40810117205-1745071200-1745082000@www.monmouth.edu
SUMMARY:Men's Lacrosse vs Delaware
DESCRIPTION:Monmouth University Men’s Lacrosse vs Delaware\nStreaming Video: https://go.flosports.tv/partner/caa?utm_campaign=caa&utm_medium=partner&utm_source=teams&utm_content=teams&rtid=monmouth&coverage_id=\nTickets: https://mpv.tickets.com/schedule/?agency=MNMV_PLAGENCY_MPV&orgid=44869#/?event=lacrosse&view=list&includePackages=true
URL:https://www.monmouth.edu/events/event/monmouth-university-mens-lacrosse-vs-delaware/
LOCATION:Kessler Stadium\, 107 Larchwood Ave\, West Long Branch\, NJ\, United States
CATEGORIES:Men's Lacrosse
GEO:40.279417;-74.010815
X-APPLE-STRUCTURED-LOCATION;VALUE=URI;X-ADDRESS=Kessler Stadium 107 Larchwood Ave West Long Branch NJ United States;X-APPLE-RADIUS=500;X-TITLE=107 Larchwood Ave:geo:-74.010815,40.279417
END:VEVENT
BEGIN:VEVENT
DTSTART;TZID=America/New_York:20250419T110000
DTEND;TZID=America/New_York:20250419T140000
DTSTAMP:20260424T152946
CREATED:20241227T185528Z
LAST-MODIFIED:20250418T201109Z
UID:40810117255-1745060400-1745071200@www.monmouth.edu
SUMMARY:Women's Lacrosse vs Hofstra
DESCRIPTION:Monmouth University Women’s Lacrosse vs Hofstra\nStreaming Video: https://go.flosports.tv/partner/caa?utm_campaign=caa&utm_medium=partner&utm_source=teams&utm_content=teams&rtid=monmouth&coverage_id=
URL:https://www.monmouth.edu/events/event/monmouth-university-womens-lacrosse-vs-hofstra/
LOCATION:Kessler Stadium\, 107 Larchwood Ave\, West Long Branch\, NJ\, United States
CATEGORIES:Women's Lacrosse
GEO:40.279417;-74.010815
X-APPLE-STRUCTURED-LOCATION;VALUE=URI;X-ADDRESS=Kessler Stadium 107 Larchwood Ave West Long Branch NJ United States;X-APPLE-RADIUS=500;X-TITLE=107 Larchwood Ave:geo:-74.010815,40.279417
END:VEVENT
BEGIN:VEVENT
DTSTART;TZID=America/New_York:20250410T150000
DTEND;TZID=America/New_York:20250410T180000
DTSTAMP:20260424T152946
CREATED:20241227T185527Z
LAST-MODIFIED:20250410T194109Z
UID:40810117252-1744297200-1744308000@www.monmouth.edu
SUMMARY:Women's Lacrosse vs Drexel
DESCRIPTION:Monmouth University Women’s Lacrosse vs Drexel\nStreaming Video: https://go.flosports.tv/partner/caa?utm_campaign=caa&utm_medium=partner&utm_source=teams&utm_content=teams&rtid=monmouth&coverage_id=
URL:https://www.monmouth.edu/events/event/monmouth-university-womens-lacrosse-vs-drexel/
LOCATION:Kessler Stadium\, 107 Larchwood Ave\, West Long Branch\, NJ\, United States
CATEGORIES:Women's Lacrosse
GEO:40.279417;-74.010815
X-APPLE-STRUCTURED-LOCATION;VALUE=URI;X-ADDRESS=Kessler Stadium 107 Larchwood Ave West Long Branch NJ United States;X-APPLE-RADIUS=500;X-TITLE=107 Larchwood Ave:geo:-74.010815,40.279417
END:VEVENT
BEGIN:VEVENT
DTSTART;TZID=America/New_York:20250405T120000
DTEND;TZID=America/New_York:20250405T150000
DTSTAMP:20260424T152946
CREATED:20241223T162514Z
LAST-MODIFIED:20250405T151109Z
UID:40810117200-1743854400-1743865200@www.monmouth.edu
SUMMARY:Men's Lacrosse vs Towson
DESCRIPTION:Monmouth University Men’s Lacrosse vs Towson\nStreaming Video: https://go.flosports.tv/partner/caa?utm_campaign=caa&utm_medium=partner&utm_source=teams&utm_content=teams&rtid=monmouth&coverage_id=\nTickets: https://mpv.tickets.com/schedule/?agency=MNMV_PLAGENCY_MPV&orgid=44869#/?event=lacrosse&view=list&includePackages=true
URL:https://www.monmouth.edu/events/event/monmouth-university-mens-lacrosse-vs-towson/
LOCATION:Kessler Stadium\, 107 Larchwood Ave\, West Long Branch\, NJ\, United States
CATEGORIES:Men's Lacrosse
GEO:40.279417;-74.010815
X-APPLE-STRUCTURED-LOCATION;VALUE=URI;X-ADDRESS=Kessler Stadium 107 Larchwood Ave West Long Branch NJ United States;X-APPLE-RADIUS=500;X-TITLE=107 Larchwood Ave:geo:-74.010815,40.279417
END:VEVENT
BEGIN:VEVENT
DTSTART;TZID=America/New_York:20250330T130000
DTEND;TZID=America/New_York:20250330T160000
DTSTAMP:20260424T152946
CREATED:20241227T185527Z
LAST-MODIFIED:20250330T181108Z
UID:40810117246-1743339600-1743350400@www.monmouth.edu
SUMMARY:Women's Lacrosse vs Delaware
DESCRIPTION:Monmouth University Women’s Lacrosse vs Delaware\nStreaming Video: https://go.flosports.tv/partner/caa?utm_campaign=caa&utm_medium=partner&utm_source=teams&utm_content=teams&rtid=monmouth&coverage_id=
URL:https://www.monmouth.edu/events/event/monmouth-university-womens-lacrosse-vs-delaware/
LOCATION:Kessler Stadium\, 107 Larchwood Ave\, West Long Branch\, NJ\, United States
CATEGORIES:Women's Lacrosse
GEO:40.279417;-74.010815
X-APPLE-STRUCTURED-LOCATION;VALUE=URI;X-ADDRESS=Kessler Stadium 107 Larchwood Ave West Long Branch NJ United States;X-APPLE-RADIUS=500;X-TITLE=107 Larchwood Ave:geo:-74.010815,40.279417
END:VEVENT
BEGIN:VEVENT
DTSTART;TZID=America/New_York:20250329T000000
DTEND;TZID=America/New_York:20250329T235959
DTSTAMP:20260424T152946
CREATED:20250326T214030Z
LAST-MODIFIED:20250329T214108Z
UID:40810119054-1743206400-1743292799@www.monmouth.edu
SUMMARY:Women's Track and Field vs Monmouth Season Opener
DESCRIPTION:Monmouth University Women’s Track and Field vs Monmouth Season Opener\nStreaming Video: https://go.flosports.tv/partner/caa?utm_campaign=caa&utm_medium=partner&utm_source=teams&utm_content=teams&rtid=monmouth&coverage_id=
URL:https://www.monmouth.edu/events/event/monmouth-university-womens-track-and-field-vs-monmouth-season-opener-2/
LOCATION:Kessler Stadium\, 107 Larchwood Ave\, West Long Branch\, NJ\, United States
CATEGORIES:Women's Track & Field
GEO:40.279417;-74.010815
X-APPLE-STRUCTURED-LOCATION;VALUE=URI;X-ADDRESS=Kessler Stadium 107 Larchwood Ave West Long Branch NJ United States;X-APPLE-RADIUS=500;X-TITLE=107 Larchwood Ave:geo:-74.010815,40.279417
END:VEVENT
BEGIN:VEVENT
DTSTART;TZID=America/New_York:20250329T000000
DTEND;TZID=America/New_York:20250329T235959
DTSTAMP:20260424T152946
CREATED:20250326T174034Z
LAST-MODIFIED:20250329T175609Z
UID:40810119046-1743206400-1743292799@www.monmouth.edu
SUMMARY:Men's Track and Field vs Monmouth Season Opener
DESCRIPTION:Monmouth University Men’s Track and Field vs Monmouth Season Opener\nStreaming Video: https://go.flosports.tv/partner/caa?utm_campaign=caa&utm_medium=partner&utm_source=teams&utm_content=teams&rtid=monmouth&coverage_id=
URL:https://www.monmouth.edu/events/event/monmouth-university-mens-track-and-field-vs-monmouth-season-opener-2/
LOCATION:Kessler Stadium\, 107 Larchwood Ave\, West Long Branch\, NJ\, United States
CATEGORIES:Men's Track & Field
GEO:40.279417;-74.010815
X-APPLE-STRUCTURED-LOCATION;VALUE=URI;X-ADDRESS=Kessler Stadium 107 Larchwood Ave West Long Branch NJ United States;X-APPLE-RADIUS=500;X-TITLE=107 Larchwood Ave:geo:-74.010815,40.279417
END:VEVENT
BEGIN:VEVENT
DTSTART;TZID=America/New_York:20250328T000000
DTEND;TZID=America/New_York:20250328T235959
DTSTAMP:20260424T152946
CREATED:20250119T174031Z
LAST-MODIFIED:20250328T174108Z
UID:40810117964-1743120000-1743206399@www.monmouth.edu
SUMMARY:Men's Track and Field vs Monmouth Season Opener
DESCRIPTION:Monmouth University Men’s Track and Field vs Monmouth Season Opener
URL:https://www.monmouth.edu/events/event/monmouth-university-mens-track-and-field-vs-monmouth-season-opener/
LOCATION:Kessler Stadium\, 107 Larchwood Ave\, West Long Branch\, NJ\, United States
CATEGORIES:Men's Track & Field
GEO:40.279417;-74.010815
X-APPLE-STRUCTURED-LOCATION;VALUE=URI;X-ADDRESS=Kessler Stadium 107 Larchwood Ave West Long Branch NJ United States;X-APPLE-RADIUS=500;X-TITLE=107 Larchwood Ave:geo:-74.010815,40.279417
END:VEVENT
BEGIN:VEVENT
DTSTART;TZID=America/New_York:20250328T000000
DTEND;TZID=America/New_York:20250328T235959
DTSTAMP:20260424T152946
CREATED:20250119T154032Z
LAST-MODIFIED:20250328T214108Z
UID:40810117930-1743120000-1743206399@www.monmouth.edu
SUMMARY:Women's Track and Field vs Monmouth Season Opener
DESCRIPTION:Monmouth University Women’s Track and Field vs Monmouth Season Opener
URL:https://www.monmouth.edu/events/event/monmouth-university-womens-track-and-field-vs-monmouth-season-opener/
LOCATION:Kessler Stadium\, 107 Larchwood Ave\, West Long Branch\, NJ\, United States
CATEGORIES:Women's Track & Field
GEO:40.279417;-74.010815
X-APPLE-STRUCTURED-LOCATION;VALUE=URI;X-ADDRESS=Kessler Stadium 107 Larchwood Ave West Long Branch NJ United States;X-APPLE-RADIUS=500;X-TITLE=107 Larchwood Ave:geo:-74.010815,40.279417
END:VEVENT
BEGIN:VEVENT
DTSTART;TZID=America/New_York:20250322T120000
DTEND;TZID=America/New_York:20250322T150000
DTSTAMP:20260424T152946
CREATED:20241223T162514Z
LAST-MODIFIED:20250321T235608Z
UID:40810117194-1742644800-1742655600@www.monmouth.edu
SUMMARY:Men's Lacrosse vs Hofstra - Senior Day
DESCRIPTION:Monmouth University Men’s Lacrosse vs Hofstra – Senior Day\nStreaming Video: https://go.flosports.tv/partner/caa?utm_campaign=caa&utm_medium=partner&utm_source=teams&utm_content=teams&rtid=monmouth&coverage_id=\nTickets: https://mpv.tickets.com/schedule/?agency=MNMV_PLAGENCY_MPV&orgid=44869#/?event=lacrosse&view=list&includePackages=true
URL:https://www.monmouth.edu/events/event/monmouth-university-mens-lacrosse-vs-hofstra/
LOCATION:Kessler Stadium\, 107 Larchwood Ave\, West Long Branch\, NJ\, United States
CATEGORIES:Men's Lacrosse
GEO:40.279417;-74.010815
X-APPLE-STRUCTURED-LOCATION;VALUE=URI;X-ADDRESS=Kessler Stadium 107 Larchwood Ave West Long Branch NJ United States;X-APPLE-RADIUS=500;X-TITLE=107 Larchwood Ave:geo:-74.010815,40.279417
END:VEVENT
BEGIN:VEVENT
DTSTART;TZID=America/New_York:20250315T120000
DTEND;TZID=America/New_York:20250315T150000
DTSTAMP:20260424T152946
CREATED:20250115T154140Z
LAST-MODIFIED:20250115T154140Z
UID:40810117880-1742040000-1742050800@www.monmouth.edu
SUMMARY:Women's Lacrosse vs Elon
DESCRIPTION:Join our Monmouth Women’s Lacrosse vs Elon
URL:https://www.monmouth.edu/events/event/womens-lacrosse-vs-elon/
LOCATION:Kessler Stadium\, 107 Larchwood Ave\, West Long Branch\, NJ\, United States
CATEGORIES:Athletics,Women's Lacrosse
GEO:40.279417;-74.010815
X-APPLE-STRUCTURED-LOCATION;VALUE=URI;X-ADDRESS=Kessler Stadium 107 Larchwood Ave West Long Branch NJ United States;X-APPLE-RADIUS=500;X-TITLE=107 Larchwood Ave:geo:-74.010815,40.279417
END:VEVENT
BEGIN:VEVENT
DTSTART;TZID=America/New_York:20250305T143000
DTEND;TZID=America/New_York:20250305T173000
DTSTAMP:20260424T152946
CREATED:20241223T162514Z
LAST-MODIFIED:20250305T222609Z
UID:40810117185-1741185000-1741195800@www.monmouth.edu
SUMMARY:Men's Lacrosse vs NJIT
DESCRIPTION:Monmouth University Men’s Lacrosse vs NJIT\nW 18-4\nStreaming Video: https://go.flosports.tv/partner/caa?utm_campaign=caa&utm_medium=partner&utm_source=teams&utm_content=teams&rtid=monmouth&coverage_id=\nTickets: https://mpv.tickets.com/schedule/?agency=MNMV_PLAGENCY_MPV&orgid=44869#/?event=lacrosse&view=list&includePackages=true
URL:https://www.monmouth.edu/events/event/monmouth-university-mens-lacrosse-vs-njit/
LOCATION:Kessler Stadium\, 107 Larchwood Ave\, West Long Branch\, NJ\, United States
CATEGORIES:Men's Lacrosse
GEO:40.279417;-74.010815
X-APPLE-STRUCTURED-LOCATION;VALUE=URI;X-ADDRESS=Kessler Stadium 107 Larchwood Ave West Long Branch NJ United States;X-APPLE-RADIUS=500;X-TITLE=107 Larchwood Ave:geo:-74.010815,40.279417
END:VEVENT
BEGIN:VEVENT
DTSTART;TZID=America/New_York:20250222T130000
DTEND;TZID=America/New_York:20250222T160000
DTSTAMP:20260424T152946
CREATED:20241227T185513Z
LAST-MODIFIED:20250222T154111Z
UID:40810117224-1740229200-1740240000@www.monmouth.edu
SUMMARY:Women's Lacrosse vs Columbia
DESCRIPTION:Monmouth University Women’s Lacrosse vs Columbia\nStreaming Video: https://go.flosports.tv/partner/caa?utm_campaign=caa&utm_medium=partner&utm_source=teams&utm_content=teams&rtid=monmouth&coverage_id=
URL:https://www.monmouth.edu/events/event/monmouth-university-womens-lacrosse-vs-columbia/
LOCATION:Kessler Stadium\, 107 Larchwood Ave\, West Long Branch\, NJ\, United States
CATEGORIES:Women's Lacrosse
GEO:40.279417;-74.010815
X-APPLE-STRUCTURED-LOCATION;VALUE=URI;X-ADDRESS=Kessler Stadium 107 Larchwood Ave West Long Branch NJ United States;X-APPLE-RADIUS=500;X-TITLE=107 Larchwood Ave:geo:-74.010815,40.279417
END:VEVENT
BEGIN:VEVENT
DTSTART;TZID=America/New_York:20250215T140000
DTEND;TZID=America/New_York:20250215T170000
DTSTAMP:20260424T152946
CREATED:20241227T185513Z
LAST-MODIFIED:20250215T152609Z
UID:40810117221-1739628000-1739638800@www.monmouth.edu
SUMMARY:Women's Lacrosse vs Bryant
DESCRIPTION:Monmouth University Women’s Lacrosse vs Bryant\nStreaming Video: https://go.flosports.tv/partner/caa?utm_campaign=caa&utm_medium=partner&utm_source=teams&utm_content=teams&rtid=monmouth&coverage_id=
URL:https://www.monmouth.edu/events/event/monmouth-university-womens-lacrosse-vs-bryant/
LOCATION:Kessler Stadium\, 107 Larchwood Ave\, West Long Branch\, NJ\, United States
CATEGORIES:Women's Lacrosse
GEO:40.279417;-74.010815
X-APPLE-STRUCTURED-LOCATION;VALUE=URI;X-ADDRESS=Kessler Stadium 107 Larchwood Ave West Long Branch NJ United States;X-APPLE-RADIUS=500;X-TITLE=107 Larchwood Ave:geo:-74.010815,40.279417
END:VEVENT
BEGIN:VEVENT
DTSTART;TZID=America/New_York:20250212T120000
DTEND;TZID=America/New_York:20250212T150000
DTSTAMP:20260424T152946
CREATED:20241227T185513Z
LAST-MODIFIED:20250212T151108Z
UID:40810117218-1739361600-1739372400@www.monmouth.edu
SUMMARY:Women's Lacrosse vs Rutgers
DESCRIPTION:Monmouth University Women’s Lacrosse vs Rutgers
URL:https://www.monmouth.edu/events/event/monmouth-university-womens-lacrosse-vs-rutgers/
LOCATION:Kessler Stadium\, 107 Larchwood Ave\, West Long Branch\, NJ\, United States
CATEGORIES:Women's Lacrosse
GEO:40.279417;-74.010815
X-APPLE-STRUCTURED-LOCATION;VALUE=URI;X-ADDRESS=Kessler Stadium 107 Larchwood Ave West Long Branch NJ United States;X-APPLE-RADIUS=500;X-TITLE=107 Larchwood Ave:geo:-74.010815,40.279417
END:VEVENT
BEGIN:VEVENT
DTSTART;TZID=America/New_York:20250208T113000
DTEND;TZID=America/New_York:20250208T143000
DTSTAMP:20260424T152946
CREATED:20241223T162513Z
LAST-MODIFIED:20250207T202608Z
UID:40810117173-1739014200-1739025000@www.monmouth.edu
SUMMARY:Men's Lacrosse vs Manhattan
DESCRIPTION:Monmouth University Men’s Lacrosse vs Manhattan\nStreaming Video: https://go.flosports.tv/partner/caa?utm_campaign=caa&utm_medium=partner&utm_source=teams&utm_content=teams&rtid=monmouth&coverage_id=\nTickets: https://mpv.tickets.com/schedule/?agency=MNMV_PLAGENCY_MPV&orgid=44869#/?event=lacrosse&view=list&includePackages=true
URL:https://www.monmouth.edu/events/event/monmouth-university-mens-lacrosse-vs-manhattan/
LOCATION:Kessler Stadium\, 107 Larchwood Ave\, West Long Branch\, NJ\, United States
CATEGORIES:Men's Lacrosse
GEO:40.279417;-74.010815
X-APPLE-STRUCTURED-LOCATION;VALUE=URI;X-ADDRESS=Kessler Stadium 107 Larchwood Ave West Long Branch NJ United States;X-APPLE-RADIUS=500;X-TITLE=107 Larchwood Ave:geo:-74.010815,40.279417
END:VEVENT
BEGIN:VEVENT
DTSTART;TZID=America/New_York:20250201T130000
DTEND;TZID=America/New_York:20250201T160000
DTSTAMP:20260424T152946
CREATED:20250127T194029Z
LAST-MODIFIED:20250201T195607Z
UID:40810118505-1738414800-1738425600@www.monmouth.edu
SUMMARY:Men's Lacrosse vs Sacred Heart - Scrimmage
DESCRIPTION:Monmouth University Men’s Lacrosse vs Sacred Heart – Scrimmage
URL:https://www.monmouth.edu/events/event/monmouth-university-mens-lacrosse-vs-sacred-heart-scrimmage/
LOCATION:Kessler Stadium\, 107 Larchwood Ave\, West Long Branch\, NJ\, United States
CATEGORIES:Men's Lacrosse
GEO:40.279417;-74.010815
X-APPLE-STRUCTURED-LOCATION;VALUE=URI;X-ADDRESS=Kessler Stadium 107 Larchwood Ave West Long Branch NJ United States;X-APPLE-RADIUS=500;X-TITLE=107 Larchwood Ave:geo:-74.010815,40.279417
END:VEVENT
BEGIN:VEVENT
DTSTART;TZID=America/New_York:20241116T120000
DTEND;TZID=America/New_York:20241116T150000
DTSTAMP:20260424T152946
CREATED:20240828T183520Z
LAST-MODIFIED:20241116T121108Z
UID:40810112726-1731758400-1731769200@www.monmouth.edu
SUMMARY:Football vs Villanova - Senior & Heroes Day
DESCRIPTION:Monmouth University Football vs Villanova – Senior & Heroes Day\nStreaming Video: https://my.flosports.tv/partner/caa?utm_campaign=caa&utm_medium=partner&utm_source=teams&utm_content=teams&rtid=monmouth&coverage_id=\nTickets: https://mpv.tickets.com/schedule/?orgid=44869&agency=MNMV_PLAGENCY_MPV&ccid=MNMV#/?venue=athletics&view=list&includePackages=false
URL:https://www.monmouth.edu/events/event/monmouth-university-football-vs-villanova-senior-heroes-day/
LOCATION:Kessler Stadium\, 107 Larchwood Ave\, West Long Branch\, NJ\, United States
CATEGORIES:Men's Football
GEO:40.279417;-74.010815
X-APPLE-STRUCTURED-LOCATION;VALUE=URI;X-ADDRESS=Kessler Stadium 107 Larchwood Ave West Long Branch NJ United States;X-APPLE-RADIUS=500;X-TITLE=107 Larchwood Ave:geo:-74.010815,40.279417
END:VEVENT
BEGIN:VEVENT
DTSTART;TZID=America/New_York:20241026T130000
DTEND;TZID=America/New_York:20241026T160000
DTSTAMP:20260424T152946
CREATED:20240828T183521Z
LAST-MODIFIED:20241025T215608Z
UID:40810112750-1729947600-1729958400@www.monmouth.edu
SUMMARY:Football vs Towson - Halloween Trunk or Treat
DESCRIPTION:Monmouth University Football vs Towson – Halloween Trunk or Treat\nStreaming Video: https://my.flosports.tv/partner/caa?utm_campaign=caa&utm_medium=partner&utm_source=teams&utm_content=teams&rtid=monmouth&coverage_id=\nTickets: https://mpv.tickets.com/schedule/?orgid=44869&agency=MNMV_PLAGENCY_MPV&ccid=MNMV#/?venue=athletics&view=list&includePackages=false
URL:https://www.monmouth.edu/events/event/monmouth-university-football-vs-towson-halloween-trunk-or-treat-2/
LOCATION:Kessler Stadium\, 107 Larchwood Ave\, West Long Branch\, NJ\, United States
CATEGORIES:Men's Football
GEO:40.279417;-74.010815
X-APPLE-STRUCTURED-LOCATION;VALUE=URI;X-ADDRESS=Kessler Stadium 107 Larchwood Ave West Long Branch NJ United States;X-APPLE-RADIUS=500;X-TITLE=107 Larchwood Ave:geo:-74.010815,40.279417
END:VEVENT
BEGIN:VEVENT
DTSTART;TZID=America/New_York:20241019T130000
DTEND;TZID=America/New_York:20241019T160000
DTSTAMP:20260424T152946
CREATED:20240828T183521Z
LAST-MODIFIED:20241018T212707Z
UID:40810112747-1729342800-1729353600@www.monmouth.edu
SUMMARY:Football vs Bryant - Homecoming
DESCRIPTION:Monmouth University Football vs Bryant – Homecoming\nStreaming Video: https://my.flosports.tv/partner/caa?utm_campaign=caa&utm_medium=partner&utm_source=teams&utm_content=teams&rtid=monmouth&coverage_id=\nTickets: https://mpv.tickets.com/schedule/?orgid=44869&agency=MNMV_PLAGENCY_MPV&ccid=MNMV#/?venue=athletics&view=list&includePackages=false
URL:https://www.monmouth.edu/events/event/monmouth-university-football-vs-bryant-homecoming-2/
LOCATION:Kessler Stadium\, 107 Larchwood Ave\, West Long Branch\, NJ\, United States
CATEGORIES:Men's Football
GEO:40.279417;-74.010815
X-APPLE-STRUCTURED-LOCATION;VALUE=URI;X-ADDRESS=Kessler Stadium 107 Larchwood Ave West Long Branch NJ United States;X-APPLE-RADIUS=500;X-TITLE=107 Larchwood Ave:geo:-74.010815,40.279417
END:VEVENT
BEGIN:VEVENT
DTSTART;TZID=America/New_York:20241005T130000
DTEND;TZID=America/New_York:20241005T160000
DTSTAMP:20260424T152946
CREATED:20240828T183521Z
LAST-MODIFIED:20241005T192616Z
UID:40810112744-1728133200-1728144000@www.monmouth.edu
SUMMARY:Football vs Delaware - Tackle Cancer presented by RWJBarnabas Health
DESCRIPTION:Monmouth University Football vs Delaware – Tackle Cancer presented by RWJBarnabas Health\nStreaming Video: https://my.flosports.tv/partner/caa?utm_campaign=caa&utm_medium=partner&utm_source=teams&utm_content=teams&rtid=monmouth&coverage_id=\nTickets: https://mpv.tickets.com/schedule/?orgid=44869&agency=MNMV_PLAGENCY_MPV&ccid=MNMV#/?venue=athletics&view=list&includePackages=false
URL:https://www.monmouth.edu/events/event/monmouth-university-football-vs-delaware-cancer-awareness-game-2/
LOCATION:Kessler Stadium\, 107 Larchwood Ave\, West Long Branch\, NJ\, United States
CATEGORIES:Men's Football
GEO:40.279417;-74.010815
X-APPLE-STRUCTURED-LOCATION;VALUE=URI;X-ADDRESS=Kessler Stadium 107 Larchwood Ave West Long Branch NJ United States;X-APPLE-RADIUS=500;X-TITLE=107 Larchwood Ave:geo:-74.010815,40.279417
END:VEVENT
BEGIN:VEVENT
DTSTART;TZID=America/New_York:20240928T130000
DTEND;TZID=America/New_York:20240928T160000
DTSTAMP:20260424T152946
CREATED:20240828T183521Z
LAST-MODIFIED:20240928T191109Z
UID:40810112741-1727528400-1727539200@www.monmouth.edu
SUMMARY:Football vs Fordham - Family Weekend
DESCRIPTION:Monmouth University Football vs Fordham – Family Weekend\nStreaming Video: https://my.flosports.tv/partner/caa?utm_campaign=caa&utm_medium=partner&utm_source=teams&utm_content=teams&rtid=monmouth&coverage_id=\nTickets: https://mpv.tickets.com/schedule/?orgid=44869&agency=MNMV_PLAGENCY_MPV&ccid=MNMV#/?venue=athletics&view=list&includePackages=false
URL:https://www.monmouth.edu/events/event/monmouth-university-football-vs-fordham-family-weekend-2/
LOCATION:Kessler Stadium\, 107 Larchwood Ave\, West Long Branch\, NJ\, United States
CATEGORIES:Men's Football
GEO:40.279417;-74.010815
X-APPLE-STRUCTURED-LOCATION;VALUE=URI;X-ADDRESS=Kessler Stadium 107 Larchwood Ave West Long Branch NJ United States;X-APPLE-RADIUS=500;X-TITLE=107 Larchwood Ave:geo:-74.010815,40.279417
END:VEVENT
BEGIN:VEVENT
DTSTART;TZID=America/New_York:20240907T120000
DTEND;TZID=America/New_York:20240907T150000
DTSTAMP:20260424T152946
CREATED:20240828T183521Z
LAST-MODIFIED:20240907T165808Z
UID:40810112732-1725710400-1725721200@www.monmouth.edu
SUMMARY:Football vs Lafayette - Local Summer Kickoff & Youth Football Day
DESCRIPTION:Monmouth University Football vs Lafayette – Local Summer Kickoff & Youth Football Day\nStreaming Video: https://my.flosports.tv/partner/caa?utm_campaign=caa&utm_medium=partner&utm_source=teams&utm_content=teams&rtid=monmouth&coverage_id=\nTickets: https://mpv.tickets.com/schedule/?orgid=44869&agency=MNMV_PLAGENCY_MPV&ccid=MNMV#/?venue=athletics&view=list&includePackages=false
URL:https://www.monmouth.edu/events/event/monmouth-university-football-vs-lafayette-local-summer-kickoff-youth-football-day-2/
LOCATION:Kessler Stadium\, 107 Larchwood Ave\, West Long Branch\, NJ\, United States
CATEGORIES:Men's Football
GEO:40.279417;-74.010815
X-APPLE-STRUCTURED-LOCATION;VALUE=URI;X-ADDRESS=Kessler Stadium 107 Larchwood Ave West Long Branch NJ United States;X-APPLE-RADIUS=500;X-TITLE=107 Larchwood Ave:geo:-74.010815,40.279417
END:VEVENT
BEGIN:VEVENT
DTSTART;TZID=America/New_York:20240907T100000
DTEND;TZID=America/New_York:20240907T120000
DTSTAMP:20260424T152946
CREATED:20240830T134409Z
LAST-MODIFIED:20240830T184646Z
UID:40810113026-1725703200-1725710400@www.monmouth.edu
SUMMARY:First-Year Football Frenzy
DESCRIPTION:
URL:https://www.monmouth.edu/events/event/first-year-football-frenzy/
LOCATION:Kessler Stadium\, 107 Larchwood Ave\, West Long Branch\, NJ\, United States
GEO:40.279417;-74.010815
X-APPLE-STRUCTURED-LOCATION;VALUE=URI;X-ADDRESS=Kessler Stadium 107 Larchwood Ave West Long Branch NJ United States;X-APPLE-RADIUS=500;X-TITLE=107 Larchwood Ave:geo:-74.010815,40.279417
END:VEVENT
BEGIN:VEVENT
DTSTART;TZID=America/New_York:20240831T100000
DTEND;TZID=America/New_York:20240831T113000
DTSTAMP:20260424T152946
CREATED:20240830T134405Z
LAST-MODIFIED:20240830T140439Z
UID:40810112846-1725098400-1725103800@www.monmouth.edu
SUMMARY:PlayFair
DESCRIPTION:
URL:https://www.monmouth.edu/events/event/playfair/
LOCATION:Kessler Stadium\, 107 Larchwood Ave\, West Long Branch\, NJ\, United States
GEO:40.279417;-74.010815
X-APPLE-STRUCTURED-LOCATION;VALUE=URI;X-ADDRESS=Kessler Stadium 107 Larchwood Ave West Long Branch NJ United States;X-APPLE-RADIUS=500;X-TITLE=107 Larchwood Ave:geo:-74.010815,40.279417
END:VEVENT
BEGIN:VEVENT
DTSTART;TZID=America/New_York:20240831T093000
DTEND;TZID=America/New_York:20240831T100000
DTSTAMP:20260424T152946
CREATED:20240830T134405Z
LAST-MODIFIED:20240830T140429Z
UID:40810112843-1725096600-1725098400@www.monmouth.edu
SUMMARY:Commuter NSO Check-In
DESCRIPTION:
URL:https://www.monmouth.edu/events/event/commuter-nso-check-in/
LOCATION:Kessler Stadium\, 107 Larchwood Ave\, West Long Branch\, NJ\, United States
GEO:40.279417;-74.010815
X-APPLE-STRUCTURED-LOCATION;VALUE=URI;X-ADDRESS=Kessler Stadium 107 Larchwood Ave West Long Branch NJ United States;X-APPLE-RADIUS=500;X-TITLE=107 Larchwood Ave:geo:-74.010815,40.279417
END:VEVENT
BEGIN:VEVENT
DTSTART;TZID=America/New_York:20240830T161500
DTEND;TZID=America/New_York:20240830T164500
DTSTAMP:20260424T152946
CREATED:20240830T134405Z
LAST-MODIFIED:20240830T135108Z
UID:40810112819-1725034500-1725036300@www.monmouth.edu
SUMMARY:NSO Welcome & Class Photo
DESCRIPTION:
URL:https://www.monmouth.edu/events/event/nso-welcome-class-photo/
LOCATION:Kessler Stadium\, 107 Larchwood Ave\, West Long Branch\, NJ\, United States
GEO:40.279417;-74.010815
X-APPLE-STRUCTURED-LOCATION;VALUE=URI;X-ADDRESS=Kessler Stadium 107 Larchwood Ave West Long Branch NJ United States;X-APPLE-RADIUS=500;X-TITLE=107 Larchwood Ave:geo:-74.010815,40.279417
END:VEVENT
BEGIN:VEVENT
DTSTART;TZID=America/New_York:20240830T154500
DTEND;TZID=America/New_York:20240830T160000
DTSTAMP:20260424T152946
CREATED:20240830T134405Z
LAST-MODIFIED:20240830T135123Z
UID:40810112816-1725032700-1725033600@www.monmouth.edu
SUMMARY:Commuter Student NSO Check In
DESCRIPTION:
URL:https://www.monmouth.edu/events/event/commuter-student-nso-check-in/
LOCATION:Kessler Stadium\, 107 Larchwood Ave\, West Long Branch\, NJ\, United States
GEO:40.279417;-74.010815
X-APPLE-STRUCTURED-LOCATION;VALUE=URI;X-ADDRESS=Kessler Stadium 107 Larchwood Ave West Long Branch NJ United States;X-APPLE-RADIUS=500;X-TITLE=107 Larchwood Ave:geo:-74.010815,40.279417
END:VEVENT
END:VCALENDAR