BEGIN:VCALENDAR
VERSION:2.0
PRODID:-//Events - ECPv6.15.20//NONSGML v1.0//EN
CALSCALE:GREGORIAN
METHOD:PUBLISH
X-WR-CALNAME:Events
X-ORIGINAL-URL:https://www.monmouth.edu/events
X-WR-CALDESC:Events for Events
REFRESH-INTERVAL;VALUE=DURATION:PT1H
X-Robots-Tag:noindex
X-PUBLISHED-TTL:PT1H
BEGIN:VTIMEZONE
TZID:America/New_York
BEGIN:DAYLIGHT
TZOFFSETFROM:-0500
TZOFFSETTO:-0400
TZNAME:EDT
DTSTART:20230312T070000
END:DAYLIGHT
BEGIN:STANDARD
TZOFFSETFROM:-0400
TZOFFSETTO:-0500
TZNAME:EST
DTSTART:20231105T060000
END:STANDARD
BEGIN:DAYLIGHT
TZOFFSETFROM:-0500
TZOFFSETTO:-0400
TZNAME:EDT
DTSTART:20240310T070000
END:DAYLIGHT
BEGIN:STANDARD
TZOFFSETFROM:-0400
TZOFFSETTO:-0500
TZNAME:EST
DTSTART:20241103T060000
END:STANDARD
BEGIN:DAYLIGHT
TZOFFSETFROM:-0500
TZOFFSETTO:-0400
TZNAME:EDT
DTSTART:20250309T070000
END:DAYLIGHT
BEGIN:STANDARD
TZOFFSETFROM:-0400
TZOFFSETTO:-0500
TZNAME:EST
DTSTART:20251102T060000
END:STANDARD
BEGIN:DAYLIGHT
TZOFFSETFROM:-0500
TZOFFSETTO:-0400
TZNAME:EDT
DTSTART:20260308T070000
END:DAYLIGHT
BEGIN:STANDARD
TZOFFSETFROM:-0400
TZOFFSETTO:-0500
TZNAME:EST
DTSTART:20261101T060000
END:STANDARD
END:VTIMEZONE
BEGIN:VEVENT
DTSTART;TZID=America/New_York:20250402T133000
DTEND;TZID=America/New_York:20250402T150000
DTSTAMP:20260425T120757
CREATED:20250306T161918Z
LAST-MODIFIED:20250306T161918Z
UID:40810118985-1743600600-1743606000@www.monmouth.edu
SUMMARY:Pre-Law Honors School Alumni Panel
DESCRIPTION:Free Event \nJoin us for an engaging and insightful Pre-Law Alumni Panel\, where distinguished alumni from Monmouth University’s Honors School will share their journeys from their undergraduate experience to successful careers in law. This panel is designed for those interested in pursuing a legal career\, offering firsthand perspectives on law school\, different career paths\, and valuable advice on navigating the legal profession. \nFollowing the panel\, enjoy light refreshments and networking\, providing a great opportunity to connect with alumni\, ask questions\, and build valuable relationships. Don’t miss this chance to gain insight\, make connections\, and explore your future in law!
URL:https://www.monmouth.edu/events/event/pre-law-honors-school-alumni-panel/
LOCATION:Julian Abele Room (The Great Hall Room 104)
CATEGORIES:Alumni,Alumni Events,Free,Honors School,Lectures,Lectures/Workshops/Symposiums,Social Events,Undergraduate Student,Workshops and Professional Development
ATTACH;FMTTYPE=image/jpeg:https://www.monmouth.edu/events/wp-content/uploads/sites/19/2025/03/Pre-Law-Panel.jpg
END:VEVENT
BEGIN:VEVENT
DTSTART;TZID=America/New_York:20250218T180000
DTEND;TZID=America/New_York:20250218T180000
DTSTAMP:20260425T120757
CREATED:20250114T190143Z
LAST-MODIFIED:20250217T142820Z
UID:40810117888-1739901600-1739901600@www.monmouth.edu
SUMMARY:Black History Month Alumni Career Panel
DESCRIPTION:Presented by The Intercultural Center\, Alumni Engagement and Annual Giving\, and Career Development \n\n\n\nJoin us for an engaging panel discussion featuring Black alumni as they share their journeys from college to career\, the challenges they faced\, and valuable advice for building a successful career. All alumni are welcome to attend. The panel will be followed by a mixer\, providing an opportunity to connect with students and fellow Hawks. Enjoy complimentary food and beverages while networking!
URL:https://www.monmouth.edu/events/event/black-history-month-alumni-career-panel-2/
LOCATION:Julian Abele Room (The Great Hall Room 104)
CATEGORIES:Alumni,Alumni Calendar Featured,Alumni Events,Black Alumni Network,Featured,Free,Intercultural Center Events,Lectures,Social Events
ATTACH;FMTTYPE=image/jpeg:https://www.monmouth.edu/events/wp-content/uploads/sites/19/2025/01/BHM-Panel.jpg
END:VEVENT
BEGIN:VEVENT
DTSTART;TZID=America/New_York:20241029T163000
DTEND;TZID=America/New_York:20241029T183000
DTSTAMP:20260425T120757
CREATED:20240806T143335Z
LAST-MODIFIED:20241015T142555Z
UID:40810112612-1730219400-1730226600@www.monmouth.edu
SUMMARY:Poetry Readings with Q&A Featuring Alicia Ostriker & Joan Larkin
DESCRIPTION:ALICIA OSTRIKER has published 19 collections of poetry\, been twice nominated for the National Book Award\, and has twice received the National Jewish Book Award for Poetry\, among other honors. Her work has appeared in The New Yorker\, The Yale Review\, American Poetry Review\, Best American Poetry \, The Atlantic \, Prairie Schooner\, and other journals\, and has been translated into numerous languages including Hebrew and Arabic. Her most recent collections of poems are Waiting for the Light and The Volcano and After:Selected and New Poems 2002 – 2019 . She was New York State Poet Laureate for 2018 – 2021 and a Chancellor of the Academy of American Poets in 2015 – 2020. \nJOAN LARKIN is the author of five previous collections of poetry\, including Blue Hanuman (2014); My Body: New and Selected Poems (2007)\, which received the Audre Lorde Award from the Publishing Triangle; Lambda Literary Award winner Cold River (1997); and Housework (1975). With Jaime Manrique\, Larkin translated Sor Juana’ s Love Poems\, a bilingual edition of Sor Juana Inez de la Cruz’ s poetry (1997). Her prose works include I f You Want What We Have: Sponsorship Meditations (1998) and Glad Day: Daily Meditations for Gay\, Lesbian\, Bisexual\, and Transgender People (1998). Her plays include The AIDS Passion\, The Living\, and Wiretap. \nThis event is being held in conjunction with A Tribute to Jean Valentine – Panel Discussion on October 29 at 2:50 in the Julian Abele Room. \nHosted By Department of English (Brother Austen Poets-in-the-Classroom Series) in partnership with the Visiting Writers Series. Also cosponsored by PGIS (Program in Gender and Intersectionality Studies) 
URL:https://www.monmouth.edu/events/event/poetry-readings-with-qa-featuring-alicia-ostriker-joan-larkin/
LOCATION:Julian Abele Room (The Great Hall Room 104)
CATEGORIES:Alumni,Alumni Affairs,Alumni Events,Arts at Monmouth,English,Free,Lectures,Lectures/Workshops/Symposiums
ATTACH;FMTTYPE=image/jpeg:https://www.monmouth.edu/events/wp-content/uploads/sites/19/2024/08/header.jpg
END:VEVENT
BEGIN:VEVENT
DTSTART;TZID=America/New_York:20241029T145000
DTEND;TZID=America/New_York:20241029T160000
DTSTAMP:20260425T120757
CREATED:20240806T144802Z
LAST-MODIFIED:20240827T194811Z
UID:40810112615-1730213400-1730217600@www.monmouth.edu
SUMMARY:A Tribute to Jean Valentine – Panel Discussion featuring Alice Ostriker\, Joan Larkin\, Carey Salerno\, and Anne Marie Macari
DESCRIPTION:Jean Valentine was born in Chicago\, earned her B.A. from Radcliffe College\, and lived most of her life in New York City. She won the Yale Younger Poets Award for her first book\, Dream Barker and Other Poems\, in 1965. Valentine authored over a dozen collections of poetry including\,The River at Wolf (1992); Door in the Mountain: New and Collected Poems\, 1965-2003 (2007); Break the Glass (2010); and Shirt in Heaven (2015). All of her full-length works\, including an unpublished manuscript\, have been compiled in the posthumous collection\, Light Me Down: The New & Collected Poems of Jean Valentine (2024). \nThis event is being held in conjunction with Poetry Readings with Q&A Featuring Alicia Ostriker & Joan Larkin on October 29 at 4:30 in the Julian Abele Room. \nPRESENTED BY THE DEPARTMENT OF ENGLISH IN PARTNERSHIP WITH THE VISITING WRITERS SERIES
URL:https://www.monmouth.edu/events/event/a-tribute-to-jean-valentine-panel-discussion-featuring-alice-ostriker-joan-larkin-carey-salerno-and-ann-marie-macari/
LOCATION:Julian Abele Room (The Great Hall Room 104)
CATEGORIES:Arts at Monmouth,Free,Lectures,Lectures/Workshops/Symposiums
ATTACH;FMTTYPE=image/jpeg:https://www.monmouth.edu/events/wp-content/uploads/sites/19/2024/08/header2.jpg
END:VEVENT
BEGIN:VEVENT
DTSTART;TZID=America/New_York:20241001T180000
DTEND;TZID=America/New_York:20241001T180000
DTSTAMP:20260425T120757
CREATED:20240923T203454Z
LAST-MODIFIED:20240927T192722Z
UID:40810114316-1727805600-1727805600@www.monmouth.edu
SUMMARY:Latinx Heritage Month Career Panel
DESCRIPTION:Alumni will share their stories from college to career\, discuss obstacles they had to overcome\, and offer advice to students. There will be free food and swag available!
URL:https://www.monmouth.edu/events/event/latinx-heritage-month-career-panel/
LOCATION:Julian Abele Room (The Great Hall Room 104)
CATEGORIES:Alumni,Alumni Events,Free,Workshops and Professional Development
END:VEVENT
BEGIN:VEVENT
DTSTART;TZID=America/New_York:20240229T133000
DTEND;TZID=America/New_York:20240229T150000
DTSTAMP:20260425T120757
CREATED:20240220T225010Z
LAST-MODIFIED:20240220T225010Z
UID:40810112336-1709213400-1709218800@www.monmouth.edu
SUMMARY:Careers in Pharmaceuticals Panel
DESCRIPTION:Moderated by Kanesha Jones ’03\, Director of Product Quality Vigilance\, Johnson & Johnson \nDid you know that 14 of the top 20 pharmaceutical companies have offices in New Jersey? And that overall spending in the pharmaceutical industry is expected to exceed $1 trillion by 2030? \nWe are excited to offer this Careers in Pharmaceuticals Panel for you to hear from accomplished Monmouth University alumni working in top pharma careers. You will learn about the various career opportunities and companies in the pharmaceutical sector and receive tips on ensuring your application is competitive when applying for these jobs. Join us for valuable insight\, networking\, and refreshments.
URL:https://www.monmouth.edu/events/event/careers-in-pharmaceuticals-panel/
LOCATION:Julian Abele Room (The Great Hall Room 104)
CATEGORIES:Alumni,Alumni Calendar Featured,Alumni Events,Community Member,Current Student,Faculty,Free,Undergraduate Student,Workshops and Professional Development
ATTACH;FMTTYPE=image/jpeg:https://www.monmouth.edu/events/wp-content/uploads/sites/19/2024/02/KJones.jpeg
END:VEVENT
BEGIN:VEVENT
DTSTART;TZID=America/New_York:20240227T183000
DTEND;TZID=America/New_York:20240227T200000
DTSTAMP:20260425T120757
CREATED:20240123T194613Z
LAST-MODIFIED:20240215T205947Z
UID:40810112300-1709058600-1709064000@www.monmouth.edu
SUMMARY:Black History Month Alumni Career Panel
DESCRIPTION:Presented by The Intercultural Center\, Alumni Engagement and Annual Giving\, and Career Development \nJoin us for a panel discussion with Black Alumni as they share their stories from college to career\, obstacles they had to overcome and offer advice on how to prepare for a successful career. All alumni are invited to attend the panel and mixer after to network with students and fellow Hawks! Food and beverages will be provided.
URL:https://www.monmouth.edu/events/event/black-history-month-alumni-career-panel/
LOCATION:Julian Abele Room (The Great Hall Room 104)
CATEGORIES:Alumni,Alumni Calendar Featured,Alumni Events,Current Student,Diversity and Inclusion,Faculty,Free,Intercultural Center,Intercultural Center Events,Lectures,Media,Workshops and Professional Development
ATTACH;FMTTYPE=image/jpeg:https://www.monmouth.edu/events/wp-content/uploads/sites/19/2024/01/Kuree-Cain.jpg
END:VEVENT
END:VCALENDAR