BEGIN:VCALENDAR
VERSION:2.0
PRODID:-//Events - ECPv6.15.20//NONSGML v1.0//EN
CALSCALE:GREGORIAN
METHOD:PUBLISH
X-WR-CALNAME:Events
X-ORIGINAL-URL:https://www.monmouth.edu/events
X-WR-CALDESC:Events for Events
REFRESH-INTERVAL;VALUE=DURATION:PT1H
X-Robots-Tag:noindex
X-PUBLISHED-TTL:PT1H
BEGIN:VTIMEZONE
TZID:America/New_York
BEGIN:DAYLIGHT
TZOFFSETFROM:-0500
TZOFFSETTO:-0400
TZNAME:EDT
DTSTART:20230312T070000
END:DAYLIGHT
BEGIN:STANDARD
TZOFFSETFROM:-0400
TZOFFSETTO:-0500
TZNAME:EST
DTSTART:20231105T060000
END:STANDARD
BEGIN:DAYLIGHT
TZOFFSETFROM:-0500
TZOFFSETTO:-0400
TZNAME:EDT
DTSTART:20240310T070000
END:DAYLIGHT
BEGIN:STANDARD
TZOFFSETFROM:-0400
TZOFFSETTO:-0500
TZNAME:EST
DTSTART:20241103T060000
END:STANDARD
BEGIN:DAYLIGHT
TZOFFSETFROM:-0500
TZOFFSETTO:-0400
TZNAME:EDT
DTSTART:20250309T070000
END:DAYLIGHT
BEGIN:STANDARD
TZOFFSETFROM:-0400
TZOFFSETTO:-0500
TZNAME:EST
DTSTART:20251102T060000
END:STANDARD
BEGIN:DAYLIGHT
TZOFFSETFROM:-0500
TZOFFSETTO:-0400
TZNAME:EDT
DTSTART:20260308T070000
END:DAYLIGHT
BEGIN:STANDARD
TZOFFSETFROM:-0400
TZOFFSETTO:-0500
TZNAME:EST
DTSTART:20261101T060000
END:STANDARD
END:VTIMEZONE
BEGIN:VEVENT
DTSTART;TZID=America/New_York:20250416T144500
DTEND;TZID=America/New_York:20250416T154500
DTSTAMP:20260423T025655
CREATED:20250414T144107Z
LAST-MODIFIED:20250414T144107Z
UID:40810119101-1744814700-1744818300@www.monmouth.edu
SUMMARY:Study Abroad Internship & Resume Workshop
DESCRIPTION:Please RSVP here on Handshake: https://monmouth.joinhandshake.com/events/1740218/share_preview \nRecommended for prospective & alumni study abroad students.  \nLearn how you can earn class credit interning abroad. \nTailor your resume with expert help from Career Development. \nLearn how studying abroad can multiply your career opportunities!
URL:https://www.monmouth.edu/events/event/study-abroad-internship-resume-workshop/
LOCATION:Intercultural Center
CATEGORIES:Institute for Global Understanding
ATTACH;FMTTYPE=image/jpeg:https://www.monmouth.edu/events/wp-content/uploads/sites/19/2025/04/Study-Abroad-Internship-and-Resume-Workshop-Flyer.jpg
ORGANIZER;CN="Career Development":MAILTO:careerdevelopment@monmouth.edu
END:VEVENT
BEGIN:VEVENT
DTSTART;TZID=America/New_York:20250403T200000
DTEND;TZID=America/New_York:20250403T220000
DTSTAMP:20260423T025655
CREATED:20250207T153605Z
LAST-MODIFIED:20250320T142043Z
UID:40810118595-1743710400-1743717600@www.monmouth.edu
SUMMARY:Thursday Night Alternative -  Bingo Night
DESCRIPTION:🎉 Thursday Night Alternative – Bingo! 🎉 \nLooking for a fun way to unwind after a long week of classes? Join us for Thursday Night Alternative – Bingo! 🏆✨ Enjoy a free\, high-energy bingo night with awesome prizes\, great vibes\, and a chance to connect with friends (or make new ones!). No experience needed—just bring your game face and get ready for a night of laughs and surprises.  Thursday\, April 3 @ 8 pm\, Intercultural Center
URL:https://www.monmouth.edu/events/event/thursday-night-alternative-greek-week-bingo/
LOCATION:Intercultural Center
ATTACH;FMTTYPE=image/jpeg:https://www.monmouth.edu/events/wp-content/uploads/sites/19/2025/01/apps.34080.13510798887528624.ea88a7e6-557c-4ad5-99d7-c574f430c827.jpg
END:VEVENT
BEGIN:VEVENT
DTSTART;TZID=America/New_York:20250401T170000
DTEND;TZID=America/New_York:20250401T180000
DTSTAMP:20260423T025655
CREATED:20250122T211522Z
LAST-MODIFIED:20250326T173913Z
UID:40810118072-1743526800-1743530400@www.monmouth.edu
SUMMARY:SGA Sexual Awareness Education Week:  Cards for Humanity Event
DESCRIPTION:Join SGA for Sexual Awareness Education Week: Cards for Humanity\, an engaging event combining fun and meaningful conversations. Create custom cards to raise awareness and promote inclusivity while connecting with fellow students!  Tuesday\, April 1\, 5-6 p.m.\, the Intercultural Center.
URL:https://www.monmouth.edu/events/event/sga-sexual-awareness-education-week-cards-for-humanity-event/
LOCATION:Intercultural Center
ATTACH;FMTTYPE=image/jpeg:https://www.monmouth.edu/events/wp-content/uploads/sites/19/2025/01/19-SGA-logo-final.jpg
END:VEVENT
BEGIN:VEVENT
DTSTART;TZID=America/New_York:20250327T200000
DTEND;TZID=America/New_York:20250327T213000
DTSTAMP:20260423T025655
CREATED:20250207T153255Z
LAST-MODIFIED:20250207T154058Z
UID:40810118592-1743105600-1743111000@www.monmouth.edu
SUMMARY:Thursday Night Alternative - Trivia Night
DESCRIPTION:🧠 Thursday Night Alternative – Trivia Night! 🧠 \nThink you’ve got what it takes to be the ultimate trivia champ? Grab your friends and test your knowledge at TNA – Trivia Night! 🏆 From pop culture to history\, sports to random fun facts\, expect a mix of exciting questions\, friendly competition\, and prizes. No need to be a genius—just bring your best guesses and good vibes!  Thursday\, March 27 @ 8 pm\, the Intercultural Center
URL:https://www.monmouth.edu/events/event/thursday-night-alternative-trivia-night/
LOCATION:Intercultural Center
ATTACH;FMTTYPE=image/jpeg:https://www.monmouth.edu/events/wp-content/uploads/sites/19/2025/01/shutterstock_686118184-2.jpg
END:VEVENT
BEGIN:VEVENT
DTSTART;TZID=America/New_York:20250226T170000
DTEND;TZID=America/New_York:20250226T180000
DTSTAMP:20260423T025655
CREATED:20250221T215444Z
LAST-MODIFIED:20250221T215444Z
UID:40810118720-1740589200-1740592800@www.monmouth.edu
SUMMARY:Elevate and Energize
DESCRIPTION:Elevate and energize is an event hosted by Monmouth University Occupational Therapy capstone students that offers different mindfulness practices to help with stress reduction and relaxation for students such as yoga\, self care tool kits\, etc.
URL:https://www.monmouth.edu/events/event/elevate-and-energize-2/
LOCATION:Intercultural Center
END:VEVENT
BEGIN:VEVENT
DTSTART;TZID=America/New_York:20241120T144500
DTEND;TZID=America/New_York:20241120T154500
DTSTAMP:20260423T025655
CREATED:20240830T132325Z
LAST-MODIFIED:20240830T183621Z
UID:40810112771-1732113900-1732117500@www.monmouth.edu
SUMMARY:Study Abroad 101
DESCRIPTION:Join us for  study abroad 101 to learn about the amazing study abroad programs available  at Monmouth.
URL:https://www.monmouth.edu/events/event/__trashed-97/
LOCATION:Intercultural Center
END:VEVENT
BEGIN:VEVENT
DTSTART;TZID=America/New_York:20241101T180000
DTEND;TZID=America/New_York:20241101T210000
DTSTAMP:20260423T025655
CREATED:20241028T133613Z
LAST-MODIFIED:20241028T133613Z
UID:40810115164-1730484000-1730494800@www.monmouth.edu
SUMMARY:Día de los Muertos
DESCRIPTION:LASO and the Art Club will be collaborating for an event for celebrating Día de los Muertos. We will be providing arts and crafts stations in the intercultural center. We will also be decorating an ofrenda to celebrate Mexican culture!
URL:https://www.monmouth.edu/events/event/dia-de-los-muertos/
LOCATION:Intercultural Center
ATTACH;FMTTYPE=image/jpeg:https://www.monmouth.edu/events/wp-content/uploads/sites/19/2024/10/DDLMLASOCollab-02.jpeg
END:VEVENT
BEGIN:VEVENT
DTSTART;TZID=America/New_York:20241024T190000
DTEND;TZID=America/New_York:20241024T203000
DTSTAMP:20260423T025655
CREATED:20241022T123631Z
LAST-MODIFIED:20241022T123631Z
UID:40810115111-1729796400-1729801800@www.monmouth.edu
SUMMARY:Around the World Trivia Night
DESCRIPTION:Come out and compete for the chance to win! \n1st place: $150 \n2nd place: $100 \n3rd place: $50
URL:https://www.monmouth.edu/events/event/around-the-world-trivia-night/
LOCATION:Intercultural Center
END:VEVENT
BEGIN:VEVENT
DTSTART;TZID=America/New_York:20240930T200000
DTEND;TZID=America/New_York:20240930T220000
DTSTAMP:20260423T025655
CREATED:20240830T134412Z
LAST-MODIFIED:20240830T134412Z
UID:40810113200-1727726400-1727733600@www.monmouth.edu
SUMMARY:Crafts for St. Jude Children’s Research Hospital
DESCRIPTION:Join Us! In  making Coloring Books\, Cards\, and More for the Children of St. Jude Children’s  Research Hospital while enjoying some light refreshments.
URL:https://www.monmouth.edu/events/event/crafts-for-st-jude-childrens-research-hospital/
LOCATION:Intercultural Center
END:VEVENT
BEGIN:VEVENT
DTSTART;TZID=America/New_York:20240926T200000
DTEND;TZID=America/New_York:20240926T220000
DTSTAMP:20260423T025655
CREATED:20240830T134412Z
LAST-MODIFIED:20240830T134412Z
UID:40810113188-1727380800-1727388000@www.monmouth.edu
SUMMARY:Lambda Lantern Festival Featuring the Cussies
DESCRIPTION:Come learn  more about the Chinese Tradition of decorating Lanterns while decorating your  own Lanterns with hopes for the future. There will also be food\,  refreshments\, table games\, and music. Chi Upsilon Sigma and Lambda Theta Phi  Hope to See you there!
URL:https://www.monmouth.edu/events/event/lambda-lantern-festival-featuring-the-cussies/
LOCATION:Intercultural Center
END:VEVENT
BEGIN:VEVENT
DTSTART;TZID=America/New_York:20240919T180000
DTEND;TZID=America/New_York:20240919T200000
DTSTAMP:20260423T025655
CREATED:20240916T132910Z
LAST-MODIFIED:20240916T132910Z
UID:40810113971-1726768800-1726776000@www.monmouth.edu
SUMMARY:Postcards for the Presidential Election
DESCRIPTION:Writing nonpartisan postcards to potential voters in Arizona for the presidential election.
URL:https://www.monmouth.edu/events/event/postcards-for-the-presidential-election/
LOCATION:Intercultural Center
END:VEVENT
BEGIN:VEVENT
DTSTART;TZID=America/New_York:20240906T163000
DTEND;TZID=America/New_York:20240906T183000
DTSTAMP:20260423T025655
CREATED:20240830T134408Z
LAST-MODIFIED:20240830T134408Z
UID:40810113020-1725640200-1725647400@www.monmouth.edu
SUMMARY:Unity Cookout
DESCRIPTION:Join us for a vibrant cookout bringing together culturally/identity-based clubs and organizations from across the campus. This event is a unique opportunity to learn more about the clubs and organizations\, their leadership and ways to get involved\, hosted by LASO\, BSU\, NCNW\, STEMUp\, MSA\, Pride\, UGC\, the Office of Fraternity and Sorority Life\, and the Intercultural Center. 
URL:https://www.monmouth.edu/events/event/unity-cookout/
LOCATION:Intercultural Center
END:VEVENT
END:VCALENDAR