BEGIN:VCALENDAR
VERSION:2.0
PRODID:-//Events - ECPv6.15.20//NONSGML v1.0//EN
CALSCALE:GREGORIAN
METHOD:PUBLISH
X-ORIGINAL-URL:https://www.monmouth.edu/events
X-WR-CALDESC:Events for Events
REFRESH-INTERVAL;VALUE=DURATION:PT1H
X-Robots-Tag:noindex
X-PUBLISHED-TTL:PT1H
BEGIN:VTIMEZONE
TZID:America/New_York
BEGIN:DAYLIGHT
TZOFFSETFROM:-0500
TZOFFSETTO:-0400
TZNAME:EDT
DTSTART:20230312T070000
END:DAYLIGHT
BEGIN:STANDARD
TZOFFSETFROM:-0400
TZOFFSETTO:-0500
TZNAME:EST
DTSTART:20231105T060000
END:STANDARD
BEGIN:DAYLIGHT
TZOFFSETFROM:-0500
TZOFFSETTO:-0400
TZNAME:EDT
DTSTART:20240310T070000
END:DAYLIGHT
BEGIN:STANDARD
TZOFFSETFROM:-0400
TZOFFSETTO:-0500
TZNAME:EST
DTSTART:20241103T060000
END:STANDARD
BEGIN:DAYLIGHT
TZOFFSETFROM:-0500
TZOFFSETTO:-0400
TZNAME:EDT
DTSTART:20250309T070000
END:DAYLIGHT
BEGIN:STANDARD
TZOFFSETFROM:-0400
TZOFFSETTO:-0500
TZNAME:EST
DTSTART:20251102T060000
END:STANDARD
END:VTIMEZONE
BEGIN:VEVENT
DTSTART;TZID=America/New_York:20241001T210000
DTEND;TZID=America/New_York:20241001T223000
DTSTAMP:20260422T221751
CREATED:20240930T131524Z
LAST-MODIFIED:20240930T185655Z
UID:40810114404-1727816400-1727821800@www.monmouth.edu
SUMMARY:College Democrats Vice Presidential Debate Watch Party
DESCRIPTION:Vice Presidential Debate Watch party between Tim Walz and JD Vance.
URL:https://www.monmouth.edu/events/event/college-democrats-vice-presidential-debate-watch-party/
LOCATION:Intercultural Center Lounge
END:VEVENT
BEGIN:VEVENT
DTSTART;TZID=America/New_York:20240919T190000
DTEND;TZID=America/New_York:20240919T203000
DTSTAMP:20260422T221751
CREATED:20240830T134411Z
LAST-MODIFIED:20240830T134411Z
UID:40810113143-1726772400-1726777800@www.monmouth.edu
SUMMARY:Trivia Night: Latinx Heritage Month Theme
DESCRIPTION:
URL:https://www.monmouth.edu/events/event/trivia-night-latinx-heritage-month-theme/
LOCATION:Intercultural Center Lounge
END:VEVENT
BEGIN:VEVENT
DTSTART;TZID=America/New_York:20240917T193000
DTEND;TZID=America/New_York:20240917T203000
DTSTAMP:20260422T221751
CREATED:20240916T133031Z
LAST-MODIFIED:20240916T133031Z
UID:40810113977-1726601400-1726605000@www.monmouth.edu
SUMMARY:College Democrats General Meeting
DESCRIPTION:First General Meeting of the Monmouth University College Democrats
URL:https://www.monmouth.edu/events/event/college-democrats-general-meeting/
LOCATION:Intercultural Center Lounge
END:VEVENT
END:VCALENDAR