BEGIN:VCALENDAR
VERSION:2.0
PRODID:-//Events - ECPv6.15.20//NONSGML v1.0//EN
CALSCALE:GREGORIAN
METHOD:PUBLISH
X-WR-CALNAME:Events
X-ORIGINAL-URL:https://www.monmouth.edu/events
X-WR-CALDESC:Events for Events
REFRESH-INTERVAL;VALUE=DURATION:PT1H
X-Robots-Tag:noindex
X-PUBLISHED-TTL:PT1H
BEGIN:VTIMEZONE
TZID:America/New_York
BEGIN:DAYLIGHT
TZOFFSETFROM:-0500
TZOFFSETTO:-0400
TZNAME:EDT
DTSTART:20230312T070000
END:DAYLIGHT
BEGIN:STANDARD
TZOFFSETFROM:-0400
TZOFFSETTO:-0500
TZNAME:EST
DTSTART:20231105T060000
END:STANDARD
BEGIN:DAYLIGHT
TZOFFSETFROM:-0500
TZOFFSETTO:-0400
TZNAME:EDT
DTSTART:20240310T070000
END:DAYLIGHT
BEGIN:STANDARD
TZOFFSETFROM:-0400
TZOFFSETTO:-0500
TZNAME:EST
DTSTART:20241103T060000
END:STANDARD
BEGIN:DAYLIGHT
TZOFFSETFROM:-0500
TZOFFSETTO:-0400
TZNAME:EDT
DTSTART:20250309T070000
END:DAYLIGHT
BEGIN:STANDARD
TZOFFSETFROM:-0400
TZOFFSETTO:-0500
TZNAME:EST
DTSTART:20251102T060000
END:STANDARD
END:VTIMEZONE
BEGIN:VEVENT
DTSTART;TZID=America/New_York:20241020T090000
DTEND;TZID=America/New_York:20241020T160000
DTSTAMP:20260423T231540
CREATED:20240830T183648Z
LAST-MODIFIED:20240830T183648Z
UID:40810113209-1729414800-1729440000@www.monmouth.edu
SUMMARY:Trip to Grounds For Sculpture
DESCRIPTION:A joint trip  with the Monmouth Outdoors Club and the Monmouth Review to Grounds For  Sculpture. Grounds For Sculpture is a museum and an outdoor sculpture garden  with nearly 300 contemporary exhibits on 42 acres. Tickets will be on sale in  the Office for Student Engagement for $5 starting September 30th.
URL:https://www.monmouth.edu/events/event/trip-to-grounds-for-sculpture/
LOCATION:Grounds For Sculpture\, 80 Sculptors Way\, Trenton\, NJ\, United States
GEO:40.239618;-74.722383
X-APPLE-STRUCTURED-LOCATION;VALUE=URI;X-ADDRESS=Grounds For Sculpture 80 Sculptors Way Trenton NJ United States;X-APPLE-RADIUS=500;X-TITLE=80 Sculptors Way:geo:-74.722383,40.239618
END:VEVENT
BEGIN:VEVENT
DTSTART;TZID=America/New_York:20240930T000000
DTEND;TZID=America/New_York:20240930T235959
DTSTAMP:20260423T231540
CREATED:20240918T134953Z
LAST-MODIFIED:20240918T134953Z
UID:40810114040-1727654400-1727740799@www.monmouth.edu
SUMMARY:Grounds for Sculpture Ticket Sale
DESCRIPTION:The Monmouth Review and the Outdoors Club are hosting a trip to Grounds for Sculpture on Sunday\, October 20th! Tickets go on sale starting September 30th; only 26 tickets are available for purchase. Transportation to and from the event will be provided.
URL:https://www.monmouth.edu/events/event/grounds-for-sculpture-ticket-sale/
LOCATION:Grounds For Sculpture\, 80 Sculptors Way\, Trenton\, NJ\, United States
ATTACH;FMTTYPE=image/png:https://www.monmouth.edu/events/wp-content/uploads/sites/19/2024/09/Grounds-for-Sculpture-Trip-2nd-Poster-2-Instagram.png
GEO:40.239618;-74.722383
X-APPLE-STRUCTURED-LOCATION;VALUE=URI;X-ADDRESS=Grounds For Sculpture 80 Sculptors Way Trenton NJ United States;X-APPLE-RADIUS=500;X-TITLE=80 Sculptors Way:geo:-74.722383,40.239618
END:VEVENT
END:VCALENDAR