BEGIN:VCALENDAR
VERSION:2.0
PRODID:-//Events - ECPv6.15.20//NONSGML v1.0//EN
CALSCALE:GREGORIAN
METHOD:PUBLISH
X-WR-CALNAME:Events
X-ORIGINAL-URL:https://www.monmouth.edu/events
X-WR-CALDESC:Events for Events
REFRESH-INTERVAL;VALUE=DURATION:PT1H
X-Robots-Tag:noindex
X-PUBLISHED-TTL:PT1H
BEGIN:VTIMEZONE
TZID:America/New_York
BEGIN:DAYLIGHT
TZOFFSETFROM:-0500
TZOFFSETTO:-0400
TZNAME:EDT
DTSTART:20230312T070000
END:DAYLIGHT
BEGIN:STANDARD
TZOFFSETFROM:-0400
TZOFFSETTO:-0500
TZNAME:EST
DTSTART:20231105T060000
END:STANDARD
BEGIN:DAYLIGHT
TZOFFSETFROM:-0500
TZOFFSETTO:-0400
TZNAME:EDT
DTSTART:20240310T070000
END:DAYLIGHT
BEGIN:STANDARD
TZOFFSETFROM:-0400
TZOFFSETTO:-0500
TZNAME:EST
DTSTART:20241103T060000
END:STANDARD
BEGIN:DAYLIGHT
TZOFFSETFROM:-0500
TZOFFSETTO:-0400
TZNAME:EDT
DTSTART:20250309T070000
END:DAYLIGHT
BEGIN:STANDARD
TZOFFSETFROM:-0400
TZOFFSETTO:-0500
TZNAME:EST
DTSTART:20251102T060000
END:STANDARD
BEGIN:DAYLIGHT
TZOFFSETFROM:-0500
TZOFFSETTO:-0400
TZNAME:EDT
DTSTART:20260308T070000
END:DAYLIGHT
BEGIN:STANDARD
TZOFFSETFROM:-0400
TZOFFSETTO:-0500
TZNAME:EST
DTSTART:20261101T060000
END:STANDARD
BEGIN:DAYLIGHT
TZOFFSETFROM:-0500
TZOFFSETTO:-0400
TZNAME:EDT
DTSTART:20270314T070000
END:DAYLIGHT
BEGIN:STANDARD
TZOFFSETFROM:-0400
TZOFFSETTO:-0500
TZNAME:EST
DTSTART:20271107T060000
END:STANDARD
END:VTIMEZONE
BEGIN:VEVENT
DTSTART;TZID=America/New_York:20260415T163000
DTEND;TZID=America/New_York:20260415T180000
DTSTAMP:20260421T045150
CREATED:20260402T203100Z
LAST-MODIFIED:20260403T160511Z
UID:40810122091-1776270600-1776276000@www.monmouth.edu
SUMMARY:Visiting Writers Series with Megha Majumdar
DESCRIPTION:Free & Open to the Public\, but registration is required.  \nPlease join us for a keynote event: Megha Majumdar \nNational Bestseller\nWinner of the Andrew Carnegie Medal for Excellence\nFinalist for the National Book Award\nOprah’s Book Club Pick & NYPL/WNYC Get Lit March Book Club \nIn conversation with Monmouth University students & book signing. Welcome by Dr. Patrick Leahy\, Monmouth University President \nSponsored by:\nThe Office of the President\nThe Office of the Provost\nThe Department of Political Science and Sociology\nThe Freed Endowed Chair in Social Sciences\nThe Rechnitz Family/UCI Endowed Chair in Marine & Environmental Law and Policy\nMonmouth University Bookstore
URL:https://www.monmouth.edu/events/event/visiting-writers-series-with-megha-majumdar/
LOCATION:Great Hall Auditorium
CATEGORIES:Alumni,Arts at Monmouth,Community Member,Current Student,English,Faculty,Free,Lectures,School of Humanities and Social Sciences,World Languages and Culture
ATTACH;FMTTYPE=image/jpeg:https://www.monmouth.edu/events/wp-content/uploads/sites/19/2026/04/Copy-of-Untitled-Design.jpg
END:VEVENT
BEGIN:VEVENT
DTSTART;TZID=America/New_York:20260407T140000
DTEND;TZID=America/New_York:20260407T170000
DTSTAMP:20260421T045150
CREATED:20260330T175530Z
LAST-MODIFIED:20260330T175530Z
UID:40810122065-1775570400-1775581200@www.monmouth.edu
SUMMARY:Monmouth Untold
DESCRIPTION:Join us for the Monmouth Untold Project\, led by the Student Government Association\, a student panel focused on breaking mental and emotional health stigmas!n—nEvent Details: https://campusgroups.monmouth.edu/rsvp?id=376045
URL:https://www.monmouth.edu/events/event/monmouth-untold/
LOCATION:Great Hall Auditorium
ATTACH;FMTTYPE=image/jpeg:https://www.monmouth.edu/events/wp-content/uploads/sites/19/2026/03/image_upload_601288_Monmouth_Untold_Hawk_Hubjpg_327141241.jpeg
END:VEVENT
BEGIN:VEVENT
DTSTART;TZID=America/New_York:20260216T180000
DTEND;TZID=America/New_York:20260216T193000
DTSTAMP:20260421T045150
CREATED:20260130T235210Z
LAST-MODIFIED:20260131T020900Z
UID:40810121115-1771264800-1771270200@www.monmouth.edu
SUMMARY:Heightened Scrutiny
DESCRIPTION:HEIGHTENED SCRUTINY follows Chase Strangio\, ACLU attorney and the first out trans person to argue before the Supreme Court\, as he fights a high-stakes legal battle to overturn Tennessee’s ban on gender-affirming care for transgender youth (United States v. Skrmetti). \nThe film exposes the dangerous role of mainstream media in fueling anti-trans legislation\, uncovering how biased coverage drives hate\, endangers lives\, and threatens democracy itself. With insights from journalists like Jelani Cobb\, Lydia Polgreen\, and Gina Chua\, and activists like Laverne Cox\, the story dismantles anti-trans disinformation and highlights its devastating real-world impact. \nWith the dangerous SCOTUS decision upholding the ban on life-saving healthcare\, HEIGHTENED SCRUTINY is an urgent call to action against bigotry and injustice. \nTo learn more about the documentary\, please visit: https://www.heightenedscrutinydoc.com/ \nThis event is sponsored by the Intercultural Center\, Program on Gender & Intersectionality Studies (PGIS)\, ArtNOW: Performance\, Art\, and Technology & Department of Communication.
URL:https://www.monmouth.edu/events/event/art-now-heightened-scrutiny/
LOCATION:Great Hall Auditorium
CATEGORIES:Alumni,Alumni Affairs,Alumni Events,Arts at Monmouth,Community Member,Free,Lectures,Lectures/Workshops/Symposiums,School of Humanities and Social Sciences,Virtual,Workshops and Professional Development
ATTACH;FMTTYPE=image/jpeg:https://www.monmouth.edu/events/wp-content/uploads/sites/19/2026/01/Scrutiny-09122025-1140x644-1.jpg
END:VEVENT
BEGIN:VEVENT
DTSTART;TZID=America/New_York:20251113T100500
DTEND;TZID=America/New_York:20251113T210000
DTSTAMP:20260421T045150
CREATED:20251105T205616Z
LAST-MODIFIED:20251105T205616Z
UID:40810120151-1763028300-1763067600@www.monmouth.edu
SUMMARY:Global Understanding Convention 2025
DESCRIPTION:In recognition of the United Nations’ Declaration of 2025 as the n”International Year of Peace and Trust”nnMorning Session: 10:05-1:30nAfternoon/Evening Session: 12:30-5:30pmnKey Note Speaker & Global Leadership Award: 5-6pmnPearson World Cinema Series: 6-9pmn n—nEvent Details: https://campusgroups.monmouth.edu/rsvp?id=375514
URL:https://www.monmouth.edu/events/event/global-understanding-convention-2025-2/
LOCATION:Great Hall Auditorium
ATTACH;FMTTYPE=image/png:https://www.monmouth.edu/events/wp-content/uploads/sites/19/2025/11/image_upload_600703_Screenshot_20250910_10921_PM_115122421.png
END:VEVENT
BEGIN:VEVENT
DTSTART;TZID=America/New_York:20250925T180000
DTEND;TZID=America/New_York:20250925T213000
DTSTAMP:20260421T045150
CREATED:20250902T145422Z
LAST-MODIFIED:20250902T162424Z
UID:40810119533-1758823200-1758835800@www.monmouth.edu
SUMMARY:Evil Does Not Exist
DESCRIPTION:This is the Institute for Global Understanding (IGU) and the Center for the Arts at Monmouth University’s first Pearson’s World Cinema Series (PWCS) movie and discussion event of the fall semester on Thursday\, September 25th\, at 6:05PM in the Great Hall Auditorium. We will screen the movie Evil Does Not Exist (2023)\, directed by Ryûsuke Hamaguchi\, followed by a post-screening Q&A session hosted by Dean Dave Golland and with Prof. Chris DeRosa as discussant. A post-screening discussions and refreshments will follow.
URL:https://www.monmouth.edu/events/event/evil-does-not-exist/
LOCATION:Great Hall Auditorium
CATEGORIES:Alumni,Arts at Monmouth,Community Member,Current Student,Faculty,Film,Free,Institute for Global Understanding,Institute for Global Understanding
ATTACH;FMTTYPE=image/jpeg:https://www.monmouth.edu/events/wp-content/uploads/sites/19/2025/08/WSC2025_01.jpg
END:VEVENT
BEGIN:VEVENT
DTSTART;TZID=America/New_York:20250418T140000
DTEND;TZID=America/New_York:20250418T153000
DTSTAMP:20260421T045150
CREATED:20250409T202241Z
LAST-MODIFIED:20250409T202241Z
UID:40810119099-1744984800-1744990200@www.monmouth.edu
SUMMARY:Mission Accomplished
DESCRIPTION:The senior-send off for Military-connected Students (Veterans & Dependents) will be on Friday\, April 18th at 2pm in the Great Hall Auditorium. \nFor this event\, you are welcome to invite your friends & families to attend where there will be light refreshments! Veterans will receive their Veteran stole and Dependents/Spouses/SVA (non-veteran) members will receive a cord! With that said\, no caps or gowns for this event but feel free to come in a fresh fit!
URL:https://www.monmouth.edu/events/event/mission-accomplished/
LOCATION:Great Hall Auditorium
ATTACH;FMTTYPE=image/png:https://www.monmouth.edu/events/wp-content/uploads/sites/19/2025/04/Senior-Send-Off-1.png
ORGANIZER;CN="Office of Student Support &amp%3B Veteran Services":MAILTO:xramirez@monmouth.edu
END:VEVENT
BEGIN:VEVENT
DTSTART;TZID=America/New_York:20250222T180000
DTEND;TZID=America/New_York:20250222T200000
DTSTAMP:20260421T045150
CREATED:20250109T171218Z
LAST-MODIFIED:20250214T162438Z
UID:40810117794-1740247200-1740254400@www.monmouth.edu
SUMMARY:BHR Song Writers Series
DESCRIPTION:Discover the heart of music at the Blue Hawk Records Songwriters Event! Join us for an inspiring night of original songs\, creative storytelling\, live performances by talented artists and FREE food!  Saturday\, February 22\, 6-8 pm\, Great Hall Auditorium.
URL:https://www.monmouth.edu/events/event/bhr-song-writers-series/
LOCATION:Great Hall Auditorium
ATTACH;FMTTYPE=application/pdf:https://www.monmouth.edu/events/wp-content/uploads/sites/19/2025/01/BHR-Song-writers-series-2.pdf
END:VEVENT
BEGIN:VEVENT
DTSTART;TZID=America/New_York:20250205T190000
DTEND;TZID=America/New_York:20250205T210000
DTSTAMP:20260421T045150
CREATED:20250108T211951Z
LAST-MODIFIED:20250115T205303Z
UID:40810117726-1738782000-1738789200@www.monmouth.edu
SUMMARY:Black History Month Blues Café
DESCRIPTION:Celebrate Black History Month at the Blues Café\, where soulful tunes meet powerful history in an unforgettable evening of music and culture. Enjoy live performances\, coffee\, and games.
URL:https://www.monmouth.edu/events/event/black-history-month-blues-cafe/
LOCATION:Great Hall Auditorium
CATEGORIES:Intercultural Center Events
ATTACH;FMTTYPE=image/png:https://www.monmouth.edu/events/wp-content/uploads/sites/19/2025/01/2025-01-15-15_50_14-Window.png
ORGANIZER;CN="Intercultural Center":MAILTO:Intercultural@monmouth.edu
END:VEVENT
BEGIN:VEVENT
DTSTART;TZID=America/New_York:20250124T210000
DTEND;TZID=America/New_York:20250124T230000
DTSTAMP:20260421T045150
CREATED:20250108T211017Z
LAST-MODIFIED:20250108T211017Z
UID:40810117686-1737752400-1737759600@www.monmouth.edu
SUMMARY:Welcome Back Silent Disco
DESCRIPTION:Join us and back by popular demand is Silent Disco! Put on the headphones and dance the night away. Reconnect with friends and make unforgettable memories in a vibrant\, noise-free atmosphere that lets you control the party vibe! \n 
URL:https://www.monmouth.edu/events/event/welcome-back-silent-disco/
LOCATION:Great Hall Auditorium
ATTACH;FMTTYPE=image/jpeg:https://www.monmouth.edu/events/wp-content/uploads/sites/19/2025/01/AKF-9324-171.jpg
END:VEVENT
BEGIN:VEVENT
DTSTART;TZID=America/New_York:20250123T190000
DTEND;TZID=America/New_York:20250123T220000
DTSTAMP:20260421T045150
CREATED:20250121T134523Z
LAST-MODIFIED:20250121T165300Z
UID:40810118002-1737658800-1737669600@www.monmouth.edu
SUMMARY:Carry the Love Tour 2025 at Monmouth
DESCRIPTION:Carry The Love is a Circuit Rider movement empowering university students to spark a Jesus movement right here at Monmouth University. This isn’t just an event—it’s a time for believers to unite\, be trained\, and get activated to reach your campus with the love and message of Jesus. \n​Together we can change the culture of your campus. This gathering is for those who are ready to move from dreaming to doing—so if you’re ready to take action\, this event is for you. \nWe hope to see you on Thursday night! \n– Monmouth University Cru Club \nRegistration link: https://lu.ma/3b433jio?tk=c4GoqH
URL:https://www.monmouth.edu/events/event/carry-the-love-tour-2025-at-monmouth/
LOCATION:Great Hall Auditorium
CATEGORIES:Featured Student Activites,Free,Special Events,Student Activities
ATTACH;FMTTYPE=image/jpeg:https://www.monmouth.edu/events/wp-content/uploads/sites/19/2025/01/Carry_The_Love_MU_Cru.jpg
END:VEVENT
BEGIN:VEVENT
DTSTART;TZID=America/New_York:20241113T131500
DTEND;TZID=America/New_York:20241113T143500
DTSTAMP:20260421T045150
CREATED:20241113T134940Z
LAST-MODIFIED:20241113T134940Z
UID:40810115812-1731503700-1731508500@www.monmouth.edu
SUMMARY:World Languages Festival
DESCRIPTION:The Department of World Languages and Cultures invites you to join us for our annual World Languages Festival! It’s always a lot of fun\, and a chance for Monmouth students to shine as they share their talents and love of world languages. Come and enjoy singing\, dancing\, cultural demonstrations. and some authentic cultural foods.
URL:https://www.monmouth.edu/events/event/world-languages-festival/
LOCATION:Great Hall Auditorium
CATEGORIES:Diversity and Inclusion,Free,LatinXConnect
ATTACH;FMTTYPE=image/jpeg:https://www.monmouth.edu/events/wp-content/uploads/sites/19/2024/11/2024_WLF_flier.jpg
ORGANIZER;CN="Julia Riordan-Goncalves":MAILTO:jriordan@monmouth.edu
END:VEVENT
BEGIN:VEVENT
DTSTART;TZID=America/New_York:20241022T170000
DTEND;TZID=America/New_York:20241022T170000
DTSTAMP:20260421T045150
CREATED:20241010T195805Z
LAST-MODIFIED:20241010T195827Z
UID:40810114481-1729616400-1729616400@www.monmouth.edu
SUMMARY:The Stephen B. Siegel Lecture Series 2024-2025
DESCRIPTION:The Future of Affordable Housing in New Jersey: A Discussion of Challenges and Opportunities\nPresented by the Kislak Real Estate Institute at Monmouth University and the Greenbaum/Ferguson/NJAR Endowed Chair \nLight Refreshments: 5 p.m.\nLecture: 6 p.m. \nAdmission is free\, but seating is limited: we suggest registering your attendance. \nPanelists\nHenry Kent-Smith\nRetired Partner\, Fox Rothschild\, and Monmouth University Adjunct in Real Estate Law \nKendra Lelie\, PP\, AICP\, LLA\nProfessional Planner at Kyle + McManus Associates \nRandi Moore\nChief Executive Officer\, Affordable Housing Alliance \nChris Pugliese\nDirector of Housing Development\, Affordable Housing Alliance \nBarbara Schoor\nRetired\, Vice President\, Community Investment Strategies \nTom Stackhouse\nExecutive Vice President\, Chief Credit Officer at Lakeland Bank\, and Kislak Real Estate Institute Advisory Council Member \nModerator\nRobert H. Scott\, III\, Ph.D.\nGreenbaum/Ferguson/NJAR Endowed Chair in Real Estate Policy
URL:https://www.monmouth.edu/events/event/the-stephen-b-siegel-lecture-series-2024-2025/
LOCATION:Great Hall Auditorium
CATEGORIES:Alumni,Community Member,Current Student,Faculty,Free,Graduate Student,Lectures,Lectures/Workshops/Symposiums,Media,Undergraduate Student
END:VEVENT
BEGIN:VEVENT
DTSTART;TZID=America/New_York:20240928T193000
DTEND;TZID=America/New_York:20240928T220000
DTSTAMP:20260421T045150
CREATED:20240830T134412Z
LAST-MODIFIED:20240919T174136Z
UID:40810113197-1727551800-1727560800@www.monmouth.edu
SUMMARY:Family Weekend Casino Night
DESCRIPTION:
URL:https://www.monmouth.edu/events/event/family-weekend-casino-night/
LOCATION:Great Hall Auditorium
ATTACH;FMTTYPE=image/jpeg:https://www.monmouth.edu/events/wp-content/uploads/sites/19/2024/08/Casino-Night-2024.jpeg
END:VEVENT
BEGIN:VEVENT
DTSTART;TZID=America/New_York:20240920T180000
DTEND;TZID=America/New_York:20240920T210000
DTSTAMP:20260421T045150
CREATED:20240830T134411Z
LAST-MODIFIED:20240919T142830Z
UID:40810113155-1726855200-1726866000@www.monmouth.edu
SUMMARY:Escape The Room
DESCRIPTION:Can you make it out in time? Come to the Great Hall Auditorium and see if you can escape. Pizza will be served and games will be available to play!
URL:https://www.monmouth.edu/events/event/escape-the-room/
LOCATION:Great Hall Auditorium
ATTACH;FMTTYPE=image/png:https://www.monmouth.edu/events/wp-content/uploads/sites/19/2024/08/920-Escape-Room-8.5-x-11-in-1.png
END:VEVENT
END:VCALENDAR