BEGIN:VCALENDAR
VERSION:2.0
PRODID:-//Events - ECPv6.15.20//NONSGML v1.0//EN
CALSCALE:GREGORIAN
METHOD:PUBLISH
X-ORIGINAL-URL:https://www.monmouth.edu/events
X-WR-CALDESC:Events for Events
REFRESH-INTERVAL;VALUE=DURATION:PT1H
X-Robots-Tag:noindex
X-PUBLISHED-TTL:PT1H
BEGIN:VTIMEZONE
TZID:America/New_York
BEGIN:DAYLIGHT
TZOFFSETFROM:-0500
TZOFFSETTO:-0400
TZNAME:EDT
DTSTART:20230312T070000
END:DAYLIGHT
BEGIN:STANDARD
TZOFFSETFROM:-0400
TZOFFSETTO:-0500
TZNAME:EST
DTSTART:20231105T060000
END:STANDARD
BEGIN:DAYLIGHT
TZOFFSETFROM:-0500
TZOFFSETTO:-0400
TZNAME:EDT
DTSTART:20240310T070000
END:DAYLIGHT
BEGIN:STANDARD
TZOFFSETFROM:-0400
TZOFFSETTO:-0500
TZNAME:EST
DTSTART:20241103T060000
END:STANDARD
BEGIN:DAYLIGHT
TZOFFSETFROM:-0500
TZOFFSETTO:-0400
TZNAME:EDT
DTSTART:20250309T070000
END:DAYLIGHT
BEGIN:STANDARD
TZOFFSETFROM:-0400
TZOFFSETTO:-0500
TZNAME:EST
DTSTART:20251102T060000
END:STANDARD
BEGIN:DAYLIGHT
TZOFFSETFROM:-0500
TZOFFSETTO:-0400
TZNAME:EDT
DTSTART:20260308T070000
END:DAYLIGHT
BEGIN:STANDARD
TZOFFSETFROM:-0400
TZOFFSETTO:-0500
TZNAME:EST
DTSTART:20261101T060000
END:STANDARD
END:VTIMEZONE
BEGIN:VEVENT
DTSTART;TZID=America/New_York:20250313T180000
DTEND;TZID=America/New_York:20250313T200000
DTSTAMP:20260424T054036
CREATED:20250225T215940Z
LAST-MODIFIED:20250225T220026Z
UID:40810118809-1741888800-1741896000@www.monmouth.edu
SUMMARY:CAC Presentation Series: "Medical Trauma: Emotional Implications and Crisis Intervention"
DESCRIPTION:CAC Presentation Series: Alumni Status\n\nMedical Trauma: Emotional Implications and Crisis Intervention\n\nPresenter: Alison Kulick\, M.S.\, LPC\, NCC\, CVT\n\n\nPrice: $20 for Alumni and Professionals\, Free for Students \n\n\n\n2 CE Hours Provided \n\n\n\nTraumatic medical events such as illness\, diagnostic\, or therapeutic procedures can have a myriad of emotional consequences which can include PTSD\, chronic anxiety\, varying somatic symptoms such as panic attacks\, and can lead to the avoidance of necessary medical procedures. This presentation will discuss the physical and psychological challenges associated with medical trauma as well as therapeutic interventions which may help mitigate the emotional suffering of these potentially profoundly distressing scenarios. \n\n\n\nAlison Kulick graduated with her master’s degree from the Clinical Mental Health program in 2019 from Monmouth University. She has her bachelor’s degree in Animal Science from Rutgers University/Cook College. She is a licensed professional counselor and national certified counselor and still maintains her credentialing as a certified veterinary technician.
URL:https://www.monmouth.edu/events/event/cac-presentation-series-medical-trauma-emotional-implications-and-crisis-intervention/
LOCATION:Edison Hall E201
CATEGORIES:Alumni,Community Member,Lectures,Lectures/Workshops/Symposiums,Professional Counseling,School of Humanities and Social Sciences,Workshops and Professional Development
END:VEVENT
BEGIN:VEVENT
DTSTART;TZID=America/New_York:20250217T163000
DTEND;TZID=America/New_York:20250217T175000
DTSTAMP:20260424T054036
CREATED:20250206T195557Z
LAST-MODIFIED:20250210T170305Z
UID:40810118585-1739809800-1739814600@www.monmouth.edu
SUMMARY:Surviving Climate Change in an Authoritarian State
DESCRIPTION:Public Talk by Dr. Peter J. Jacques \nRechnitz Family/UCI Endowed Chair in\nMarine and Environmental Law and Policy\nDepartment of Political Science and Sociology \n  \nThe Indigenous Amazigh people of the High Atlas Mountains in Morocco are one of the world’s oldest cultures\, and they have handed down practices that have helped them survive several millennia of environmental changes in North Africa. However\, they live under the authoritarian rule of King Mohammed VI and they are prevented from using these tools while at the same time some villages ran out of drinking water two summers ago. How will they survive these next few decades when they face grinding poverty and political oppression? In fact\, they have a plan and it is one that everyone should hear. \n  \nPart of the Climate Crisis Teach-in at Monmouth University\, and sponsored by the Council for Endowed Chairs and the Institute for Global Understanding
URL:https://www.monmouth.edu/events/event/surviving-climate-change-in-an-authoritarian-state/
LOCATION:Edison Hall E201
ATTACH;FMTTYPE=image/jpeg:https://www.monmouth.edu/events/wp-content/uploads/sites/19/2025/02/999999999.20250210145545743.999999999.20250210145545743FRqPo.jpg
ORGANIZER;CN="Climate Crisis Teach-in":MAILTO:cduckett@monmouth.edu
END:VEVENT
BEGIN:VEVENT
DTSTART;TZID=America/New_York:20241106T170000
DTEND;TZID=America/New_York:20241106T190000
DTSTAMP:20260424T054036
CREATED:20241025T144442Z
LAST-MODIFIED:20241025T144513Z
UID:40810115159-1730912400-1730919600@www.monmouth.edu
SUMMARY:David Libesman: Al and Data Thought Leader (Industry Speaker Event)
DESCRIPTION:Hosted by the School of Science and the Computer Science and Software Engineering Department \n\nJoin us for an exclusive event featuring David Libesman (AI and data analytics thought leader; and SVP & GM\, AI & Data Analytics at WorkWave). Libesman has revolutionized how businesses leverage AI for optimizing profits\, operational efficiency\, and customer engagement. \n\n\nLearn how Al is disrupting traditional business models across industries.\nUnderstand how companies use predictive analytics and data-driven insights to gain a competitive edge.\nGain insights on how Al is transforming the service management landscape\, from automating schedules to enhancing customer support.\nAl-Driven Solutions: Discover how Al streamlines WorkWave’s service operations\, ensuring efficiency and accuracy.\nPredictive Analytics: Hear how predictive models are helping businesses forecast demand\, optimize resources\, and prevent customer churn.\n\n\n\n\nRegister for the Event
URL:https://www.monmouth.edu/events/event/david-libesman-al-and-data-thought-leader-industry-speaker-event/
LOCATION:Edison Hall E201
CATEGORIES:Alumni,Computer Science + Software Engineering,Current Student,Faculty,Free,Graduate Student,Lectures,Lectures/Workshops/Symposiums,Media,School of Science,Undergraduate Student,Workshops and Professional Development
END:VEVENT
END:VCALENDAR