BEGIN:VCALENDAR
VERSION:2.0
PRODID:-//Events - ECPv6.15.20//NONSGML v1.0//EN
CALSCALE:GREGORIAN
METHOD:PUBLISH
X-WR-CALNAME:Events
X-ORIGINAL-URL:https://www.monmouth.edu/events
X-WR-CALDESC:Events for Events
REFRESH-INTERVAL;VALUE=DURATION:PT1H
X-Robots-Tag:noindex
X-PUBLISHED-TTL:PT1H
BEGIN:VTIMEZONE
TZID:America/New_York
BEGIN:DAYLIGHT
TZOFFSETFROM:-0500
TZOFFSETTO:-0400
TZNAME:EDT
DTSTART:20240310T070000
END:DAYLIGHT
BEGIN:STANDARD
TZOFFSETFROM:-0400
TZOFFSETTO:-0500
TZNAME:EST
DTSTART:20241103T060000
END:STANDARD
BEGIN:DAYLIGHT
TZOFFSETFROM:-0500
TZOFFSETTO:-0400
TZNAME:EDT
DTSTART:20250309T070000
END:DAYLIGHT
BEGIN:STANDARD
TZOFFSETFROM:-0400
TZOFFSETTO:-0500
TZNAME:EST
DTSTART:20251102T060000
END:STANDARD
BEGIN:DAYLIGHT
TZOFFSETFROM:-0500
TZOFFSETTO:-0400
TZNAME:EDT
DTSTART:20260308T070000
END:DAYLIGHT
BEGIN:STANDARD
TZOFFSETFROM:-0400
TZOFFSETTO:-0500
TZNAME:EST
DTSTART:20261101T060000
END:STANDARD
END:VTIMEZONE
BEGIN:VEVENT
DTSTART;TZID=America/New_York:20250427T120000
DTEND;TZID=America/New_York:20250427T160000
DTSTAMP:20260423T061930
CREATED:20250109T191147Z
LAST-MODIFIED:20250416T135346Z
UID:40810117824-1745755200-1745769600@www.monmouth.edu
SUMMARY:Wild West Springfest
DESCRIPTION:Saddle up for Wild West Springfest!  A celebration filled with western-inspired fun\, food\, games\, rides\, entertainment\, and more! We’ll have a variety of food trucks\, carnival rides\, novelties\, a Gourmet Dining western themed BBQ\, musical performances by members of Blue Hawk Records\, and much more.  Event is open to only Monmouth University students.  Sunday\, April 27 from noon to 4 pm in the commuter parking lot.  (Rain Location:  Ocean First Bank Center)
URL:https://www.monmouth.edu/events/event/wild-west-springfest/
LOCATION:Commuter Parking Lot
ATTACH;FMTTYPE=image/jpeg:https://www.monmouth.edu/events/wp-content/uploads/sites/19/2025/01/AKF-MU-109.jpg
END:VEVENT
END:VCALENDAR