BEGIN:VCALENDAR
VERSION:2.0
PRODID:-//Events - ECPv6.15.20//NONSGML v1.0//EN
CALSCALE:GREGORIAN
METHOD:PUBLISH
X-WR-CALNAME:Events
X-ORIGINAL-URL:https://www.monmouth.edu/events
X-WR-CALDESC:Events for Events
REFRESH-INTERVAL;VALUE=DURATION:PT1H
X-Robots-Tag:noindex
X-PUBLISHED-TTL:PT1H
BEGIN:VTIMEZONE
TZID:America/New_York
BEGIN:DAYLIGHT
TZOFFSETFROM:-0500
TZOFFSETTO:-0400
TZNAME:EDT
DTSTART:20230312T070000
END:DAYLIGHT
BEGIN:STANDARD
TZOFFSETFROM:-0400
TZOFFSETTO:-0500
TZNAME:EST
DTSTART:20231105T060000
END:STANDARD
BEGIN:DAYLIGHT
TZOFFSETFROM:-0500
TZOFFSETTO:-0400
TZNAME:EDT
DTSTART:20240310T070000
END:DAYLIGHT
BEGIN:STANDARD
TZOFFSETFROM:-0400
TZOFFSETTO:-0500
TZNAME:EST
DTSTART:20241103T060000
END:STANDARD
BEGIN:DAYLIGHT
TZOFFSETFROM:-0500
TZOFFSETTO:-0400
TZNAME:EDT
DTSTART:20250309T070000
END:DAYLIGHT
BEGIN:STANDARD
TZOFFSETFROM:-0400
TZOFFSETTO:-0500
TZNAME:EST
DTSTART:20251102T060000
END:STANDARD
BEGIN:DAYLIGHT
TZOFFSETFROM:-0500
TZOFFSETTO:-0400
TZNAME:EDT
DTSTART:20260308T070000
END:DAYLIGHT
BEGIN:STANDARD
TZOFFSETFROM:-0400
TZOFFSETTO:-0500
TZNAME:EST
DTSTART:20261101T060000
END:STANDARD
END:VTIMEZONE
BEGIN:VEVENT
DTSTART;TZID=America/New_York:20250403T170000
DTEND;TZID=America/New_York:20250403T190000
DTSTAMP:20260422T051928
CREATED:20250122T212742Z
LAST-MODIFIED:20250326T174845Z
UID:40810118078-1743699600-1743706800@www.monmouth.edu
SUMMARY:SGA Sexual Awareness Week - Consent Workshop & Cards for Survivors
DESCRIPTION:Join the SGA\,  Health Center  and the Monmouth University Title IX Coordinator for the Sexual Education Awareness Week: Night of Consent Workshop. Gain valuable insights on communication\, boundaries\, and healthy relationships in this engaging and informative session!  Students will also have an opportunity to write cards of support for survivors of sexual assault.  Thursday\, April 3\, 5-7 p.m.\, Carol Affilito Conference Room and SGA Conference Room\, 3rd floor of the Student Center.
URL:https://www.monmouth.edu/events/event/sgasexual-awareness-week-night-of-consent-workshop/
LOCATION:Carol Afflitto Conference Room – Rebecca Stafford Student Center
ATTACH;FMTTYPE=image/jpeg:https://www.monmouth.edu/events/wp-content/uploads/sites/19/2025/01/19-SGA-logo-final.jpg
END:VEVENT
BEGIN:VEVENT
DTSTART;TZID=America/New_York:20241217T150000
DTEND;TZID=America/New_York:20241217T160000
DTSTAMP:20260422T051928
CREATED:20241017T194445Z
LAST-MODIFIED:20241017T194445Z
UID:40810115074-1734447600-1734451200@www.monmouth.edu
SUMMARY:Relationships IRL - Sacred Connections: Exploring & Fostering a Relationship with Your Spirituality or Religion 
DESCRIPTION:A Monmouth CPS workshop series focused on exploring the various types of relationships we encounter in our lives.
URL:https://www.monmouth.edu/events/event/relationships-irl-sacred-connections-exploring-fostering-a-relationship-with-your-spirituality-or-religion/
LOCATION:Carol Afflitto Conference Room – Rebecca Stafford Student Center
END:VEVENT
BEGIN:VEVENT
DTSTART;TZID=America/New_York:20241210T150000
DTEND;TZID=America/New_York:20241210T160000
DTSTAMP:20260422T051928
CREATED:20241017T194546Z
LAST-MODIFIED:20241017T194546Z
UID:40810115072-1733842800-1733846400@www.monmouth.edu
SUMMARY:Relationships IRL - Love & Learn: Nurturing Healthy Romantic Relationships
DESCRIPTION:A Monmouth CPS workshop series focused on exploring the various types of relationships we encounter in our lives.
URL:https://www.monmouth.edu/events/event/relationships-irl-love-learn-nurturing-healthy-romantic-relationships/
LOCATION:Carol Afflitto Conference Room – Rebecca Stafford Student Center
END:VEVENT
BEGIN:VEVENT
DTSTART;TZID=America/New_York:20241203T150000
DTEND;TZID=America/New_York:20241203T160000
DTSTAMP:20260422T051928
CREATED:20241017T194650Z
LAST-MODIFIED:20241017T194650Z
UID:40810115071-1733238000-1733241600@www.monmouth.edu
SUMMARY:Relationships IRL - Professional Dynamics: Enhancing Relationships with Insight
DESCRIPTION:A Monmouth CPS workshop series focused on exploring the various types of relationships we encounter in our lives.
URL:https://www.monmouth.edu/events/event/relationships-irl-professional-dynamics-enhancing-relationships-with-insight/
LOCATION:Carol Afflitto Conference Room – Rebecca Stafford Student Center
END:VEVENT
BEGIN:VEVENT
DTSTART;TZID=America/New_York:20241119T150000
DTEND;TZID=America/New_York:20241119T160000
DTSTAMP:20260422T051928
CREATED:20241017T194743Z
LAST-MODIFIED:20241017T194743Z
UID:40810115070-1732028400-1732032000@www.monmouth.edu
SUMMARY:Relationships IRL - Me\, Myself\, & I: Embracing Self Connections
DESCRIPTION:A Monmouth CPS workshop series focused on exploring the various types of relationships we encounter in our lives.
URL:https://www.monmouth.edu/events/event/relationships-irl-me-myself-i-embracing-self-connections/
LOCATION:Carol Afflitto Conference Room – Rebecca Stafford Student Center
END:VEVENT
BEGIN:VEVENT
DTSTART;TZID=America/New_York:20241112T150000
DTEND;TZID=America/New_York:20241112T160000
DTSTAMP:20260422T051928
CREATED:20241017T194833Z
LAST-MODIFIED:20241017T194833Z
UID:40810115068-1731423600-1731427200@www.monmouth.edu
SUMMARY:Relationships IRL Series - Friendship Circle: Cultivating Platonic Relationships
DESCRIPTION:A Monmouth CPS workshop series focused on exploring the various types of relationships we encounter in our lives.
URL:https://www.monmouth.edu/events/event/relationships-irl-series-friendship-circle-cultivating-platonic-relationships/
LOCATION:Carol Afflitto Conference Room – Rebecca Stafford Student Center
END:VEVENT
BEGIN:VEVENT
DTSTART;TZID=America/New_York:20241105T150000
DTEND;TZID=America/New_York:20241105T160000
DTSTAMP:20260422T051928
CREATED:20241017T193219Z
LAST-MODIFIED:20241017T193219Z
UID:40810115066-1730818800-1730822400@www.monmouth.edu
SUMMARY:Relationships IRL Series - Family Friction: Understanding Differences & Strengthening Family Ties
DESCRIPTION:A Monmouth CPS workshop series focused on exploring the various types of relationships we encounter in our lives.
URL:https://www.monmouth.edu/events/event/relationships-irl-series-family-friction-understanding-differences-strengthening-family-ties/
LOCATION:Carol Afflitto Conference Room – Rebecca Stafford Student Center
END:VEVENT
BEGIN:VEVENT
DTSTART;TZID=America/New_York:20241017T170000
DTEND;TZID=America/New_York:20241017T180000
DTSTAMP:20260422T051928
CREATED:20241014T153419Z
LAST-MODIFIED:20241017T142159Z
UID:40810115030-1729184400-1729188000@www.monmouth.edu
SUMMARY:Monmouth Golf Interest Group (First Meeting)
DESCRIPTION:This event will be to determine who is interested in joining a possible golf club. We will meet in the Carol Afflito Conference Room\, located on the third floor of the Rebecca Stafford Student Center.
URL:https://www.monmouth.edu/events/event/monmouth-golf-interest-group-first-meeting/
LOCATION:Carol Afflitto Conference Room – Rebecca Stafford Student Center
CATEGORIES:Current Student,Student Activities
ATTACH;FMTTYPE=application/pdf:https://www.monmouth.edu/events/wp-content/uploads/sites/19/2024/10/monmouth-golf-interest-group-flyers-options-dragged-2-2.pdf
END:VEVENT
END:VCALENDAR