BEGIN:VCALENDAR
VERSION:2.0
PRODID:-//Events - ECPv6.15.20//NONSGML v1.0//EN
CALSCALE:GREGORIAN
METHOD:PUBLISH
X-ORIGINAL-URL:https://www.monmouth.edu/events
X-WR-CALDESC:Events for Events
REFRESH-INTERVAL;VALUE=DURATION:PT1H
X-Robots-Tag:noindex
X-PUBLISHED-TTL:PT1H
BEGIN:VTIMEZONE
TZID:America/New_York
BEGIN:DAYLIGHT
TZOFFSETFROM:-0500
TZOFFSETTO:-0400
TZNAME:EDT
DTSTART:20230312T070000
END:DAYLIGHT
BEGIN:STANDARD
TZOFFSETFROM:-0400
TZOFFSETTO:-0500
TZNAME:EST
DTSTART:20231105T060000
END:STANDARD
BEGIN:DAYLIGHT
TZOFFSETFROM:-0500
TZOFFSETTO:-0400
TZNAME:EDT
DTSTART:20240310T070000
END:DAYLIGHT
BEGIN:STANDARD
TZOFFSETFROM:-0400
TZOFFSETTO:-0500
TZNAME:EST
DTSTART:20241103T060000
END:STANDARD
BEGIN:DAYLIGHT
TZOFFSETFROM:-0500
TZOFFSETTO:-0400
TZNAME:EDT
DTSTART:20250309T070000
END:DAYLIGHT
BEGIN:STANDARD
TZOFFSETFROM:-0400
TZOFFSETTO:-0500
TZNAME:EST
DTSTART:20251102T060000
END:STANDARD
BEGIN:DAYLIGHT
TZOFFSETFROM:-0500
TZOFFSETTO:-0400
TZNAME:EDT
DTSTART:20260308T070000
END:DAYLIGHT
BEGIN:STANDARD
TZOFFSETFROM:-0400
TZOFFSETTO:-0500
TZNAME:EST
DTSTART:20261101T060000
END:STANDARD
BEGIN:DAYLIGHT
TZOFFSETFROM:-0500
TZOFFSETTO:-0400
TZNAME:EDT
DTSTART:20270314T070000
END:DAYLIGHT
BEGIN:STANDARD
TZOFFSETFROM:-0400
TZOFFSETTO:-0500
TZNAME:EST
DTSTART:20271107T060000
END:STANDARD
END:VTIMEZONE
BEGIN:VEVENT
DTSTART;TZID=America/New_York:20260421T150000
DTEND;TZID=America/New_York:20260421T180000
DTSTAMP:20260423T113721
CREATED:20260203T220919Z
LAST-MODIFIED:20260421T215917Z
UID:40810121313-1776783600-1776794400@www.monmouth.edu
SUMMARY:Baseball at LIU
DESCRIPTION:Monmouth University Baseball at LIU\nStreaming Video: http://necfrontrow.com/live-schedule?school=LIU&sport=BASE
URL:https://www.monmouth.edu/events/event/monmouth-university-baseball-at-liu/
LOCATION:Brooklyn\, NY
CATEGORIES:Men's Baseball
END:VEVENT
BEGIN:VEVENT
DTSTART;TZID=America/New_York:20260405T140000
DTEND;TZID=America/New_York:20260405T170000
DTSTAMP:20260423T113721
CREATED:20260106T143928Z
LAST-MODIFIED:20260405T155916Z
UID:40810120620-1775397600-1775408400@www.monmouth.edu
SUMMARY:Men's Tennis at LIU
DESCRIPTION:Monmouth University Men’s Tennis at LIU
URL:https://www.monmouth.edu/events/event/monmouth-university-mens-tennis-at-liu/
LOCATION:Brooklyn\, NY
CATEGORIES:Men's Tennis
END:VEVENT
BEGIN:VEVENT
DTSTART;TZID=America/New_York:20260214T130000
DTEND;TZID=America/New_York:20260214T160000
DTSTAMP:20260423T113721
CREATED:20251218T163915Z
LAST-MODIFIED:20260213T230937Z
UID:40810120477-1771074000-1771084800@www.monmouth.edu
SUMMARY:Men's Lacrosse at LIU
DESCRIPTION:Monmouth University Men’s Lacrosse at LIU\nStreaming Video: http://necfrontrow.com/game/14444\nTickets: https://athletictickets.liu.edu/Guest.aspx
URL:https://www.monmouth.edu/events/event/monmouth-university-mens-lacrosse-at-liu/
LOCATION:Brooklyn\, NY
CATEGORIES:Men's Lacrosse
END:VEVENT
BEGIN:VEVENT
DTSTART;TZID=America/New_York:20240917T140000
DTEND;TZID=America/New_York:20240917T160000
DTSTAMP:20260423T113721
CREATED:20240904T154517Z
LAST-MODIFIED:20240917T172608Z
UID:40810113629-1726581600-1726588800@www.monmouth.edu
SUMMARY:Men's Soccer at LIU
DESCRIPTION:Monmouth University Men’s Soccer at LIU\nStreaming Video: http://necfrontrow.com/live-schedule?school=LIU&sport=MSOC
URL:https://www.monmouth.edu/events/event/mens-soccer-at-liu/
LOCATION:Brooklyn\, NY
CATEGORIES:Men's Soccer
END:VEVENT
END:VCALENDAR