BEGIN:VCALENDAR
VERSION:2.0
PRODID:-//Events - ECPv6.15.20//NONSGML v1.0//EN
CALSCALE:GREGORIAN
METHOD:PUBLISH
X-WR-CALNAME:Events
X-ORIGINAL-URL:https://www.monmouth.edu/events
X-WR-CALDESC:Events for Events
REFRESH-INTERVAL;VALUE=DURATION:PT1H
X-Robots-Tag:noindex
X-PUBLISHED-TTL:PT1H
BEGIN:VTIMEZONE
TZID:America/New_York
BEGIN:DAYLIGHT
TZOFFSETFROM:-0500
TZOFFSETTO:-0400
TZNAME:EDT
DTSTART:20240310T070000
END:DAYLIGHT
BEGIN:STANDARD
TZOFFSETFROM:-0400
TZOFFSETTO:-0500
TZNAME:EST
DTSTART:20241103T060000
END:STANDARD
BEGIN:DAYLIGHT
TZOFFSETFROM:-0500
TZOFFSETTO:-0400
TZNAME:EDT
DTSTART:20250309T070000
END:DAYLIGHT
BEGIN:STANDARD
TZOFFSETFROM:-0400
TZOFFSETTO:-0500
TZNAME:EST
DTSTART:20251102T060000
END:STANDARD
BEGIN:DAYLIGHT
TZOFFSETFROM:-0500
TZOFFSETTO:-0400
TZNAME:EDT
DTSTART:20260308T070000
END:DAYLIGHT
BEGIN:STANDARD
TZOFFSETFROM:-0400
TZOFFSETTO:-0500
TZNAME:EST
DTSTART:20261101T060000
END:STANDARD
END:VTIMEZONE
BEGIN:VEVENT
DTSTART;TZID=America/New_York:20250821T183000
DTEND;TZID=America/New_York:20250821T193000
DTSTAMP:20260425T100738
CREATED:20250124T194555Z
LAST-MODIFIED:20250124T194555Z
UID:40810118273-1755801000-1755804600@www.monmouth.edu
SUMMARY:Zumba
DESCRIPTION:This class takes the “work” out of workout\, by mixing low-intensity and high-intensity moves for an interval-style\, calorie-burning dance fitness party.
URL:https://www.monmouth.edu/events/event/zumba/2025-08-21/
LOCATION:Boylan Gym South
ATTACH;FMTTYPE=image/jpeg:https://www.monmouth.edu/events/wp-content/uploads/sites/19/2025/01/M-Recreation-1.jpg
END:VEVENT
BEGIN:VEVENT
DTSTART;TZID=America/New_York:20250819T183000
DTEND;TZID=America/New_York:20250819T193000
DTSTAMP:20260425T100738
CREATED:20250124T194555Z
LAST-MODIFIED:20250124T194555Z
UID:40810118270-1755628200-1755631800@www.monmouth.edu
SUMMARY:Zumba
DESCRIPTION:This class takes the “work” out of workout\, by mixing low-intensity and high-intensity moves for an interval-style\, calorie-burning dance fitness party.
URL:https://www.monmouth.edu/events/event/zumba/2025-08-19/
LOCATION:Boylan Gym South
ATTACH;FMTTYPE=image/jpeg:https://www.monmouth.edu/events/wp-content/uploads/sites/19/2025/01/M-Recreation-1.jpg
END:VEVENT
BEGIN:VEVENT
DTSTART;TZID=America/New_York:20250814T183000
DTEND;TZID=America/New_York:20250814T193000
DTSTAMP:20260425T100738
CREATED:20250124T194555Z
LAST-MODIFIED:20250124T194555Z
UID:40810118267-1755196200-1755199800@www.monmouth.edu
SUMMARY:Zumba
DESCRIPTION:This class takes the “work” out of workout\, by mixing low-intensity and high-intensity moves for an interval-style\, calorie-burning dance fitness party.
URL:https://www.monmouth.edu/events/event/zumba/2025-08-14/
LOCATION:Boylan Gym South
ATTACH;FMTTYPE=image/jpeg:https://www.monmouth.edu/events/wp-content/uploads/sites/19/2025/01/M-Recreation-1.jpg
END:VEVENT
BEGIN:VEVENT
DTSTART;TZID=America/New_York:20250812T183000
DTEND;TZID=America/New_York:20250812T193000
DTSTAMP:20260425T100738
CREATED:20250124T194555Z
LAST-MODIFIED:20250124T194555Z
UID:40810118264-1755023400-1755027000@www.monmouth.edu
SUMMARY:Zumba
DESCRIPTION:This class takes the “work” out of workout\, by mixing low-intensity and high-intensity moves for an interval-style\, calorie-burning dance fitness party.
URL:https://www.monmouth.edu/events/event/zumba/2025-08-12/
LOCATION:Boylan Gym South
ATTACH;FMTTYPE=image/jpeg:https://www.monmouth.edu/events/wp-content/uploads/sites/19/2025/01/M-Recreation-1.jpg
END:VEVENT
BEGIN:VEVENT
DTSTART;TZID=America/New_York:20250807T183000
DTEND;TZID=America/New_York:20250807T193000
DTSTAMP:20260425T100738
CREATED:20250124T194555Z
LAST-MODIFIED:20250124T194555Z
UID:40810118261-1754591400-1754595000@www.monmouth.edu
SUMMARY:Zumba
DESCRIPTION:This class takes the “work” out of workout\, by mixing low-intensity and high-intensity moves for an interval-style\, calorie-burning dance fitness party.
URL:https://www.monmouth.edu/events/event/zumba/2025-08-07/
LOCATION:Boylan Gym South
ATTACH;FMTTYPE=image/jpeg:https://www.monmouth.edu/events/wp-content/uploads/sites/19/2025/01/M-Recreation-1.jpg
END:VEVENT
BEGIN:VEVENT
DTSTART;TZID=America/New_York:20250805T183000
DTEND;TZID=America/New_York:20250805T193000
DTSTAMP:20260425T100738
CREATED:20250124T194555Z
LAST-MODIFIED:20250124T194555Z
UID:40810118258-1754418600-1754422200@www.monmouth.edu
SUMMARY:Zumba
DESCRIPTION:This class takes the “work” out of workout\, by mixing low-intensity and high-intensity moves for an interval-style\, calorie-burning dance fitness party.
URL:https://www.monmouth.edu/events/event/zumba/2025-08-05/
LOCATION:Boylan Gym South
ATTACH;FMTTYPE=image/jpeg:https://www.monmouth.edu/events/wp-content/uploads/sites/19/2025/01/M-Recreation-1.jpg
END:VEVENT
BEGIN:VEVENT
DTSTART;TZID=America/New_York:20250731T183000
DTEND;TZID=America/New_York:20250731T193000
DTSTAMP:20260425T100738
CREATED:20250124T194555Z
LAST-MODIFIED:20250124T194555Z
UID:40810118255-1753986600-1753990200@www.monmouth.edu
SUMMARY:Zumba
DESCRIPTION:This class takes the “work” out of workout\, by mixing low-intensity and high-intensity moves for an interval-style\, calorie-burning dance fitness party.
URL:https://www.monmouth.edu/events/event/zumba/2025-07-31/
LOCATION:Boylan Gym South
ATTACH;FMTTYPE=image/jpeg:https://www.monmouth.edu/events/wp-content/uploads/sites/19/2025/01/M-Recreation-1.jpg
END:VEVENT
BEGIN:VEVENT
DTSTART;TZID=America/New_York:20250729T183000
DTEND;TZID=America/New_York:20250729T193000
DTSTAMP:20260425T100738
CREATED:20250124T194555Z
LAST-MODIFIED:20250124T194555Z
UID:40810118252-1753813800-1753817400@www.monmouth.edu
SUMMARY:Zumba
DESCRIPTION:This class takes the “work” out of workout\, by mixing low-intensity and high-intensity moves for an interval-style\, calorie-burning dance fitness party.
URL:https://www.monmouth.edu/events/event/zumba/2025-07-29/
LOCATION:Boylan Gym South
ATTACH;FMTTYPE=image/jpeg:https://www.monmouth.edu/events/wp-content/uploads/sites/19/2025/01/M-Recreation-1.jpg
END:VEVENT
BEGIN:VEVENT
DTSTART;TZID=America/New_York:20250724T183000
DTEND;TZID=America/New_York:20250724T193000
DTSTAMP:20260425T100738
CREATED:20250124T194555Z
LAST-MODIFIED:20250124T194555Z
UID:40810118249-1753381800-1753385400@www.monmouth.edu
SUMMARY:Zumba
DESCRIPTION:This class takes the “work” out of workout\, by mixing low-intensity and high-intensity moves for an interval-style\, calorie-burning dance fitness party.
URL:https://www.monmouth.edu/events/event/zumba/2025-07-24/
LOCATION:Boylan Gym South
ATTACH;FMTTYPE=image/jpeg:https://www.monmouth.edu/events/wp-content/uploads/sites/19/2025/01/M-Recreation-1.jpg
END:VEVENT
BEGIN:VEVENT
DTSTART;TZID=America/New_York:20250722T183000
DTEND;TZID=America/New_York:20250722T193000
DTSTAMP:20260425T100738
CREATED:20250124T194555Z
LAST-MODIFIED:20250124T194555Z
UID:40810118246-1753209000-1753212600@www.monmouth.edu
SUMMARY:Zumba
DESCRIPTION:This class takes the “work” out of workout\, by mixing low-intensity and high-intensity moves for an interval-style\, calorie-burning dance fitness party.
URL:https://www.monmouth.edu/events/event/zumba/2025-07-22/
LOCATION:Boylan Gym South
ATTACH;FMTTYPE=image/jpeg:https://www.monmouth.edu/events/wp-content/uploads/sites/19/2025/01/M-Recreation-1.jpg
END:VEVENT
BEGIN:VEVENT
DTSTART;TZID=America/New_York:20250717T183000
DTEND;TZID=America/New_York:20250717T193000
DTSTAMP:20260425T100738
CREATED:20250124T194555Z
LAST-MODIFIED:20250124T194555Z
UID:40810118243-1752777000-1752780600@www.monmouth.edu
SUMMARY:Zumba
DESCRIPTION:This class takes the “work” out of workout\, by mixing low-intensity and high-intensity moves for an interval-style\, calorie-burning dance fitness party.
URL:https://www.monmouth.edu/events/event/zumba/2025-07-17/
LOCATION:Boylan Gym South
ATTACH;FMTTYPE=image/jpeg:https://www.monmouth.edu/events/wp-content/uploads/sites/19/2025/01/M-Recreation-1.jpg
END:VEVENT
BEGIN:VEVENT
DTSTART;TZID=America/New_York:20250715T183000
DTEND;TZID=America/New_York:20250715T193000
DTSTAMP:20260425T100738
CREATED:20250124T194555Z
LAST-MODIFIED:20250124T194555Z
UID:40810118240-1752604200-1752607800@www.monmouth.edu
SUMMARY:Zumba
DESCRIPTION:This class takes the “work” out of workout\, by mixing low-intensity and high-intensity moves for an interval-style\, calorie-burning dance fitness party.
URL:https://www.monmouth.edu/events/event/zumba/2025-07-15/
LOCATION:Boylan Gym South
ATTACH;FMTTYPE=image/jpeg:https://www.monmouth.edu/events/wp-content/uploads/sites/19/2025/01/M-Recreation-1.jpg
END:VEVENT
BEGIN:VEVENT
DTSTART;TZID=America/New_York:20250710T183000
DTEND;TZID=America/New_York:20250710T193000
DTSTAMP:20260425T100738
CREATED:20250124T194555Z
LAST-MODIFIED:20250124T194555Z
UID:40810118237-1752172200-1752175800@www.monmouth.edu
SUMMARY:Zumba
DESCRIPTION:This class takes the “work” out of workout\, by mixing low-intensity and high-intensity moves for an interval-style\, calorie-burning dance fitness party.
URL:https://www.monmouth.edu/events/event/zumba/2025-07-10/
LOCATION:Boylan Gym South
ATTACH;FMTTYPE=image/jpeg:https://www.monmouth.edu/events/wp-content/uploads/sites/19/2025/01/M-Recreation-1.jpg
END:VEVENT
BEGIN:VEVENT
DTSTART;TZID=America/New_York:20250708T183000
DTEND;TZID=America/New_York:20250708T193000
DTSTAMP:20260425T100738
CREATED:20250124T194555Z
LAST-MODIFIED:20250124T194555Z
UID:40810118234-1751999400-1752003000@www.monmouth.edu
SUMMARY:Zumba
DESCRIPTION:This class takes the “work” out of workout\, by mixing low-intensity and high-intensity moves for an interval-style\, calorie-burning dance fitness party.
URL:https://www.monmouth.edu/events/event/zumba/2025-07-08/
LOCATION:Boylan Gym South
ATTACH;FMTTYPE=image/jpeg:https://www.monmouth.edu/events/wp-content/uploads/sites/19/2025/01/M-Recreation-1.jpg
END:VEVENT
BEGIN:VEVENT
DTSTART;TZID=America/New_York:20250703T183000
DTEND;TZID=America/New_York:20250703T193000
DTSTAMP:20260425T100738
CREATED:20250124T194555Z
LAST-MODIFIED:20250124T194555Z
UID:40810118231-1751567400-1751571000@www.monmouth.edu
SUMMARY:Zumba
DESCRIPTION:This class takes the “work” out of workout\, by mixing low-intensity and high-intensity moves for an interval-style\, calorie-burning dance fitness party.
URL:https://www.monmouth.edu/events/event/zumba/2025-07-03/
LOCATION:Boylan Gym South
ATTACH;FMTTYPE=image/jpeg:https://www.monmouth.edu/events/wp-content/uploads/sites/19/2025/01/M-Recreation-1.jpg
END:VEVENT
BEGIN:VEVENT
DTSTART;TZID=America/New_York:20250701T183000
DTEND;TZID=America/New_York:20250701T193000
DTSTAMP:20260425T100738
CREATED:20250124T194555Z
LAST-MODIFIED:20250124T194555Z
UID:40810118228-1751394600-1751398200@www.monmouth.edu
SUMMARY:Zumba
DESCRIPTION:This class takes the “work” out of workout\, by mixing low-intensity and high-intensity moves for an interval-style\, calorie-burning dance fitness party.
URL:https://www.monmouth.edu/events/event/zumba/2025-07-01/
LOCATION:Boylan Gym South
ATTACH;FMTTYPE=image/jpeg:https://www.monmouth.edu/events/wp-content/uploads/sites/19/2025/01/M-Recreation-1.jpg
END:VEVENT
BEGIN:VEVENT
DTSTART;TZID=America/New_York:20250626T183000
DTEND;TZID=America/New_York:20250626T193000
DTSTAMP:20260425T100738
CREATED:20250124T194555Z
LAST-MODIFIED:20250124T194555Z
UID:40810118225-1750962600-1750966200@www.monmouth.edu
SUMMARY:Zumba
DESCRIPTION:This class takes the “work” out of workout\, by mixing low-intensity and high-intensity moves for an interval-style\, calorie-burning dance fitness party.
URL:https://www.monmouth.edu/events/event/zumba/2025-06-26/
LOCATION:Boylan Gym South
ATTACH;FMTTYPE=image/jpeg:https://www.monmouth.edu/events/wp-content/uploads/sites/19/2025/01/M-Recreation-1.jpg
END:VEVENT
BEGIN:VEVENT
DTSTART;TZID=America/New_York:20250624T183000
DTEND;TZID=America/New_York:20250624T193000
DTSTAMP:20260425T100738
CREATED:20250124T194555Z
LAST-MODIFIED:20250124T194555Z
UID:40810118222-1750789800-1750793400@www.monmouth.edu
SUMMARY:Zumba
DESCRIPTION:This class takes the “work” out of workout\, by mixing low-intensity and high-intensity moves for an interval-style\, calorie-burning dance fitness party.
URL:https://www.monmouth.edu/events/event/zumba/2025-06-24/
LOCATION:Boylan Gym South
ATTACH;FMTTYPE=image/jpeg:https://www.monmouth.edu/events/wp-content/uploads/sites/19/2025/01/M-Recreation-1.jpg
END:VEVENT
BEGIN:VEVENT
DTSTART;TZID=America/New_York:20250619T183000
DTEND;TZID=America/New_York:20250619T193000
DTSTAMP:20260425T100738
CREATED:20250124T194555Z
LAST-MODIFIED:20250124T194555Z
UID:40810118219-1750357800-1750361400@www.monmouth.edu
SUMMARY:Zumba
DESCRIPTION:This class takes the “work” out of workout\, by mixing low-intensity and high-intensity moves for an interval-style\, calorie-burning dance fitness party.
URL:https://www.monmouth.edu/events/event/zumba/2025-06-19/
LOCATION:Boylan Gym South
ATTACH;FMTTYPE=image/jpeg:https://www.monmouth.edu/events/wp-content/uploads/sites/19/2025/01/M-Recreation-1.jpg
END:VEVENT
BEGIN:VEVENT
DTSTART;TZID=America/New_York:20250617T183000
DTEND;TZID=America/New_York:20250617T193000
DTSTAMP:20260425T100738
CREATED:20250124T194555Z
LAST-MODIFIED:20250124T194555Z
UID:40810118216-1750185000-1750188600@www.monmouth.edu
SUMMARY:Zumba
DESCRIPTION:This class takes the “work” out of workout\, by mixing low-intensity and high-intensity moves for an interval-style\, calorie-burning dance fitness party.
URL:https://www.monmouth.edu/events/event/zumba/2025-06-17/
LOCATION:Boylan Gym South
ATTACH;FMTTYPE=image/jpeg:https://www.monmouth.edu/events/wp-content/uploads/sites/19/2025/01/M-Recreation-1.jpg
END:VEVENT
BEGIN:VEVENT
DTSTART;TZID=America/New_York:20250612T183000
DTEND;TZID=America/New_York:20250612T193000
DTSTAMP:20260425T100738
CREATED:20250124T194555Z
LAST-MODIFIED:20250124T194555Z
UID:40810118213-1749753000-1749756600@www.monmouth.edu
SUMMARY:Zumba
DESCRIPTION:This class takes the “work” out of workout\, by mixing low-intensity and high-intensity moves for an interval-style\, calorie-burning dance fitness party.
URL:https://www.monmouth.edu/events/event/zumba/2025-06-12/
LOCATION:Boylan Gym South
ATTACH;FMTTYPE=image/jpeg:https://www.monmouth.edu/events/wp-content/uploads/sites/19/2025/01/M-Recreation-1.jpg
END:VEVENT
BEGIN:VEVENT
DTSTART;TZID=America/New_York:20250610T183000
DTEND;TZID=America/New_York:20250610T193000
DTSTAMP:20260425T100738
CREATED:20250124T194555Z
LAST-MODIFIED:20250124T194555Z
UID:40810118210-1749580200-1749583800@www.monmouth.edu
SUMMARY:Zumba
DESCRIPTION:This class takes the “work” out of workout\, by mixing low-intensity and high-intensity moves for an interval-style\, calorie-burning dance fitness party.
URL:https://www.monmouth.edu/events/event/zumba/2025-06-10/
LOCATION:Boylan Gym South
ATTACH;FMTTYPE=image/jpeg:https://www.monmouth.edu/events/wp-content/uploads/sites/19/2025/01/M-Recreation-1.jpg
END:VEVENT
BEGIN:VEVENT
DTSTART;TZID=America/New_York:20250605T183000
DTEND;TZID=America/New_York:20250605T193000
DTSTAMP:20260425T100738
CREATED:20250124T194555Z
LAST-MODIFIED:20250124T194555Z
UID:40810118207-1749148200-1749151800@www.monmouth.edu
SUMMARY:Zumba
DESCRIPTION:This class takes the “work” out of workout\, by mixing low-intensity and high-intensity moves for an interval-style\, calorie-burning dance fitness party.
URL:https://www.monmouth.edu/events/event/zumba/2025-06-05/
LOCATION:Boylan Gym South
ATTACH;FMTTYPE=image/jpeg:https://www.monmouth.edu/events/wp-content/uploads/sites/19/2025/01/M-Recreation-1.jpg
END:VEVENT
BEGIN:VEVENT
DTSTART;TZID=America/New_York:20250603T183000
DTEND;TZID=America/New_York:20250603T193000
DTSTAMP:20260425T100738
CREATED:20250124T194555Z
LAST-MODIFIED:20250124T194555Z
UID:40810118204-1748975400-1748979000@www.monmouth.edu
SUMMARY:Zumba
DESCRIPTION:This class takes the “work” out of workout\, by mixing low-intensity and high-intensity moves for an interval-style\, calorie-burning dance fitness party.
URL:https://www.monmouth.edu/events/event/zumba/2025-06-03/
LOCATION:Boylan Gym South
ATTACH;FMTTYPE=image/jpeg:https://www.monmouth.edu/events/wp-content/uploads/sites/19/2025/01/M-Recreation-1.jpg
END:VEVENT
BEGIN:VEVENT
DTSTART;TZID=America/New_York:20250529T183000
DTEND;TZID=America/New_York:20250529T193000
DTSTAMP:20260425T100738
CREATED:20250124T194555Z
LAST-MODIFIED:20250124T194555Z
UID:40810118201-1748543400-1748547000@www.monmouth.edu
SUMMARY:Zumba
DESCRIPTION:This class takes the “work” out of workout\, by mixing low-intensity and high-intensity moves for an interval-style\, calorie-burning dance fitness party.
URL:https://www.monmouth.edu/events/event/zumba/2025-05-29/
LOCATION:Boylan Gym South
ATTACH;FMTTYPE=image/jpeg:https://www.monmouth.edu/events/wp-content/uploads/sites/19/2025/01/M-Recreation-1.jpg
END:VEVENT
BEGIN:VEVENT
DTSTART;TZID=America/New_York:20250527T183000
DTEND;TZID=America/New_York:20250527T193000
DTSTAMP:20260425T100738
CREATED:20250124T194555Z
LAST-MODIFIED:20250124T194555Z
UID:40810118198-1748370600-1748374200@www.monmouth.edu
SUMMARY:Zumba
DESCRIPTION:This class takes the “work” out of workout\, by mixing low-intensity and high-intensity moves for an interval-style\, calorie-burning dance fitness party.
URL:https://www.monmouth.edu/events/event/zumba/2025-05-27/
LOCATION:Boylan Gym South
ATTACH;FMTTYPE=image/jpeg:https://www.monmouth.edu/events/wp-content/uploads/sites/19/2025/01/M-Recreation-1.jpg
END:VEVENT
BEGIN:VEVENT
DTSTART;TZID=America/New_York:20250522T183000
DTEND;TZID=America/New_York:20250522T193000
DTSTAMP:20260425T100738
CREATED:20250124T194555Z
LAST-MODIFIED:20250124T194555Z
UID:40810118195-1747938600-1747942200@www.monmouth.edu
SUMMARY:Zumba
DESCRIPTION:This class takes the “work” out of workout\, by mixing low-intensity and high-intensity moves for an interval-style\, calorie-burning dance fitness party.
URL:https://www.monmouth.edu/events/event/zumba/2025-05-22/
LOCATION:Boylan Gym South
ATTACH;FMTTYPE=image/jpeg:https://www.monmouth.edu/events/wp-content/uploads/sites/19/2025/01/M-Recreation-1.jpg
END:VEVENT
BEGIN:VEVENT
DTSTART;TZID=America/New_York:20250520T183000
DTEND;TZID=America/New_York:20250520T193000
DTSTAMP:20260425T100738
CREATED:20250124T194555Z
LAST-MODIFIED:20250124T194555Z
UID:40810118192-1747765800-1747769400@www.monmouth.edu
SUMMARY:Zumba
DESCRIPTION:This class takes the “work” out of workout\, by mixing low-intensity and high-intensity moves for an interval-style\, calorie-burning dance fitness party.
URL:https://www.monmouth.edu/events/event/zumba/2025-05-20/
LOCATION:Boylan Gym South
ATTACH;FMTTYPE=image/jpeg:https://www.monmouth.edu/events/wp-content/uploads/sites/19/2025/01/M-Recreation-1.jpg
END:VEVENT
BEGIN:VEVENT
DTSTART;TZID=America/New_York:20250515T183000
DTEND;TZID=America/New_York:20250515T193000
DTSTAMP:20260425T100738
CREATED:20250124T194555Z
LAST-MODIFIED:20250124T194555Z
UID:40810118189-1747333800-1747337400@www.monmouth.edu
SUMMARY:Zumba
DESCRIPTION:This class takes the “work” out of workout\, by mixing low-intensity and high-intensity moves for an interval-style\, calorie-burning dance fitness party.
URL:https://www.monmouth.edu/events/event/zumba/2025-05-15/
LOCATION:Boylan Gym South
ATTACH;FMTTYPE=image/jpeg:https://www.monmouth.edu/events/wp-content/uploads/sites/19/2025/01/M-Recreation-1.jpg
END:VEVENT
BEGIN:VEVENT
DTSTART;TZID=America/New_York:20250513T183000
DTEND;TZID=America/New_York:20250513T193000
DTSTAMP:20260425T100738
CREATED:20250124T194555Z
LAST-MODIFIED:20250124T194555Z
UID:40810118186-1747161000-1747164600@www.monmouth.edu
SUMMARY:Zumba
DESCRIPTION:This class takes the “work” out of workout\, by mixing low-intensity and high-intensity moves for an interval-style\, calorie-burning dance fitness party.
URL:https://www.monmouth.edu/events/event/zumba/2025-05-13/
LOCATION:Boylan Gym South
ATTACH;FMTTYPE=image/jpeg:https://www.monmouth.edu/events/wp-content/uploads/sites/19/2025/01/M-Recreation-1.jpg
END:VEVENT
END:VCALENDAR