BEGIN:VCALENDAR
VERSION:2.0
PRODID:-//Events - ECPv6.15.20//NONSGML v1.0//EN
CALSCALE:GREGORIAN
METHOD:PUBLISH
X-ORIGINAL-URL:https://www.monmouth.edu/events
X-WR-CALDESC:Events for Events
REFRESH-INTERVAL;VALUE=DURATION:PT1H
X-Robots-Tag:noindex
X-PUBLISHED-TTL:PT1H
BEGIN:VTIMEZONE
TZID:America/New_York
BEGIN:DAYLIGHT
TZOFFSETFROM:-0500
TZOFFSETTO:-0400
TZNAME:EDT
DTSTART:20240310T070000
END:DAYLIGHT
BEGIN:STANDARD
TZOFFSETFROM:-0400
TZOFFSETTO:-0500
TZNAME:EST
DTSTART:20241103T060000
END:STANDARD
BEGIN:DAYLIGHT
TZOFFSETFROM:-0500
TZOFFSETTO:-0400
TZNAME:EDT
DTSTART:20250309T070000
END:DAYLIGHT
BEGIN:STANDARD
TZOFFSETFROM:-0400
TZOFFSETTO:-0500
TZNAME:EST
DTSTART:20251102T060000
END:STANDARD
BEGIN:DAYLIGHT
TZOFFSETFROM:-0500
TZOFFSETTO:-0400
TZNAME:EDT
DTSTART:20260308T070000
END:DAYLIGHT
BEGIN:STANDARD
TZOFFSETFROM:-0400
TZOFFSETTO:-0500
TZNAME:EST
DTSTART:20261101T060000
END:STANDARD
BEGIN:DAYLIGHT
TZOFFSETFROM:-0500
TZOFFSETTO:-0400
TZNAME:EDT
DTSTART:20270314T070000
END:DAYLIGHT
BEGIN:STANDARD
TZOFFSETFROM:-0400
TZOFFSETTO:-0500
TZNAME:EST
DTSTART:20271107T060000
END:STANDARD
END:VTIMEZONE
BEGIN:VEVENT
DTSTART;TZID=America/New_York:20260317T183000
DTEND;TZID=America/New_York:20260317T193000
DTSTAMP:20260421T194308
CREATED:20250124T194555Z
LAST-MODIFIED:20250124T194555Z
UID:40810118450-1773772200-1773775800@www.monmouth.edu
SUMMARY:Zumba
DESCRIPTION:This class takes the “work” out of workout\, by mixing low-intensity and high-intensity moves for an interval-style\, calorie-burning dance fitness party.
URL:https://www.monmouth.edu/events/event/zumba/2026-03-17/
LOCATION:Boylan Gym South
ATTACH;FMTTYPE=image/jpeg:https://www.monmouth.edu/events/wp-content/uploads/sites/19/2025/01/M-Recreation-1.jpg
END:VEVENT
BEGIN:VEVENT
DTSTART;TZID=America/New_York:20260312T183000
DTEND;TZID=America/New_York:20260312T193000
DTSTAMP:20260421T194308
CREATED:20250124T194555Z
LAST-MODIFIED:20250124T194555Z
UID:40810118447-1773340200-1773343800@www.monmouth.edu
SUMMARY:Zumba
DESCRIPTION:This class takes the “work” out of workout\, by mixing low-intensity and high-intensity moves for an interval-style\, calorie-burning dance fitness party.
URL:https://www.monmouth.edu/events/event/zumba/2026-03-12/
LOCATION:Boylan Gym South
ATTACH;FMTTYPE=image/jpeg:https://www.monmouth.edu/events/wp-content/uploads/sites/19/2025/01/M-Recreation-1.jpg
END:VEVENT
BEGIN:VEVENT
DTSTART;TZID=America/New_York:20260310T183000
DTEND;TZID=America/New_York:20260310T193000
DTSTAMP:20260421T194308
CREATED:20250124T194555Z
LAST-MODIFIED:20250124T194555Z
UID:40810118444-1773167400-1773171000@www.monmouth.edu
SUMMARY:Zumba
DESCRIPTION:This class takes the “work” out of workout\, by mixing low-intensity and high-intensity moves for an interval-style\, calorie-burning dance fitness party.
URL:https://www.monmouth.edu/events/event/zumba/2026-03-10/
LOCATION:Boylan Gym South
ATTACH;FMTTYPE=image/jpeg:https://www.monmouth.edu/events/wp-content/uploads/sites/19/2025/01/M-Recreation-1.jpg
END:VEVENT
BEGIN:VEVENT
DTSTART;TZID=America/New_York:20260305T183000
DTEND;TZID=America/New_York:20260305T193000
DTSTAMP:20260421T194308
CREATED:20250124T194555Z
LAST-MODIFIED:20250124T194555Z
UID:40810118441-1772735400-1772739000@www.monmouth.edu
SUMMARY:Zumba
DESCRIPTION:This class takes the “work” out of workout\, by mixing low-intensity and high-intensity moves for an interval-style\, calorie-burning dance fitness party.
URL:https://www.monmouth.edu/events/event/zumba/2026-03-05/
LOCATION:Boylan Gym South
ATTACH;FMTTYPE=image/jpeg:https://www.monmouth.edu/events/wp-content/uploads/sites/19/2025/01/M-Recreation-1.jpg
END:VEVENT
BEGIN:VEVENT
DTSTART;TZID=America/New_York:20260303T183000
DTEND;TZID=America/New_York:20260303T193000
DTSTAMP:20260421T194308
CREATED:20250124T194555Z
LAST-MODIFIED:20250124T194555Z
UID:40810118438-1772562600-1772566200@www.monmouth.edu
SUMMARY:Zumba
DESCRIPTION:This class takes the “work” out of workout\, by mixing low-intensity and high-intensity moves for an interval-style\, calorie-burning dance fitness party.
URL:https://www.monmouth.edu/events/event/zumba/2026-03-03/
LOCATION:Boylan Gym South
ATTACH;FMTTYPE=image/jpeg:https://www.monmouth.edu/events/wp-content/uploads/sites/19/2025/01/M-Recreation-1.jpg
END:VEVENT
BEGIN:VEVENT
DTSTART;TZID=America/New_York:20260226T183000
DTEND;TZID=America/New_York:20260226T193000
DTSTAMP:20260421T194308
CREATED:20250124T194555Z
LAST-MODIFIED:20250124T194555Z
UID:40810118435-1772130600-1772134200@www.monmouth.edu
SUMMARY:Zumba
DESCRIPTION:This class takes the “work” out of workout\, by mixing low-intensity and high-intensity moves for an interval-style\, calorie-burning dance fitness party.
URL:https://www.monmouth.edu/events/event/zumba/2026-02-26/
LOCATION:Boylan Gym South
ATTACH;FMTTYPE=image/jpeg:https://www.monmouth.edu/events/wp-content/uploads/sites/19/2025/01/M-Recreation-1.jpg
END:VEVENT
BEGIN:VEVENT
DTSTART;TZID=America/New_York:20260224T183000
DTEND;TZID=America/New_York:20260224T193000
DTSTAMP:20260421T194308
CREATED:20250124T194555Z
LAST-MODIFIED:20250124T194555Z
UID:40810118432-1771957800-1771961400@www.monmouth.edu
SUMMARY:Zumba
DESCRIPTION:This class takes the “work” out of workout\, by mixing low-intensity and high-intensity moves for an interval-style\, calorie-burning dance fitness party.
URL:https://www.monmouth.edu/events/event/zumba/2026-02-24/
LOCATION:Boylan Gym South
ATTACH;FMTTYPE=image/jpeg:https://www.monmouth.edu/events/wp-content/uploads/sites/19/2025/01/M-Recreation-1.jpg
END:VEVENT
BEGIN:VEVENT
DTSTART;TZID=America/New_York:20260219T183000
DTEND;TZID=America/New_York:20260219T193000
DTSTAMP:20260421T194308
CREATED:20250124T194555Z
LAST-MODIFIED:20250124T194555Z
UID:40810118429-1771525800-1771529400@www.monmouth.edu
SUMMARY:Zumba
DESCRIPTION:This class takes the “work” out of workout\, by mixing low-intensity and high-intensity moves for an interval-style\, calorie-burning dance fitness party.
URL:https://www.monmouth.edu/events/event/zumba/2026-02-19/
LOCATION:Boylan Gym South
ATTACH;FMTTYPE=image/jpeg:https://www.monmouth.edu/events/wp-content/uploads/sites/19/2025/01/M-Recreation-1.jpg
END:VEVENT
BEGIN:VEVENT
DTSTART;TZID=America/New_York:20260217T183000
DTEND;TZID=America/New_York:20260217T193000
DTSTAMP:20260421T194308
CREATED:20250124T194555Z
LAST-MODIFIED:20250124T194555Z
UID:40810118426-1771353000-1771356600@www.monmouth.edu
SUMMARY:Zumba
DESCRIPTION:This class takes the “work” out of workout\, by mixing low-intensity and high-intensity moves for an interval-style\, calorie-burning dance fitness party.
URL:https://www.monmouth.edu/events/event/zumba/2026-02-17/
LOCATION:Boylan Gym South
ATTACH;FMTTYPE=image/jpeg:https://www.monmouth.edu/events/wp-content/uploads/sites/19/2025/01/M-Recreation-1.jpg
END:VEVENT
BEGIN:VEVENT
DTSTART;TZID=America/New_York:20260212T183000
DTEND;TZID=America/New_York:20260212T193000
DTSTAMP:20260421T194308
CREATED:20250124T194555Z
LAST-MODIFIED:20250124T194555Z
UID:40810118423-1770921000-1770924600@www.monmouth.edu
SUMMARY:Zumba
DESCRIPTION:This class takes the “work” out of workout\, by mixing low-intensity and high-intensity moves for an interval-style\, calorie-burning dance fitness party.
URL:https://www.monmouth.edu/events/event/zumba/2026-02-12/
LOCATION:Boylan Gym South
ATTACH;FMTTYPE=image/jpeg:https://www.monmouth.edu/events/wp-content/uploads/sites/19/2025/01/M-Recreation-1.jpg
END:VEVENT
BEGIN:VEVENT
DTSTART;TZID=America/New_York:20260210T183000
DTEND;TZID=America/New_York:20260210T193000
DTSTAMP:20260421T194308
CREATED:20250124T194555Z
LAST-MODIFIED:20250124T194555Z
UID:40810118420-1770748200-1770751800@www.monmouth.edu
SUMMARY:Zumba
DESCRIPTION:This class takes the “work” out of workout\, by mixing low-intensity and high-intensity moves for an interval-style\, calorie-burning dance fitness party.
URL:https://www.monmouth.edu/events/event/zumba/2026-02-10/
LOCATION:Boylan Gym South
ATTACH;FMTTYPE=image/jpeg:https://www.monmouth.edu/events/wp-content/uploads/sites/19/2025/01/M-Recreation-1.jpg
END:VEVENT
BEGIN:VEVENT
DTSTART;TZID=America/New_York:20260205T183000
DTEND;TZID=America/New_York:20260205T193000
DTSTAMP:20260421T194308
CREATED:20250124T194555Z
LAST-MODIFIED:20250124T194555Z
UID:40810118417-1770316200-1770319800@www.monmouth.edu
SUMMARY:Zumba
DESCRIPTION:This class takes the “work” out of workout\, by mixing low-intensity and high-intensity moves for an interval-style\, calorie-burning dance fitness party.
URL:https://www.monmouth.edu/events/event/zumba/2026-02-05/
LOCATION:Boylan Gym South
ATTACH;FMTTYPE=image/jpeg:https://www.monmouth.edu/events/wp-content/uploads/sites/19/2025/01/M-Recreation-1.jpg
END:VEVENT
BEGIN:VEVENT
DTSTART;TZID=America/New_York:20260203T183000
DTEND;TZID=America/New_York:20260203T193000
DTSTAMP:20260421T194308
CREATED:20250124T194555Z
LAST-MODIFIED:20250124T194555Z
UID:40810118414-1770143400-1770147000@www.monmouth.edu
SUMMARY:Zumba
DESCRIPTION:This class takes the “work” out of workout\, by mixing low-intensity and high-intensity moves for an interval-style\, calorie-burning dance fitness party.
URL:https://www.monmouth.edu/events/event/zumba/2026-02-03/
LOCATION:Boylan Gym South
ATTACH;FMTTYPE=image/jpeg:https://www.monmouth.edu/events/wp-content/uploads/sites/19/2025/01/M-Recreation-1.jpg
END:VEVENT
BEGIN:VEVENT
DTSTART;TZID=America/New_York:20260129T183000
DTEND;TZID=America/New_York:20260129T193000
DTSTAMP:20260421T194308
CREATED:20250124T194555Z
LAST-MODIFIED:20250124T194555Z
UID:40810118411-1769711400-1769715000@www.monmouth.edu
SUMMARY:Zumba
DESCRIPTION:This class takes the “work” out of workout\, by mixing low-intensity and high-intensity moves for an interval-style\, calorie-burning dance fitness party.
URL:https://www.monmouth.edu/events/event/zumba/2026-01-29/
LOCATION:Boylan Gym South
ATTACH;FMTTYPE=image/jpeg:https://www.monmouth.edu/events/wp-content/uploads/sites/19/2025/01/M-Recreation-1.jpg
END:VEVENT
BEGIN:VEVENT
DTSTART;TZID=America/New_York:20260127T183000
DTEND;TZID=America/New_York:20260127T193000
DTSTAMP:20260421T194308
CREATED:20250124T194555Z
LAST-MODIFIED:20250124T194555Z
UID:40810118408-1769538600-1769542200@www.monmouth.edu
SUMMARY:Zumba
DESCRIPTION:This class takes the “work” out of workout\, by mixing low-intensity and high-intensity moves for an interval-style\, calorie-burning dance fitness party.
URL:https://www.monmouth.edu/events/event/zumba/2026-01-27/
LOCATION:Boylan Gym South
ATTACH;FMTTYPE=image/jpeg:https://www.monmouth.edu/events/wp-content/uploads/sites/19/2025/01/M-Recreation-1.jpg
END:VEVENT
BEGIN:VEVENT
DTSTART;TZID=America/New_York:20260122T183000
DTEND;TZID=America/New_York:20260122T193000
DTSTAMP:20260421T194308
CREATED:20250124T194555Z
LAST-MODIFIED:20250124T194555Z
UID:40810118405-1769106600-1769110200@www.monmouth.edu
SUMMARY:Zumba
DESCRIPTION:This class takes the “work” out of workout\, by mixing low-intensity and high-intensity moves for an interval-style\, calorie-burning dance fitness party.
URL:https://www.monmouth.edu/events/event/zumba/2026-01-22/
LOCATION:Boylan Gym South
ATTACH;FMTTYPE=image/jpeg:https://www.monmouth.edu/events/wp-content/uploads/sites/19/2025/01/M-Recreation-1.jpg
END:VEVENT
BEGIN:VEVENT
DTSTART;TZID=America/New_York:20260120T183000
DTEND;TZID=America/New_York:20260120T193000
DTSTAMP:20260421T194308
CREATED:20250124T194555Z
LAST-MODIFIED:20250124T194555Z
UID:40810118402-1768933800-1768937400@www.monmouth.edu
SUMMARY:Zumba
DESCRIPTION:This class takes the “work” out of workout\, by mixing low-intensity and high-intensity moves for an interval-style\, calorie-burning dance fitness party.
URL:https://www.monmouth.edu/events/event/zumba/2026-01-20/
LOCATION:Boylan Gym South
ATTACH;FMTTYPE=image/jpeg:https://www.monmouth.edu/events/wp-content/uploads/sites/19/2025/01/M-Recreation-1.jpg
END:VEVENT
BEGIN:VEVENT
DTSTART;TZID=America/New_York:20260115T183000
DTEND;TZID=America/New_York:20260115T193000
DTSTAMP:20260421T194308
CREATED:20250124T194555Z
LAST-MODIFIED:20250124T194555Z
UID:40810118399-1768501800-1768505400@www.monmouth.edu
SUMMARY:Zumba
DESCRIPTION:This class takes the “work” out of workout\, by mixing low-intensity and high-intensity moves for an interval-style\, calorie-burning dance fitness party.
URL:https://www.monmouth.edu/events/event/zumba/2026-01-15/
LOCATION:Boylan Gym South
ATTACH;FMTTYPE=image/jpeg:https://www.monmouth.edu/events/wp-content/uploads/sites/19/2025/01/M-Recreation-1.jpg
END:VEVENT
BEGIN:VEVENT
DTSTART;TZID=America/New_York:20260113T183000
DTEND;TZID=America/New_York:20260113T193000
DTSTAMP:20260421T194308
CREATED:20250124T194555Z
LAST-MODIFIED:20250124T194555Z
UID:40810118396-1768329000-1768332600@www.monmouth.edu
SUMMARY:Zumba
DESCRIPTION:This class takes the “work” out of workout\, by mixing low-intensity and high-intensity moves for an interval-style\, calorie-burning dance fitness party.
URL:https://www.monmouth.edu/events/event/zumba/2026-01-13/
LOCATION:Boylan Gym South
ATTACH;FMTTYPE=image/jpeg:https://www.monmouth.edu/events/wp-content/uploads/sites/19/2025/01/M-Recreation-1.jpg
END:VEVENT
BEGIN:VEVENT
DTSTART;TZID=America/New_York:20260108T183000
DTEND;TZID=America/New_York:20260108T193000
DTSTAMP:20260421T194308
CREATED:20250124T194555Z
LAST-MODIFIED:20250124T194555Z
UID:40810118393-1767897000-1767900600@www.monmouth.edu
SUMMARY:Zumba
DESCRIPTION:This class takes the “work” out of workout\, by mixing low-intensity and high-intensity moves for an interval-style\, calorie-burning dance fitness party.
URL:https://www.monmouth.edu/events/event/zumba/2026-01-08/
LOCATION:Boylan Gym South
ATTACH;FMTTYPE=image/jpeg:https://www.monmouth.edu/events/wp-content/uploads/sites/19/2025/01/M-Recreation-1.jpg
END:VEVENT
BEGIN:VEVENT
DTSTART;TZID=America/New_York:20260106T183000
DTEND;TZID=America/New_York:20260106T193000
DTSTAMP:20260421T194308
CREATED:20250124T194555Z
LAST-MODIFIED:20250124T194555Z
UID:40810118390-1767724200-1767727800@www.monmouth.edu
SUMMARY:Zumba
DESCRIPTION:This class takes the “work” out of workout\, by mixing low-intensity and high-intensity moves for an interval-style\, calorie-burning dance fitness party.
URL:https://www.monmouth.edu/events/event/zumba/2026-01-06/
LOCATION:Boylan Gym South
ATTACH;FMTTYPE=image/jpeg:https://www.monmouth.edu/events/wp-content/uploads/sites/19/2025/01/M-Recreation-1.jpg
END:VEVENT
BEGIN:VEVENT
DTSTART;TZID=America/New_York:20260101T183000
DTEND;TZID=America/New_York:20260101T193000
DTSTAMP:20260421T194308
CREATED:20250124T194555Z
LAST-MODIFIED:20250124T194555Z
UID:40810118387-1767292200-1767295800@www.monmouth.edu
SUMMARY:Zumba
DESCRIPTION:This class takes the “work” out of workout\, by mixing low-intensity and high-intensity moves for an interval-style\, calorie-burning dance fitness party.
URL:https://www.monmouth.edu/events/event/zumba/2026-01-01/
LOCATION:Boylan Gym South
ATTACH;FMTTYPE=image/jpeg:https://www.monmouth.edu/events/wp-content/uploads/sites/19/2025/01/M-Recreation-1.jpg
END:VEVENT
BEGIN:VEVENT
DTSTART;TZID=America/New_York:20251230T183000
DTEND;TZID=America/New_York:20251230T193000
DTSTAMP:20260421T194308
CREATED:20250124T194555Z
LAST-MODIFIED:20250124T194555Z
UID:40810118384-1767119400-1767123000@www.monmouth.edu
SUMMARY:Zumba
DESCRIPTION:This class takes the “work” out of workout\, by mixing low-intensity and high-intensity moves for an interval-style\, calorie-burning dance fitness party.
URL:https://www.monmouth.edu/events/event/zumba/2025-12-30/
LOCATION:Boylan Gym South
ATTACH;FMTTYPE=image/jpeg:https://www.monmouth.edu/events/wp-content/uploads/sites/19/2025/01/M-Recreation-1.jpg
END:VEVENT
BEGIN:VEVENT
DTSTART;TZID=America/New_York:20251225T183000
DTEND;TZID=America/New_York:20251225T193000
DTSTAMP:20260421T194308
CREATED:20250124T194555Z
LAST-MODIFIED:20250124T194555Z
UID:40810118381-1766687400-1766691000@www.monmouth.edu
SUMMARY:Zumba
DESCRIPTION:This class takes the “work” out of workout\, by mixing low-intensity and high-intensity moves for an interval-style\, calorie-burning dance fitness party.
URL:https://www.monmouth.edu/events/event/zumba/2025-12-25/
LOCATION:Boylan Gym South
ATTACH;FMTTYPE=image/jpeg:https://www.monmouth.edu/events/wp-content/uploads/sites/19/2025/01/M-Recreation-1.jpg
END:VEVENT
BEGIN:VEVENT
DTSTART;TZID=America/New_York:20251223T183000
DTEND;TZID=America/New_York:20251223T193000
DTSTAMP:20260421T194308
CREATED:20250124T194555Z
LAST-MODIFIED:20250124T194555Z
UID:40810118378-1766514600-1766518200@www.monmouth.edu
SUMMARY:Zumba
DESCRIPTION:This class takes the “work” out of workout\, by mixing low-intensity and high-intensity moves for an interval-style\, calorie-burning dance fitness party.
URL:https://www.monmouth.edu/events/event/zumba/2025-12-23/
LOCATION:Boylan Gym South
ATTACH;FMTTYPE=image/jpeg:https://www.monmouth.edu/events/wp-content/uploads/sites/19/2025/01/M-Recreation-1.jpg
END:VEVENT
BEGIN:VEVENT
DTSTART;TZID=America/New_York:20251218T183000
DTEND;TZID=America/New_York:20251218T193000
DTSTAMP:20260421T194308
CREATED:20250124T194555Z
LAST-MODIFIED:20250124T194555Z
UID:40810118375-1766082600-1766086200@www.monmouth.edu
SUMMARY:Zumba
DESCRIPTION:This class takes the “work” out of workout\, by mixing low-intensity and high-intensity moves for an interval-style\, calorie-burning dance fitness party.
URL:https://www.monmouth.edu/events/event/zumba/2025-12-18/
LOCATION:Boylan Gym South
ATTACH;FMTTYPE=image/jpeg:https://www.monmouth.edu/events/wp-content/uploads/sites/19/2025/01/M-Recreation-1.jpg
END:VEVENT
BEGIN:VEVENT
DTSTART;TZID=America/New_York:20251216T183000
DTEND;TZID=America/New_York:20251216T193000
DTSTAMP:20260421T194308
CREATED:20250124T194555Z
LAST-MODIFIED:20250124T194555Z
UID:40810118372-1765909800-1765913400@www.monmouth.edu
SUMMARY:Zumba
DESCRIPTION:This class takes the “work” out of workout\, by mixing low-intensity and high-intensity moves for an interval-style\, calorie-burning dance fitness party.
URL:https://www.monmouth.edu/events/event/zumba/2025-12-16/
LOCATION:Boylan Gym South
ATTACH;FMTTYPE=image/jpeg:https://www.monmouth.edu/events/wp-content/uploads/sites/19/2025/01/M-Recreation-1.jpg
END:VEVENT
BEGIN:VEVENT
DTSTART;TZID=America/New_York:20251211T183000
DTEND;TZID=America/New_York:20251211T193000
DTSTAMP:20260421T194308
CREATED:20250124T194555Z
LAST-MODIFIED:20250124T194555Z
UID:40810118369-1765477800-1765481400@www.monmouth.edu
SUMMARY:Zumba
DESCRIPTION:This class takes the “work” out of workout\, by mixing low-intensity and high-intensity moves for an interval-style\, calorie-burning dance fitness party.
URL:https://www.monmouth.edu/events/event/zumba/2025-12-11/
LOCATION:Boylan Gym South
ATTACH;FMTTYPE=image/jpeg:https://www.monmouth.edu/events/wp-content/uploads/sites/19/2025/01/M-Recreation-1.jpg
END:VEVENT
BEGIN:VEVENT
DTSTART;TZID=America/New_York:20251209T183000
DTEND;TZID=America/New_York:20251209T193000
DTSTAMP:20260421T194308
CREATED:20250124T194555Z
LAST-MODIFIED:20250124T194555Z
UID:40810118366-1765305000-1765308600@www.monmouth.edu
SUMMARY:Zumba
DESCRIPTION:This class takes the “work” out of workout\, by mixing low-intensity and high-intensity moves for an interval-style\, calorie-burning dance fitness party.
URL:https://www.monmouth.edu/events/event/zumba/2025-12-09/
LOCATION:Boylan Gym South
ATTACH;FMTTYPE=image/jpeg:https://www.monmouth.edu/events/wp-content/uploads/sites/19/2025/01/M-Recreation-1.jpg
END:VEVENT
BEGIN:VEVENT
DTSTART;TZID=America/New_York:20251204T183000
DTEND;TZID=America/New_York:20251204T193000
DTSTAMP:20260421T194308
CREATED:20250124T194555Z
LAST-MODIFIED:20250124T194555Z
UID:40810118363-1764873000-1764876600@www.monmouth.edu
SUMMARY:Zumba
DESCRIPTION:This class takes the “work” out of workout\, by mixing low-intensity and high-intensity moves for an interval-style\, calorie-burning dance fitness party.
URL:https://www.monmouth.edu/events/event/zumba/2025-12-04/
LOCATION:Boylan Gym South
ATTACH;FMTTYPE=image/jpeg:https://www.monmouth.edu/events/wp-content/uploads/sites/19/2025/01/M-Recreation-1.jpg
END:VEVENT
END:VCALENDAR