BEGIN:VCALENDAR
VERSION:2.0
PRODID:-//Events - ECPv6.15.20//NONSGML v1.0//EN
CALSCALE:GREGORIAN
METHOD:PUBLISH
X-ORIGINAL-URL:https://www.monmouth.edu/events
X-WR-CALDESC:Events for Events
REFRESH-INTERVAL;VALUE=DURATION:PT1H
X-Robots-Tag:noindex
X-PUBLISHED-TTL:PT1H
BEGIN:VTIMEZONE
TZID:America/New_York
BEGIN:DAYLIGHT
TZOFFSETFROM:-0500
TZOFFSETTO:-0400
TZNAME:EDT
DTSTART:20110313T070000
END:DAYLIGHT
BEGIN:STANDARD
TZOFFSETFROM:-0400
TZOFFSETTO:-0500
TZNAME:EST
DTSTART:20111106T060000
END:STANDARD
BEGIN:DAYLIGHT
TZOFFSETFROM:-0500
TZOFFSETTO:-0400
TZNAME:EDT
DTSTART:20120311T070000
END:DAYLIGHT
BEGIN:STANDARD
TZOFFSETFROM:-0400
TZOFFSETTO:-0500
TZNAME:EST
DTSTART:20121104T060000
END:STANDARD
BEGIN:DAYLIGHT
TZOFFSETFROM:-0500
TZOFFSETTO:-0400
TZNAME:EDT
DTSTART:20130310T070000
END:DAYLIGHT
BEGIN:STANDARD
TZOFFSETFROM:-0400
TZOFFSETTO:-0500
TZNAME:EST
DTSTART:20131103T060000
END:STANDARD
BEGIN:DAYLIGHT
TZOFFSETFROM:-0500
TZOFFSETTO:-0400
TZNAME:EDT
DTSTART:20140309T070000
END:DAYLIGHT
BEGIN:STANDARD
TZOFFSETFROM:-0400
TZOFFSETTO:-0500
TZNAME:EST
DTSTART:20141102T060000
END:STANDARD
BEGIN:DAYLIGHT
TZOFFSETFROM:-0500
TZOFFSETTO:-0400
TZNAME:EDT
DTSTART:20150308T070000
END:DAYLIGHT
BEGIN:STANDARD
TZOFFSETFROM:-0400
TZOFFSETTO:-0500
TZNAME:EST
DTSTART:20151101T060000
END:STANDARD
BEGIN:DAYLIGHT
TZOFFSETFROM:-0500
TZOFFSETTO:-0400
TZNAME:EDT
DTSTART:20160313T070000
END:DAYLIGHT
BEGIN:STANDARD
TZOFFSETFROM:-0400
TZOFFSETTO:-0500
TZNAME:EST
DTSTART:20161106T060000
END:STANDARD
BEGIN:DAYLIGHT
TZOFFSETFROM:-0500
TZOFFSETTO:-0400
TZNAME:EDT
DTSTART:20170312T070000
END:DAYLIGHT
BEGIN:STANDARD
TZOFFSETFROM:-0400
TZOFFSETTO:-0500
TZNAME:EST
DTSTART:20171105T060000
END:STANDARD
BEGIN:DAYLIGHT
TZOFFSETFROM:-0500
TZOFFSETTO:-0400
TZNAME:EDT
DTSTART:20180311T070000
END:DAYLIGHT
BEGIN:STANDARD
TZOFFSETFROM:-0400
TZOFFSETTO:-0500
TZNAME:EST
DTSTART:20181104T060000
END:STANDARD
BEGIN:DAYLIGHT
TZOFFSETFROM:-0500
TZOFFSETTO:-0400
TZNAME:EDT
DTSTART:20190310T070000
END:DAYLIGHT
BEGIN:STANDARD
TZOFFSETFROM:-0400
TZOFFSETTO:-0500
TZNAME:EST
DTSTART:20191103T060000
END:STANDARD
BEGIN:DAYLIGHT
TZOFFSETFROM:-0500
TZOFFSETTO:-0400
TZNAME:EDT
DTSTART:20200308T070000
END:DAYLIGHT
BEGIN:STANDARD
TZOFFSETFROM:-0400
TZOFFSETTO:-0500
TZNAME:EST
DTSTART:20201101T060000
END:STANDARD
BEGIN:DAYLIGHT
TZOFFSETFROM:-0500
TZOFFSETTO:-0400
TZNAME:EDT
DTSTART:20210314T070000
END:DAYLIGHT
BEGIN:STANDARD
TZOFFSETFROM:-0400
TZOFFSETTO:-0500
TZNAME:EST
DTSTART:20211107T060000
END:STANDARD
BEGIN:DAYLIGHT
TZOFFSETFROM:-0500
TZOFFSETTO:-0400
TZNAME:EDT
DTSTART:20220313T070000
END:DAYLIGHT
BEGIN:STANDARD
TZOFFSETFROM:-0400
TZOFFSETTO:-0500
TZNAME:EST
DTSTART:20221106T060000
END:STANDARD
BEGIN:DAYLIGHT
TZOFFSETFROM:-0500
TZOFFSETTO:-0400
TZNAME:EDT
DTSTART:20230312T070000
END:DAYLIGHT
BEGIN:STANDARD
TZOFFSETFROM:-0400
TZOFFSETTO:-0500
TZNAME:EST
DTSTART:20231105T060000
END:STANDARD
BEGIN:DAYLIGHT
TZOFFSETFROM:-0500
TZOFFSETTO:-0400
TZNAME:EDT
DTSTART:20240310T070000
END:DAYLIGHT
BEGIN:STANDARD
TZOFFSETFROM:-0400
TZOFFSETTO:-0500
TZNAME:EST
DTSTART:20241103T060000
END:STANDARD
BEGIN:DAYLIGHT
TZOFFSETFROM:-0500
TZOFFSETTO:-0400
TZNAME:EDT
DTSTART:20250309T070000
END:DAYLIGHT
BEGIN:STANDARD
TZOFFSETFROM:-0400
TZOFFSETTO:-0500
TZNAME:EST
DTSTART:20251102T060000
END:STANDARD
BEGIN:DAYLIGHT
TZOFFSETFROM:-0500
TZOFFSETTO:-0400
TZNAME:EDT
DTSTART:20260308T070000
END:DAYLIGHT
BEGIN:STANDARD
TZOFFSETFROM:-0400
TZOFFSETTO:-0500
TZNAME:EST
DTSTART:20261101T060000
END:STANDARD
BEGIN:DAYLIGHT
TZOFFSETFROM:-0500
TZOFFSETTO:-0400
TZNAME:EDT
DTSTART:20270314T070000
END:DAYLIGHT
BEGIN:STANDARD
TZOFFSETFROM:-0400
TZOFFSETTO:-0500
TZNAME:EST
DTSTART:20271107T060000
END:STANDARD
END:VTIMEZONE
BEGIN:VEVENT
DTSTART;TZID=America/New_York:20260331T180000
DTEND;TZID=America/New_York:20260331T203000
DTSTAMP:20260422T001908
CREATED:20250722T181328Z
LAST-MODIFIED:20260105T205423Z
UID:40810119345-1774980000-1774989000@www.monmouth.edu
SUMMARY:Pysanky: Learn the Art of Ukrainian Egg Decorating
DESCRIPTION:Come celebrate the spring at Monmouth University with this unique opportunity to learn the seasonal ancient art known as Pysanky. Pysanky\, also known as Ukrainian eggs\, is an ancient folk tradition that has been passed down for thousands of years. This meditative and communal experience is unlike any other art process and for many this workshop marks the beginning of a spring time family tradition that can be passed on and enjoyed for years to come. This tutorial will cover the history and traditions surrounding Pysanky\, a demonstration\, and independent practice session. The instructor will provide a variety of eggs\, dyes\, and tools. Participants will turn real eggs into works of art using a wax resist method similar to batik. A great deal of patience and concentration is required to complete a single egg\, but it is very rewarding to reveal your hard work when the wax layers are taken off. In-person attendance will be extremely limited. \nNo prerequisite skills are required. Please bring a container or old egg carton to take home your creation. Ages 18+
URL:https://www.monmouth.edu/events/event/adult-education-series-pysanky-learn-the-art-of-ukrainian-egg-decorating/
LOCATION:Bey Hall
CATEGORIES:Alumni,Art and Design,Arts at Monmouth,Community Member,Current Student,Faculty
ATTACH;FMTTYPE=image/png:https://www.monmouth.edu/events/wp-content/uploads/sites/19/2025/07/Santa-Maria-thumb.png
ORGANIZER;CN="Kenneth Womack":MAILTO:kwomack@monmouth.edu
END:VEVENT
BEGIN:VEVENT
DTSTART;TZID=America/New_York:20260120T180000
DTEND;TZID=America/New_York:20260120T203000
DTSTAMP:20260422T001908
CREATED:20250722T183947Z
LAST-MODIFIED:20251223T185637Z
UID:40810119346-1768932000-1768941000@www.monmouth.edu
SUMMARY:Embroidery 101
DESCRIPTION:Embroidery is a timeless art form of stitching that has been practiced for centuries\, making it one of the oldest and most cherished folk traditions. This beginner-friendly class is designed to introduce you to the fundamentals of embroidery\, from selecting materials to mastering essential stitches. In this inspiring workshop\, you’ll gain the skills and confidence to create your own beautiful heirlooms and works of art. Participants will explore a variety of versatile stitches to craft unique designs. Step-by-step\, we’ll cover the split stitch\, satin stitch\, and the ever-charming French knot. Hosted by Art Coach and Teaching Artist Jenny Santa Maria\, this workshop blends expert guidance with a warm\, encouraging environment\, making it the perfect introduction to this timeless craft. Jenny brings years of teaching experience and a passion for empowering creativity\, ensuring participants leave with both skills and inspiration to continue their artistic journey.
URL:https://www.monmouth.edu/events/event/embroidery-101/
LOCATION:Bey Hall
CATEGORIES:Alumni,Art and Design,Arts at Monmouth,Current Student,Faculty
ATTACH;FMTTYPE=image/png:https://www.monmouth.edu/events/wp-content/uploads/sites/19/2025/07/Screenshot-2025-07-20-at-2.36.06-PM.png
ORGANIZER;CN="Kenneth Womack":MAILTO:kwomack@monmouth.edu
END:VEVENT
BEGIN:VEVENT
DTSTART;TZID=America/New_York:20251016T180000
DTEND;TZID=America/New_York:20251016T203000
DTSTAMP:20260422T001908
CREATED:20250722T163037Z
LAST-MODIFIED:20250722T163037Z
UID:40810119347-1760637600-1760646600@www.monmouth.edu
SUMMARY:Art for the Non-Artist
DESCRIPTION:Can’t even draw a stick figure? Struggle with perfectionism?\nThis isn’t your average art class—it’s a creative empowerment workshop created especially for those who think they can’t draw. You’ll learn to draw with both technical skill and confidence—in just one session. With a single feather as your subject\, you’ll learn to slow down and really see—translating its shape and texture into a drawing through focused observation. Each drawing will reflect the individual behind it—created entirely by your own hand\, and completed with real technical skill\, even if it’s your very first time. \nLed by Art Coach and Teaching Artist Jenny Santa Maria\, this workshop helps you unlearn the myth of “natural talent” and discover the joy of drawing as a skill that can be taught\, learned\, and enjoyed. Jenny has guided countless anxious\, curious\, and discouraged individuals to find joy and confidence through creative expression\, bringing her workshops to libraries\, art centers\, and community spaces across New England. \nWhether you’re working through limiting beliefs or simply curious about reconnecting with your creativity\, this workshop offers a safe\, encouraging space to explore art making as a new language—one that can enrich every part of your life. \nAll materials provided. No experience needed.
URL:https://www.monmouth.edu/events/event/art-for-the-non-artist/
LOCATION:Bey Hall
CATEGORIES:Alumni,Art and Design,Arts at Monmouth,Community Member,Current Student,Faculty
ATTACH;FMTTYPE=image/png:https://www.monmouth.edu/events/wp-content/uploads/sites/19/2025/07/Screenshot-2025-07-19-at-7.56.33-PM.png
ORGANIZER;CN="Kenneth Womack":MAILTO:kwomack@monmouth.edu
END:VEVENT
BEGIN:VEVENT
DTSTART;TZID=America/New_York:20250415T180000
DTEND;TZID=America/New_York:20250415T203000
DTSTAMP:20260422T001908
CREATED:20250107T164504Z
LAST-MODIFIED:20250107T164606Z
UID:40810117674-1744740000-1744749000@www.monmouth.edu
SUMMARY:Pysanky: Learn the Art of Ukrainian Egg Decorating
DESCRIPTION:Class Schedule: Tuesday\, April 15 | 6 – 8:30 PM\n\n\nCome celebrate the spring at Monmouth University with this unique opportunity to learn the seasonal ancient art known as Pysanky. Pysanky\, also known as Ukrainian eggs\, is an ancient folk tradition that has been passed down for thousands of years. This meditative and communal experience is unlike any other art process and for many this workshop marks the beginning of a spring time family tradition that can be passed on and enjoyed for years to come. This tutorial will cover the history and traditions surrounding Pysanky\, a demonstration\, and independent practice session. The instructor will provide a variety of eggs\, dyes\, and tools. Participants will turn real eggs into works of art using a wax resist method similar to batik. A great deal of patience and concentration is required to complete a single egg\, but it is very rewarding to reveal your hard work when the wax layers are taken off. In-person attendance will be extremely limited.\n\nNo prerequisite skills are required. Please bring a container or old egg carton to take home your creation. Ages 18+
URL:https://www.monmouth.edu/events/event/pysanky-ukrainian-egg-decorating/
LOCATION:Bey Hall
CATEGORIES:Alumni,Arts at Monmouth,Current Student,Lectures,Music,Music + Theatre Arts,Workshops and Professional Development
ATTACH;FMTTYPE=image/png:https://www.monmouth.edu/events/wp-content/uploads/sites/19/2025/01/Santa-Maria-header.png
ORGANIZER;CN="Center for the Arts":MAILTO:kbarratt@monmouth.edu
END:VEVENT
BEGIN:VEVENT
DTSTART;TZID=America/New_York:20250222T103000
DTEND;TZID=America/New_York:20250222T150000
DTSTAMP:20260422T001908
CREATED:20250109T170506Z
LAST-MODIFIED:20250109T170506Z
UID:40810117755-1740220200-1740236400@www.monmouth.edu
SUMMARY:Monmouth Leads
DESCRIPTION:Monmouth Leads is a dynamic leadership program designed to empower students with the skills\, knowledge\, and confidence to make an impact in their communities. Through hands-on experiences and mentorship\, participants will develop their leadership potential and create lasting connections with peers and professionals.
URL:https://www.monmouth.edu/events/event/monmouth-leads/
LOCATION:Student Center
ATTACH;FMTTYPE=image/png:https://www.monmouth.edu/events/wp-content/uploads/sites/19/2025/01/image.png
END:VEVENT
BEGIN:VEVENT
DTSTART;TZID=America/New_York:20240902T130000
DTEND;TZID=America/New_York:20240902T150000
DTSTAMP:20260422T001908
CREATED:20240830T134407Z
LAST-MODIFIED:20240830T143314Z
UID:40810112954-1725282000-1725289200@www.monmouth.edu
SUMMARY:Hawks Debate & Political Science Club Session
DESCRIPTION:
URL:https://www.monmouth.edu/events/event/hawks-debate-political-science-club-session/
LOCATION:Bey Hall
END:VEVENT
BEGIN:VEVENT
DTSTART;TZID=America/New_York:20190426T131500
DTEND;TZID=America/New_York:20190426T161000
DTSTAMP:20260422T001908
CREATED:20190320T151926Z
LAST-MODIFIED:20190405T140053Z
UID:40810104620-1556284500-1556295000@www.monmouth.edu
SUMMARY:4th Annual Political Science/Sociology Conference
DESCRIPTION:The department of Political Science/Sociology brings together majors from Monmouth and surrounding colleges/universities to present student work within the field. This event offers students the opportunity to gain valuable feedback on their papers and also get a feel for the atmosphere of an independent academic conference. The conference also emphasizes the importance of research and advancement of knowledge.
URL:https://www.monmouth.edu/events/event/4th-annual-political-science-sociology-conference/
LOCATION:Bey Hall
CATEGORIES:Student Scholarship Week
END:VEVENT
BEGIN:VEVENT
DTSTART;TZID=America/New_York:20170627T170000
DTEND;TZID=America/New_York:20170627T200000
DTSTAMP:20260422T001908
CREATED:20180725T203421Z
LAST-MODIFIED:20190304T153302Z
UID:40810101059-1498582800-1498593600@www.monmouth.edu
SUMMARY:Being Mortal: Medicine and What Matters in the End
DESCRIPTION:Credit: Tim Llewellyn \n\n\n\nPresented by the Department of Psychology\nJoin us for a free screening and discussion of the PBS FRONTLINE documentary\, Being Mortal. Based on the best-selling book by Dr. Atul Gawande\, this film explores the hopes of patients and families facing terminal illness and their relationships with the doctors\, nurses\, and family members who care for them. \nSee the film and be part of a national conversation taking place in our community concerning an inescapable reality of life: death. \n\n\nModerators\n\nDr. Kristen Coppola \nDepartment of Psychology \nMonmouth University \n\n\nSue Polito\, MSN\, APN \nBoard Certified Geriatric Nurse Practitioner \nSpecialist Professor \nMonmouth University \n\n\n\nReservations\nFor more information and to reserve your seat please email Dr. Coppola. The screening starts promptly at 6pm.
URL:https://www.monmouth.edu/events/event/being-mortal-medicine-and-what-matters-in-the-end/
LOCATION:Bey Hall
CATEGORIES:Alumni,Community Member,Current Student,Faculty,Psychology,School of Humanities and Social Sciences,Special Events
ATTACH;FMTTYPE=image/jpeg:https://www.monmouth.edu/events/wp-content/uploads/sites/19/2018/07/Being-Mortal-Tim-Llewellyn.jpg
END:VEVENT
BEGIN:VEVENT
DTSTART;TZID=America/New_York:20161129T163000
DTEND;TZID=America/New_York:20161129T173000
DTSTAMP:20260422T001908
CREATED:20180725T203816Z
LAST-MODIFIED:20190304T153739Z
UID:40810101440-1480437000-1480440600@www.monmouth.edu
SUMMARY:Ink & Electricity: Up From Middlebrow
DESCRIPTION:For its fourth annual Ink & Electricity event\, Monmouth will host the lecture “Up from Middlebrow” by Jonathan Rose\, a William R. Kenan Jr. Professor of History from Drew University. Taking the title of his talk from Booker T. Washington’s Up from Slavery\, Rose will survey the recent historiography of American middlebrow literature—from nineteenth-century black Shakespeare clubs to Oprah. \nThis event is free and open to the public. Refreshments will be served. \nSponsored by the Wayne D. McMurray Endowed Chair in the Humanities. For more information\, contact Kristin Bluemel.
URL:https://www.monmouth.edu/events/event/ink-electricity-up-from-middlebrow/
LOCATION:Bey Hall
CATEGORIES:Lectures
ATTACH;FMTTYPE=image/jpeg:https://www.monmouth.edu/events/wp-content/uploads/sites/19/2018/07/inknelec.jpg
END:VEVENT
BEGIN:VEVENT
DTSTART;TZID=America/New_York:20151110T190000
DTEND;TZID=America/New_York:20151110T210000
DTSTAMP:20260422T001908
CREATED:20180725T204115Z
LAST-MODIFIED:20190426T152440Z
UID:40810102010-1447182000-1447189200@www.monmouth.edu
SUMMARY:Dr. Rebecca Mercuri\, “Digital Forensics at the Intersection of Public Policy and Civil Rights”
DESCRIPTION:Co-sponsored by Dept. of Computer Science & Software Engineering (CSSE) and the New Jersey Coast Section of IEEE \nTuesday\, November 10\, 2015 \n7 – 9 p.m. \nBey Hall 113 (Young Auditorium) \nRSVP Information: Not required\, though you may register at Technical Talk – Digital Forensics at the Intersection of Public Policy and Civil Rights. \nThis event will feature networking and refreshments\, guest speaker\, and Q & A. \nDigital forensics is a rapidly expanding field where practitioners apply scientific techniques in order to investigate and draw conclusions about evidence\, with the goal of presenting findings in courtroom settings. The manner in which the forensics expert is required to perform their work is greatly influenced by prior court rulings and government laws\, both recent and older ones dating back to the Nation’s founding. Some public policy and civil rights issues related to computers and digital data will be explored using examples from the speaker’s casework\, as well as newsworthy current events. \nABOUT THE SPEAKER:\nDr. Rebecca Mercuri is the owner of Notable Software\, Inc. where she provides digital forensics investigations and expert witness services for criminal and civil matters\, along with computer security and certification compliance evaluations. \nEducation includes a B.S. in Computer Science from Penn State\, M.S. in Computer Science from Drexel University\, as well as an M.S. in Engineering and Ph.D. from the University of Pennsylvania. During 2003-2005 she was a fellow at Harvard University\, performing research on computer security topics\, and has testified to local\, state and federal government agencies on the many inherent problems with electronic voting systems. Her sworn testimony in Bush v. Gore was cited in briefs to the U.S. Supreme Court. \nDr. Mercuri’s publications include a book chapter on Digital Image Forensics\, and numerous Security Watch and Inside Risks articles for the Communications of the ACM magazine\, where she also served as a Contributing Editor. Rebecca has held leadership roles with the Association of Computing Machinery\, the Institute for Electrical and Electronics Engineers\, and the Audio Engineering Society\, and is a frequent presenter at conferences and events promoting STEM education. Current hobbies include guitar and vocal music\, droning\, 3D printing\, and amateur/Ham radio. \nFor more information\, please contact Rebecca Hanly\, CSSE Secretary at x7501 or rhanly@monmouth.edu.
URL:https://www.monmouth.edu/events/event/dr-rebecca-mercuri-digital-forensics-at-the-intersection-of-public-policy-and-civil-rights/
LOCATION:Bey Hall
CATEGORIES:Alumni,Computer Science + Software Engineering,Current Student,Faculty,Lectures,School of Science
ATTACH;FMTTYPE=image/jpeg:https://www.monmouth.edu/events/wp-content/uploads/sites/19/2018/07/DrRebeccaMercuri.jpg
END:VEVENT
BEGIN:VEVENT
DTSTART;TZID=America/New_York:20150421T180000
DTEND;TZID=America/New_York:20150421T200000
DTSTAMP:20260422T001908
CREATED:20180725T204330Z
LAST-MODIFIED:20190304T154039Z
UID:40810102409-1429639200-1429646400@www.monmouth.edu
SUMMARY:Ocean Frontiers II – Film Screening & Panel Discussion
DESCRIPTION:In a region steeped in old maritime tradition\, Ocean Frontiers II tells the story of a modern wave of big ships\, energy industries and a changing climate\, and how people are coming together to plan for a healthy ocean off their coast. Join us after the film for an interactive panel discussion about how we can protect wildlife habitat\, enhance recreational activities and support sustainable commercial uses in our increasingly busy New Jersey Waters. \nFree Admission and Snacks! \nRSVP: http://bit.ly/OF2-Mo \nEvent Website: ocean-frontiers.org/monmouth
URL:https://www.monmouth.edu/events/event/ocean-frontiers-ii-film-screening-panel-discussion/
LOCATION:Bey Hall
CATEGORIES:Alumni,Community Member,Current Student,Faculty,School of Science,Urban Coast Institute
ATTACH;FMTTYPE=image/jpeg:https://www.monmouth.edu/events/wp-content/uploads/sites/19/2018/07/OceanFrontiers.jpg
END:VEVENT
BEGIN:VEVENT
DTSTART;TZID=America/New_York:20141108T090000
DTEND;TZID=America/New_York:20141108T170000
DTSTAMP:20260422T001908
CREATED:20180725T204423Z
LAST-MODIFIED:20190304T154307Z
UID:40810102724-1415437200-1415466000@www.monmouth.edu
SUMMARY:Fall Poetry Festival
DESCRIPTION:Do you write poetry? Have you considered writing or translating poetry? Do you love language and its ability to engage in meaningful exploration? Monmouth University and the Long Branch Arts Council invite you to a series of workshops in poetry\, lyrical essay\, and translation of poetry; readings by acclaimed writers; lunch & discussion\, and a reading by registered participants. \nOn Friday\, October 31\, 11:30-1:00\, poet Judith Vollmer will offer a master class/workshop (“The Transfer: How a Poem Reveals Hidden Gifts”) in Wilson 311. \nWorkshop leaders and readers for the November 8th day-long fest: Gabor Barabas\, Michael Broek\, Natalie Diaz\, Prescott Evarts\, Jr.\, Melissa Febos\, Carmen Firan\, Marisa Frasca\, Laura McCullough\, Mihaela Moscaliuc\, Suzanne Parker\, Michael Waters\, and Dan Weeks. \nAdmission to readings is free and open to the public. The workshops\, also free\, will be open to registrants only: for more information and to register\, email Sara Rimassa at monmouthreview@gmail.com (“Poetry Fest” in subject line) no later than Tue\, October 28th. \nThis event is co-sponsored by the Long Branch Arts Council\, the City of Long Branch\, Investors Bank Foundation\, Monmouth Arts/ArtHelps\, the Wayne D. McMurray School of Humanities and Social Sciences at Monmouth University\, the Department of English at Monmouth University\, and The Monmouth Review. \nSaturday\, November 8th\, 2014\, Bey Hall (Monmouth University)\, 9:00-5:00 \n9:00-9:45 Sign-in for registrants in Bey Hall (refreshments) \n9:45-10:00 Welcome (Gabor Barabas and Mihaela Moscaliuc) and workshop    information \n10-11:30 Workshops \n11:30-12:30 Lunch discussion for registrants: The Monmouth Review information session; Q & A about submission & editorial process with poet Dan Weeks\, editor of This Broken Shore. \n12:30-1:20 Reading:  Gabor Barabas\, Michael Broek\, Natalie Diaz\, Prescott Evarts\, Jr.\, Melissa Febos\, and Dan Weeks \n1:30-3:00 Workshops \n3:00-4:00 Reading: Carmen Firan\, Marisa Frasca\, Laura McCullough\, Mihaela Moscaliuc\, Suzanne Parker\, and Michael Waters. \n4:00-5:00 Reading by registered festival participants
URL:https://www.monmouth.edu/events/event/fall-poetry-festival/
LOCATION:Bey Hall
CATEGORIES:Lectures,Special Events,Workshops and Professional Development
ATTACH;FMTTYPE=image/jpeg:https://www.monmouth.edu/events/wp-content/uploads/sites/19/2018/07/poetry.jpg
END:VEVENT
BEGIN:VEVENT
DTSTART;TZID=America/New_York:20131102T090000
DTEND;TZID=America/New_York:20131102T170000
DTSTAMP:20260422T001908
CREATED:20180725T204640Z
LAST-MODIFIED:20190304T154446Z
UID:40810103333-1383382800-1383411600@www.monmouth.edu
SUMMARY:Fall Poetry Festival
DESCRIPTION:The day will consist of readings by nationally known poets\, some of whom will conduct poetry workshops for participants. \nThe keynote presenters will be National Book Award Finalist Kim Addonizio and Editor of Southern Indiana Review\, Ron Mitchell. \nThe festival will culminate with a reading by registered participants. \nAdmission to the readings is free and open to the public. The workshops\, also free\, will be open to registrants only: to register\, email Dr. Michael Waters no later than Wednesday\, October 30\, at mgwaters@monmouth.edu \nSchedule: \n9:00-9:30 a.m.  Sign-in for registrants in Bey Hall (refreshments) \nThe Monmouth Review distributed to participants \n9:45-10:45 a.m.  reading:  Laura McCullough / BCC \nMichael Broek / BCC \nPrescott Evarts\, Jr. / MU \nMihaela Moscaliuc / MU \n11:00 a.m.-12:00 p.m.  workshops \n12:00-1:00 p.m.  lunch for registrants \n1:00-1:45 p.m.  reading:  Gabor Barabas / NJ Repertory Company \nCatherine Barnett / New School / NYU \nMichael Waters / MU \n2:00-2:45  talk and Q&A: Ron Mitchell\, Editor\, Southern Indiana Review \n3:00-3:45 p.m.  reading: Kim Addonizo \n4:00-5:00 p.m.  reading: festival participants
URL:https://www.monmouth.edu/events/event/fall-poetry-festival-2/
LOCATION:Bey Hall
ATTACH;FMTTYPE=image/jpeg:https://www.monmouth.edu/events/wp-content/uploads/sites/19/2018/07/Fall_poetry_fest.jpg
END:VEVENT
BEGIN:VEVENT
DTSTART;TZID=America/New_York:20121117T090000
DTEND;TZID=America/New_York:20121117T170000
DTSTAMP:20260422T001908
CREATED:20180725T204811Z
LAST-MODIFIED:20190304T154206Z
UID:40810103711-1353142800-1353171600@www.monmouth.edu
SUMMARY:Fall Poetry Festival
DESCRIPTION:The day will consist of readings by nationally known poets\, some of whom will conduct poetry workshops for participants. The keynote readers will be Pulitzer Prize winner Stephen Dunn and Cave Canem Fellow Rachel Eliza Griffiths. \nStephen Dunn was awarded the Pulitzer Prize in Poetry for Different Hours. His many other books include New and Selected Poems\, 1974-1994\, What Goes On: Selected and New Poems 1995-2009\, and\, most recently\, Here and Now. \nRachel Eliza Griffiths is the author of Miracle Arrhythmia\, The Requited Distance\, and\, most recently\, Mule & Pear. A photographer and painter as well as a poet\, she teaches at Sarah Lawrence College. \nIn addition\, a dozen nationally known local poets will give brief readings: Gabe Barabas\, Michael Broek\, Prescott Evarts\, Laura McCullough\, Yesenia Montilla\, Mihaela Moscaliuc\, Suzanne Parker\, Lauren Schmidt\, Michael Paul Thomas\, Michael Waters\, BJ Ward\, and Daniel Weeks. The festival will culminate with a reading by registered participants. \nAdmission to the readings is free and open to the public.  \nThe workshops\, also free\, will be open to registrants only. To register\, e-mail Dr. Michael Waters no later than Wednesday\, November 7\, at mgwaters@monmouth.edu. \nPlease see the schedule below for reading and workshop times. This event is co-sponsored by the Long Branch Arts Council\, the Wayne D. McMurray School of Humanities and Social Sciences at Monmouth University\, the Department of English at Monmouth University\, and The Monmouth Review. \n=============== \n9-10 a.m.\nSign-in for registrants in Bey Hall (refreshments).\nThe Monmouth Review distributed to participants. \n10-11 a.m.: Reading:\nLaura McCullough / BCC\nMichael Broek / BCC\nSuzanne Parker / BCC\nGabe Barabas / NJ Repertory Company\nLauren Schmidt / MU\nBJ Ward / Warren CC \n11 a.m. -12 p.m.: Workshops \n12-1 p.m.: Lunch for registrants \n1-2 p.m.: Reading: \nMichael Paul Thomas / MU\nPrescott Evarts Jr. / MU\nMihaela Moscaliuc / MU\nDan Weeks / MU\nYesenia Montilla / NYC\nMichael Waters / MU \n2-3 p.m.: Workshops \n3-4 p.m.: Reading: \nRachel Eliza Griffiths\nStephen Dunn \n4-5 p.m.: Participants’ reading
URL:https://www.monmouth.edu/events/event/fall-poetry-festival-3/
LOCATION:Bey Hall
ATTACH;FMTTYPE=image/jpeg:https://www.monmouth.edu/events/wp-content/uploads/sites/19/2018/07/poetryfest_thumb.jpg
END:VEVENT
END:VCALENDAR