BEGIN:VCALENDAR
VERSION:2.0
PRODID:-//Events - ECPv6.15.20//NONSGML v1.0//EN
CALSCALE:GREGORIAN
METHOD:PUBLISH
X-ORIGINAL-URL:https://www.monmouth.edu/events
X-WR-CALDESC:Events for Events
REFRESH-INTERVAL;VALUE=DURATION:PT1H
X-Robots-Tag:noindex
X-PUBLISHED-TTL:PT1H
BEGIN:VTIMEZONE
TZID:America/New_York
BEGIN:DAYLIGHT
TZOFFSETFROM:-0500
TZOFFSETTO:-0400
TZNAME:EDT
DTSTART:20210314T070000
END:DAYLIGHT
BEGIN:STANDARD
TZOFFSETFROM:-0400
TZOFFSETTO:-0500
TZNAME:EST
DTSTART:20211107T060000
END:STANDARD
BEGIN:DAYLIGHT
TZOFFSETFROM:-0500
TZOFFSETTO:-0400
TZNAME:EDT
DTSTART:20220313T070000
END:DAYLIGHT
BEGIN:STANDARD
TZOFFSETFROM:-0400
TZOFFSETTO:-0500
TZNAME:EST
DTSTART:20221106T060000
END:STANDARD
BEGIN:DAYLIGHT
TZOFFSETFROM:-0500
TZOFFSETTO:-0400
TZNAME:EDT
DTSTART:20230312T070000
END:DAYLIGHT
BEGIN:STANDARD
TZOFFSETFROM:-0400
TZOFFSETTO:-0500
TZNAME:EST
DTSTART:20231105T060000
END:STANDARD
END:VTIMEZONE
BEGIN:VEVENT
DTSTART;TZID=America/New_York:20221016T130000
DTEND;TZID=America/New_York:20221016T150000
DTSTAMP:20260421T062627
CREATED:20220411T154819Z
LAST-MODIFIED:20221003T155554Z
UID:40810111232-1665925200-1665932400@www.monmouth.edu
SUMMARY:Open Heart : M O V E M E N T Experience
DESCRIPTION:Come join us in the Open Heart : M O V E M E N T experience! The session will begin with a guided meditation emerging in a sound bath of relaxation. Flowing into freely guided movement experiences\, together we will integrate music and dance to collectively express. No experience necessary. \nFacilitators: \nChristine Elise [Vocal Guide/ Harp/ Singing Bowls]\nKuf Knotz [Electronic Production / Sound]\nKarlee Bloom [Keyboard / Bass] \nInstrumentation: Harp\, Electronic Production\, Keyboard\, Singing Bowls\, Keyboard/Bass\, Various Percussion instruments \nApproximate Schedule:\nArrival\nWelcome (5 minutes)\nGuided Meditation (15 minutes)\nGuided Improvisation Movement Music Experience (60 minutes)\nCool Down (15 minutes)\nGroup Discussion Circle (25 minutes)\nLeave \nClasses held: Sundays September 25 & October 16 \n 
URL:https://www.monmouth.edu/events/event/open-heart-m-o-v-e-m-e-n-t-experience-2022-10-16/2022-10-16/
LOCATION:10 PRL\, 515 Bath Avenue\, Long Branch\, NJ\, 07740\, United States
CATEGORIES:Alumni,Arts at Monmouth
ATTACH;FMTTYPE=image/jpeg:https://www.monmouth.edu/events/wp-content/uploads/sites/19/2022/04/header-3.jpg
END:VEVENT
BEGIN:VEVENT
DTSTART;TZID=America/New_York:20220925T130000
DTEND;TZID=America/New_York:20221016T150000
DTSTAMP:20260421T062627
CREATED:20220411T154819Z
LAST-MODIFIED:20221003T155554Z
UID:40810111229-1664110800-1665932400@www.monmouth.edu
SUMMARY:Open Heart : M O V E M E N T Experience
DESCRIPTION:Come join us in the Open Heart : M O V E M E N T experience! The session will begin with a guided meditation emerging in a sound bath of relaxation. Flowing into freely guided movement experiences\, together we will integrate music and dance to collectively express. No experience necessary. \nFacilitators: \nChristine Elise [Vocal Guide/ Harp/ Singing Bowls]\nKuf Knotz [Electronic Production / Sound]\nKarlee Bloom [Keyboard / Bass] \nInstrumentation: Harp\, Electronic Production\, Keyboard\, Singing Bowls\, Keyboard/Bass\, Various Percussion instruments \nApproximate Schedule:\nArrival\nWelcome (5 minutes)\nGuided Meditation (15 minutes)\nGuided Improvisation Movement Music Experience (60 minutes)\nCool Down (15 minutes)\nGroup Discussion Circle (25 minutes)\nLeave \nClasses held: Sundays September 25 & October 16 \n 
URL:https://www.monmouth.edu/events/event/open-heart-m-o-v-e-m-e-n-t-experience-2022-10-16/2022-09-25/
LOCATION:10 PRL\, 515 Bath Avenue\, Long Branch\, NJ\, 07740\, United States
CATEGORIES:Alumni,Arts at Monmouth
ATTACH;FMTTYPE=image/jpeg:https://www.monmouth.edu/events/wp-content/uploads/sites/19/2022/04/header-3.jpg
END:VEVENT
END:VCALENDAR