BEGIN:VCALENDAR
VERSION:2.0
PRODID:-//Events - ECPv6.15.20//NONSGML v1.0//EN
CALSCALE:GREGORIAN
METHOD:PUBLISH
X-WR-CALNAME:Events
X-ORIGINAL-URL:https://www.monmouth.edu/events
X-WR-CALDESC:Events for Events
REFRESH-INTERVAL;VALUE=DURATION:PT1H
X-Robots-Tag:noindex
X-PUBLISHED-TTL:PT1H
BEGIN:VTIMEZONE
TZID:America/New_York
BEGIN:DAYLIGHT
TZOFFSETFROM:-0500
TZOFFSETTO:-0400
TZNAME:EDT
DTSTART:20240310T070000
END:DAYLIGHT
BEGIN:STANDARD
TZOFFSETFROM:-0400
TZOFFSETTO:-0500
TZNAME:EST
DTSTART:20241103T060000
END:STANDARD
BEGIN:DAYLIGHT
TZOFFSETFROM:-0500
TZOFFSETTO:-0400
TZNAME:EDT
DTSTART:20250309T070000
END:DAYLIGHT
BEGIN:STANDARD
TZOFFSETFROM:-0400
TZOFFSETTO:-0500
TZNAME:EST
DTSTART:20251102T060000
END:STANDARD
BEGIN:DAYLIGHT
TZOFFSETFROM:-0500
TZOFFSETTO:-0400
TZNAME:EDT
DTSTART:20260308T070000
END:DAYLIGHT
BEGIN:STANDARD
TZOFFSETFROM:-0400
TZOFFSETTO:-0500
TZNAME:EST
DTSTART:20261101T060000
END:STANDARD
END:VTIMEZONE
BEGIN:VEVENT
DTSTART;TZID=America/New_York:20250905T100000
DTEND;TZID=America/New_York:20251218T170000
DTSTAMP:20260422T191727
CREATED:20250910T163624Z
LAST-MODIFIED:20251001T131809Z
UID:40810119564-1757066400-1766077200@www.monmouth.edu
SUMMARY:Born to Run 50: Photographs by Eric Meola
DESCRIPTION:This exciting new exhibit celebrates the photography of Eric Meola\, whose iconic photo of Springsteen and saxophonist Clarence Clemons graces the Born to Run album cover.  The free exhibit will be open to the public in Monmouth University’s Rechnitz Hall DiMattio Gallery from Friday\, September 5 through December 18\, 2025. See gallery hours and more here.
URL:https://www.monmouth.edu/events/event/born-to-run-50-photographs-by-eric-meola/
LOCATION:DiMattio Gallery at Rechnitz Hall
CATEGORIES:Alumni,Art and Design,Art Exhibitions,Arts at Monmouth,Community Member,Current Student,Faculty,Free
ATTACH;FMTTYPE=image/jpeg:https://www.monmouth.edu/events/wp-content/uploads/sites/19/2025/09/BTR50_Meola-Opening_mkrajnak_090425_0V2A4162.jpg
END:VEVENT
BEGIN:VEVENT
DTSTART;TZID=America/New_York:20251010T100000
DTEND;TZID=America/New_York:20251218T170000
DTSTAMP:20260422T191727
CREATED:20251010T181516Z
LAST-MODIFIED:20251023T195105Z
UID:40810119856-1760090400-1766077200@www.monmouth.edu
SUMMARY:Dennis McNett and Ben Venom: Double Trouble
DESCRIPTION:Monmouth University\, Department of Art & Design\, in collaboration with Parlor Gallery in Asbury Park is pleased to present Double Trouble\, a groundbreaking exhibition uniting the strong works of Dennis McNett (Wolfbat) and Ben Venom. McNett’s large-scale wood carvings and intricate prints stand in powerful dialogue with Venom’s punk-infused quilts and textile works. These boundary-pushing artists transform traditional techniques into bold cultural statements that challenge\, provoke\, and inspire. \nExhibition runs through December 18th\, 2025\, this exhibition showcases the artists’ individual works that explore the intersection of punk culture\, environmental sustainability\, and traditional craft\, showing a commitment to DIY ethos and techniques. \nJoin us for a lecture with Dennis McNett in the Great Hall Auditorium from 4:00–5:00 PM\, followed by an Artist Reception on Tuesday\, November 18\, from 6:00–8:00 PM in the Ice House Gallery. \nDennis McNett \nhttps://www.wolfbat.com/ \nBen Venom \nhttps://www.benvenom.com/
URL:https://www.monmouth.edu/events/event/mcnett-venom-double-trouble/
LOCATION:Rotary Ice House Gallery
CATEGORIES:Alumni,Art and Design,Art Exhibitions,Arts at Monmouth,Community Member,Current Student,Faculty,Free
ATTACH;FMTTYPE=image/jpeg:https://www.monmouth.edu/events/wp-content/uploads/sites/19/2025/10/Screenshot_10-10-2025_141350_.jpeg
END:VEVENT
BEGIN:VEVENT
DTSTART;TZID=America/New_York:20251211T193000
DTEND;TZID=America/New_York:20251218T210000
DTSTAMP:20260422T191727
CREATED:20250722T172427Z
LAST-MODIFIED:20250722T172436Z
UID:40810119336-1765481400-1766091600@www.monmouth.edu
SUMMARY:Disco Inferno!\, Part II
DESCRIPTION:Class Schedule: December 11\, 16\, & 18\, 2025 | 7:30 – 9:00 PM \nBy the late 1970s\, disco dominated the airwaves and conquered film\, television\, advertising\, and fashion. Its ubiquity\, however\, led to an inevitable backlash in the form of Chicago’s infamous “Disco Demolition Night” event at Comiskey Park.  Did that signal the end of the genre?  Hardly—it merely changed labels\, transforming its sound and becoming “House” or “Electronic Dance Music (EDM).”  In the present day\, artists such as Dua Lipa\, Beyoncé\, and Sabrina Carpenter have incorporated the sound into their own music. \n\n\nPart two of Disco Inferno continues the journey through the history of disco\, moving from the late 1970s peak into House music and through the present day.  How did disco evolve through the 1970s?  How did the genre alter music and popular culture?  Why has the music endured?  All of these questions will be explored through multimedia presentations and class discussions.  Students will learn about the peak of disco and its longevity\, key artists\, and how the genre evolved into House and EDM.
URL:https://www.monmouth.edu/events/event/adult-education-disco-inferno-part-ii/
LOCATION:Virtual (Zoom)
CATEGORIES:Alumni,Arts at Monmouth,Community Member,Current Student,Faculty,Lectures,Music,Music + Theatre Arts,Virtual
ATTACH;FMTTYPE=image/png:https://www.monmouth.edu/events/wp-content/uploads/sites/19/2025/07/Screenshot-2025-07-19-at-7.46.46-PM-1.png
ORGANIZER;CN="Kenneth Womack":MAILTO:kwomack@monmouth.edu
END:VEVENT
BEGIN:VEVENT
DTSTART;TZID=America/New_York:20251214T140000
DTEND;TZID=America/New_York:20251214T160000
DTSTAMP:20260422T191727
CREATED:20250918T124114Z
LAST-MODIFIED:20251214T124032Z
UID:40810119697-1765720800-1765728000@www.monmouth.edu
SUMMARY:Men's Basketball at Fairfield
DESCRIPTION:Monmouth University Men’s Basketball at Fairfield\nStreaming Video: https://www.espn.com/watch/player/_/eventCalendarId/401823313
URL:https://www.monmouth.edu/events/event/mens-basketball-at-fairfield/
LOCATION:Leo D. Mahoney Arena – Fairfield\, CT
CATEGORIES:Men's Basketball
END:VEVENT
BEGIN:VEVENT
DTSTART;TZID=America/New_York:20251215T120000
DTEND;TZID=America/New_York:20251215T160000
DTSTAMP:20260422T191727
CREATED:20251024T155929Z
LAST-MODIFIED:20251024T155929Z
UID:40810119999-1765800000-1765814400@www.monmouth.edu
SUMMARY:Winter Wonderland
DESCRIPTION:❄️✨ Winter Wonderland Dinner ✨❄️nHosted by Gourmet Dining ServicesnnStep into a magical winter wonderland and celebrate the season in style! Join us for a special lunch experience featuring delicious seasonal dishes\, festive décor\, cozy holiday vibes\, and prizes!nnCome enjoy a warm\, festive atmosphere with friends before the holiday break.  Don’t miss this chance to make merry memories and savor some incredible food!nnStudents and Guests without a meal plan can pay by cash\, debit or credit upon entry to Magill Commons Dining HallnnAll are welcome — bring your appetite and your holiday spirit!n—nEvent Details: https://campusgroups.monmouth.edu/rsvp?id=375028
URL:https://www.monmouth.edu/events/event/winter-wonderland/
LOCATION:Sign into HawkHub to view the location
ATTACH;FMTTYPE=image/jpeg:https://www.monmouth.edu/events/wp-content/uploads/sites/19/2025/10/image_upload_599692_download_7jfif_716145031.jpeg
END:VEVENT
BEGIN:VEVENT
DTSTART;TZID=America/New_York:20251215T190000
DTEND;TZID=America/New_York:20251215T203000
DTSTAMP:20260422T191727
CREATED:20250612T160148Z
LAST-MODIFIED:20251104T144143Z
UID:40810119189-1765825200-1765830600@www.monmouth.edu
SUMMARY:Goya: Visions of Flesh and Blood
DESCRIPTION:Please note that this event\, originally scheduled for October 13\, has been rescheduled to December 15. All tickets previously purchased will remain valid for the new date. \nHeir to Velázquez\, a hero to Picasso. Discover Spain’s celebrated artist with this cinematic tour de force based on the National Gallery’s must-see exhibition Goya: The Portraits. \nFrancisco Goya is Spain’s most celebrated artist and considered the father of modern art. Not only a brilliant observer of everyday life and Spain’s troubled past\, he is a gifted portrait painter and social commentator par excellence. \nGoya takes the genre of portraiture to new heights and his genius is reappraised in a much-anticipated landmark exhibition at The National Gallery\, London. \n‘‘Filmed to perfection… Sure to impress and inspire.”  Movie News \n‘‘Stunning!”  Time Out Magazine \n  \n \n 
URL:https://www.monmouth.edu/events/event/goya-visions/
LOCATION:Pollak Theatre
CATEGORIES:Alumni,Art and Design,Arts at Monmouth,Current Student,Faculty
ATTACH;FMTTYPE=image/jpeg:https://www.monmouth.edu/events/wp-content/uploads/sites/19/2025/06/goya.jpg
ORGANIZER;CN="Center for the Arts":MAILTO:kbarratt@monmouth.edu
END:VEVENT
BEGIN:VEVENT
DTSTART;TZID=America/New_York:20251216T183000
DTEND;TZID=America/New_York:20251216T193000
DTSTAMP:20260422T191727
CREATED:20250124T194555Z
LAST-MODIFIED:20250124T194555Z
UID:40810118372-1765909800-1765913400@www.monmouth.edu
SUMMARY:Zumba
DESCRIPTION:This class takes the “work” out of workout\, by mixing low-intensity and high-intensity moves for an interval-style\, calorie-burning dance fitness party.
URL:https://www.monmouth.edu/events/event/zumba/2025-12-16/
LOCATION:Boylan Gym South
ATTACH;FMTTYPE=image/jpeg:https://www.monmouth.edu/events/wp-content/uploads/sites/19/2025/01/M-Recreation-1.jpg
END:VEVENT
BEGIN:VEVENT
DTSTART;TZID=America/New_York:20251217T190000
DTEND;TZID=America/New_York:20251217T210000
DTSTAMP:20260422T191727
CREATED:20250918T124114Z
LAST-MODIFIED:20251217T125509Z
UID:40810119699-1765998000-1766005200@www.monmouth.edu
SUMMARY:Men's Basketball vs Quinnipiac - Holidays with the Hawks - Pictures with Santa
DESCRIPTION:Monmouth University Men’s Basketball vs Quinnipiac – Holidays with the Hawks – Pictures with Santa\nStreaming Video: https://flosports.link/4nQGzcf\nTickets: https://mpv.tickets.com/?CCID=MNMV&agency=MNMV_PLAGENCY_MPV&orgid=44869&pid=9616200#/event/9616200/seatmap/?minPrice=14.5&maxPrice=107.5&quantity=2&sort=price_desc&ada=false&seatSelection=true&onlyCoupon=true&onlyVoucher=false
URL:https://www.monmouth.edu/events/event/mens-basketball-vs-quinnipiac/
LOCATION:OceanFirst Bank Center – West Long Branch\, NJ
CATEGORIES:Men's Basketball
END:VEVENT
BEGIN:VEVENT
DTSTART;TZID=America/New_York:20251218T183000
DTEND;TZID=America/New_York:20251218T193000
DTSTAMP:20260422T191727
CREATED:20250124T194555Z
LAST-MODIFIED:20250124T194555Z
UID:40810118375-1766082600-1766086200@www.monmouth.edu
SUMMARY:Zumba
DESCRIPTION:This class takes the “work” out of workout\, by mixing low-intensity and high-intensity moves for an interval-style\, calorie-burning dance fitness party.
URL:https://www.monmouth.edu/events/event/zumba/2025-12-18/
LOCATION:Boylan Gym South
ATTACH;FMTTYPE=image/jpeg:https://www.monmouth.edu/events/wp-content/uploads/sites/19/2025/01/M-Recreation-1.jpg
END:VEVENT
END:VCALENDAR