BEGIN:VCALENDAR
VERSION:2.0
PRODID:-//Events - ECPv6.15.20//NONSGML v1.0//EN
CALSCALE:GREGORIAN
METHOD:PUBLISH
X-WR-CALNAME:Events
X-ORIGINAL-URL:https://www.monmouth.edu/events
X-WR-CALDESC:Events for Events
REFRESH-INTERVAL;VALUE=DURATION:PT1H
X-Robots-Tag:noindex
X-PUBLISHED-TTL:PT1H
BEGIN:VTIMEZONE
TZID:America/New_York
BEGIN:DAYLIGHT
TZOFFSETFROM:-0500
TZOFFSETTO:-0400
TZNAME:EDT
DTSTART:20240310T070000
END:DAYLIGHT
BEGIN:STANDARD
TZOFFSETFROM:-0400
TZOFFSETTO:-0500
TZNAME:EST
DTSTART:20241103T060000
END:STANDARD
BEGIN:DAYLIGHT
TZOFFSETFROM:-0500
TZOFFSETTO:-0400
TZNAME:EDT
DTSTART:20250309T070000
END:DAYLIGHT
BEGIN:STANDARD
TZOFFSETFROM:-0400
TZOFFSETTO:-0500
TZNAME:EST
DTSTART:20251102T060000
END:STANDARD
BEGIN:DAYLIGHT
TZOFFSETFROM:-0500
TZOFFSETTO:-0400
TZNAME:EDT
DTSTART:20260308T070000
END:DAYLIGHT
BEGIN:STANDARD
TZOFFSETFROM:-0400
TZOFFSETTO:-0500
TZNAME:EST
DTSTART:20261101T060000
END:STANDARD
END:VTIMEZONE
BEGIN:VEVENT
DTSTART;TZID=America/New_York:20250616T130000
DTEND;TZID=America/New_York:20250616T170000
DTSTAMP:20260422T051322
CREATED:20250409T202639Z
LAST-MODIFIED:20250409T202639Z
UID:40810119073-1750078800-1750093200@www.monmouth.edu
SUMMARY:Basic Life Support (BLS)
DESCRIPTION:Basic Life Support (BLS) for Health Care Providers – American Heart Association (AHA) \nThis course is intended for health and allied health providers (licensed and non-licensed)\, students working in healthcare settings\, fire fighters\, police officers\, paramedics and EMT’s. Following the AHA guidelines\, this in-person training is designed to prepare individuals to provide BLS in a variety of settings. \nUpon completion of course requirements – participants will receive an American Heart Association (AHA) BLS provider completion card which is good for 2 years. \nThe following content will be included: \n\nAHA’s Basic Life Support (BLS) principles and procedures for adults\, children\, and infants including simulated demonstration and repeat demonstration\nAdministration of CPR\nEstablishing effective ventilations using a barrier device\nProper use of Automated External Defibrillators (AED)\nRelief of foreign-body airway obstruction (choking) for adults\, children\, and infants\nWorking as a team in multi-rescuer resuscitation\n\nPre-registration is required. Please register early as registration for each session is limited. \nBooks are included. \nNo contact hours will be provided for this program.
URL:https://www.monmouth.edu/events/event/basic-life-support-bls-2/2025-06-16/
LOCATION:Monmouth University – McAllan Hall 329\, 400 Cedar Ave\, West Long Branch\, 07764
CATEGORIES:Workshops and Professional Development
ATTACH;FMTTYPE=image/jpeg:https://www.monmouth.edu/events/wp-content/uploads/sites/19/2025/03/BLS-action.jpeg
ORGANIZER;CN="School of Nursing and Health Studies":MAILTO:bpaskewi@monmouth.edu
END:VEVENT
BEGIN:VEVENT
DTSTART;TZID=America/New_York:20250617T183000
DTEND;TZID=America/New_York:20250617T193000
DTSTAMP:20260422T051322
CREATED:20250124T194555Z
LAST-MODIFIED:20250124T194555Z
UID:40810118216-1750185000-1750188600@www.monmouth.edu
SUMMARY:Zumba
DESCRIPTION:This class takes the “work” out of workout\, by mixing low-intensity and high-intensity moves for an interval-style\, calorie-burning dance fitness party.
URL:https://www.monmouth.edu/events/event/zumba/2025-06-17/
LOCATION:Boylan Gym South
ATTACH;FMTTYPE=image/jpeg:https://www.monmouth.edu/events/wp-content/uploads/sites/19/2025/01/M-Recreation-1.jpg
END:VEVENT
BEGIN:VEVENT
DTSTART;TZID=America/New_York:20250617T193000
DTEND;TZID=America/New_York:20250617T210000
DTSTAMP:20260422T051322
CREATED:20250404T142132Z
LAST-MODIFIED:20250408T193956Z
UID:40810119091-1750188600-1750194000@www.monmouth.edu
SUMMARY:Classic for a Reason: Fleetwood Mac's Rumours
DESCRIPTION:Join music historians Ken Womack & Kit O’Toole as they revisit classic record albums. With Classic for a Reason\, Ken & Kit will take listeners on a guided tour of our history’s most enduring popular musical accomplishments. \n\nClass Schedule: June 17\, 2025 | 7:30 – 9:00 PM \n\nZoom Link will be provided upon registration.
URL:https://www.monmouth.edu/events/event/classic-for-a-reason-fleetwood-macs-rumours/
LOCATION:Virtual (Zoom)
CATEGORIES:Arts at Monmouth,Music + Theatre Arts
ATTACH;FMTTYPE=image/png:https://www.monmouth.edu/events/wp-content/uploads/sites/19/2025/04/Screenshot-2025-04-02-at-9.55.05 AM.png
ORGANIZER;CN="Kenneth Womack":MAILTO:kwomack@monmouth.edu
END:VEVENT
BEGIN:VEVENT
DTSTART;TZID=America/New_York:20250618T090000
DTEND;TZID=America/New_York:20250618T110000
DTSTAMP:20260422T051322
CREATED:20250522T175155Z
LAST-MODIFIED:20250610T140318Z
UID:40810119176-1750237200-1750244400@www.monmouth.edu
SUMMARY:Monmouth Alumni Meet-up
DESCRIPTION:Monmouth alumni and current students are invited to join the Alumni Engagement and Career Development teams for complimentary coffee and light bites at Bell Works! Whether you work in the building or remotely\, don’t miss the opportunity to connect with fellow Hawks and learn about exciting new initiatives and programs. Find us at the tables under the string lights near the market.
URL:https://www.monmouth.edu/events/event/monmouth-alumni-meet-up/
LOCATION:Bell Works\, 101 Crawfords Corner Rd\, Holmdel\, NJ\, 07733\, United States
CATEGORIES:Alumni,Alumni Events,Free,Social Events
ATTACH;FMTTYPE=image/jpeg:https://www.monmouth.edu/events/wp-content/uploads/sites/19/2025/05/Bell-Works.jpg
END:VEVENT
BEGIN:VEVENT
DTSTART;TZID=America/New_York:20250619T183000
DTEND;TZID=America/New_York:20250619T193000
DTSTAMP:20260422T051322
CREATED:20250124T194555Z
LAST-MODIFIED:20250124T194555Z
UID:40810118219-1750357800-1750361400@www.monmouth.edu
SUMMARY:Zumba
DESCRIPTION:This class takes the “work” out of workout\, by mixing low-intensity and high-intensity moves for an interval-style\, calorie-burning dance fitness party.
URL:https://www.monmouth.edu/events/event/zumba/2025-06-19/
LOCATION:Boylan Gym South
ATTACH;FMTTYPE=image/jpeg:https://www.monmouth.edu/events/wp-content/uploads/sites/19/2025/01/M-Recreation-1.jpg
END:VEVENT
BEGIN:VEVENT
DTSTART;TZID=America/New_York:20250620T000000
DTEND;TZID=America/New_York:20250620T235959
DTSTAMP:20260422T051322
CREATED:20240903T145538Z
LAST-MODIFIED:20240904T161122Z
UID:40810113362-1750377600-1750463999@www.monmouth.edu
SUMMARY:University Closed - Juneteenth
DESCRIPTION:
URL:https://www.monmouth.edu/events/event/university-closed-juneteenth/
CATEGORIES:Holiday / Breaks
END:VEVENT
END:VCALENDAR