BEGIN:VCALENDAR
VERSION:2.0
PRODID:-//Events - ECPv6.15.20//NONSGML v1.0//EN
CALSCALE:GREGORIAN
METHOD:PUBLISH
X-ORIGINAL-URL:https://www.monmouth.edu/events
X-WR-CALDESC:Events for Events
REFRESH-INTERVAL;VALUE=DURATION:PT1H
X-Robots-Tag:noindex
X-PUBLISHED-TTL:PT1H
BEGIN:VTIMEZONE
TZID:America/New_York
BEGIN:DAYLIGHT
TZOFFSETFROM:-0500
TZOFFSETTO:-0400
TZNAME:EDT
DTSTART:20240310T070000
END:DAYLIGHT
BEGIN:STANDARD
TZOFFSETFROM:-0400
TZOFFSETTO:-0500
TZNAME:EST
DTSTART:20241103T060000
END:STANDARD
BEGIN:DAYLIGHT
TZOFFSETFROM:-0500
TZOFFSETTO:-0400
TZNAME:EDT
DTSTART:20250309T070000
END:DAYLIGHT
BEGIN:STANDARD
TZOFFSETFROM:-0400
TZOFFSETTO:-0500
TZNAME:EST
DTSTART:20251102T060000
END:STANDARD
BEGIN:DAYLIGHT
TZOFFSETFROM:-0500
TZOFFSETTO:-0400
TZNAME:EDT
DTSTART:20260308T070000
END:DAYLIGHT
BEGIN:STANDARD
TZOFFSETFROM:-0400
TZOFFSETTO:-0500
TZNAME:EST
DTSTART:20261101T060000
END:STANDARD
END:VTIMEZONE
BEGIN:VEVENT
DTSTART;TZID=America/New_York:20250121T000000
DTEND;TZID=America/New_York:20250323T235959
DTSTAMP:20260423T052654
CREATED:20241002T195039Z
LAST-MODIFIED:20241218T181455Z
UID:40810114439-1737417600-1742774399@www.monmouth.edu
SUMMARY:Michael Malpass: Renaissance Man
DESCRIPTION:Through the alchemy of welding and traditional blacksmithing\, Michael Malpass commanded steel\, bronze\, copper\, and brass with a sculptor’s precision. He elevated these industrial remnants\, liberating them from their utilitarian past\, and reimagined them as vibrant works of art— imbuing them with new life and meaning. \nOpening Reception: Friday\, February 7\, 5:30pm – 7:30pm
URL:https://www.monmouth.edu/events/event/michael-malpass-renaissance-man/
LOCATION:DiMattio Gallery at Rechnitz Hall
CATEGORIES:Art Exhibitions,Arts at Monmouth,Free
ATTACH;FMTTYPE=image/jpeg:https://www.monmouth.edu/events/wp-content/uploads/sites/19/2024/10/header_malpass.jpg
END:VEVENT
BEGIN:VEVENT
DTSTART;TZID=America/New_York:20250206T000000
DTEND;TZID=America/New_York:20250427T235959
DTSTAMP:20260423T052654
CREATED:20250306T225532Z
LAST-MODIFIED:20250306T225625Z
UID:40810115923-1738800000-1745798399@www.monmouth.edu
SUMMARY:Ocean Bodies\, A Solo Exhibit by Kimberly Callas
DESCRIPTION:Monmouth University’s Ice House Gallery presents Ocean Bodies\, a powerful solo exhibition by multimedia artist Kimberly Callas. The exhibition will open on February 6\, 2025\, with an evening reception from 5:30 to 7:30 PM\, and will run through April 27\, 2025. Ocean Bodies offers an immersive exploration of humanity’s interconnectedness with the ocean\, drawing on symbols\, archetypes\, and ecological narratives to invite contemplation and action. \nThrough sculptures\, large-scale drawings\, and mixed-media works\, Callas examines the “crisis of meaning” at the heart of the climate crisis and advocates for a shift in consciousness toward an “ecological self.” This concept\, central to her work\, reflects humanity’s integral role within nature rather than apart from it. In Ocean Bodies\, she uses water-based materials\, such as dyed fabrics\, India ink\, and water-soluble graphite\, to invoke the sea’s physical presence while exploring the symbolic depth of whales\, the horizon\, and the ocean itself as metaphors for the psyche and cosmos. \nAmong the featured works is a series of 10-foot mixed-media drawings inspired by historical nautical charts\, which pair psychological journeys with the migration of critically endangered North Atlantic right whales. Complementing these works are colorful life-size figurative sculptures and reliefs\, 3D-printed using bio-filament\, that further explore themes of renewal and interconnection. Through these works\, Callas poses urgent questions about the loss of meaning\, wisdom\, and biodiversity in the Anthropocene. \n“The ocean has a unique way to connect with people in an immediate and emotional way. Science and data can only tell us so much; art can speak to each of us in a way that is both uniquely personal and universal. Having Kimberly as the Urban Coast Institute artist-in-residence provided inspiration for some of the artwork in the Ocean Bodies exhibit\, which will in turn inspire others. She was also able to share her creative process with her students\, conducting lectures and using her art and sculpture as a pathway to ‘discovering the ecological self.’ This work reminds us that the worlds of art and science are two sides of the same coin\,” said Tony MacDonald\, J.D.\, Director\, Urban Coast Institute. \nCallas created much of the work in Ocean Bodies during an artist residency with Monmouth University’s Urban Coast Institute\, with additional research conducted at the Archive for Research in Archetypal Symbolism (ARAS) and an artist residency at the Arts Quarter Budapest. This body of work seeks to merge art\, science\, and archetypal symbols to foster a deeper understanding of humanity’s place within the natural world and inspire meaningful environmental action. \nAbout the Artist \nKimberly Callas is a multimedia artist\, sculptor\, and the lead artist of the Social Practice project Discovering the Ecological Self. Her work delves into the human/nature relationship\, focusing on the concept of the ecological self. Recently\, she has incorporated cutting-edge technologies\, such as 3D printing with bio-filaments and CNC\, into her life-size sculptures. Art New England described her series Portrait of the Ecological Self as “unforgettable.” \nCallas’s work often involves community engagement. With her Discovering the Ecological Self social practice project\, featured in The Huffington Post\, she has led workshops across the U.S. and internationally. Her art has been showcased in prestigious galleries and museums worldwide\, earning her numerous awards and grants\, including the Pollination Project Grant\, the Urban Coast Artist-in-Residence award\, and the Puffin Foundation Grant. Her accolades include First Place in Sculpture at the Catharine Lorillard Wolfe Art Club’s Annual Exhibit in New York City. \nCallas’s recent exhibitions include the International New Media Exhibit at the CICA Museum in South Korea\, Crossing Boundaries: Art and the Future of Energy at the Pensacola Museum of Art\, and Ocean Swimmers (Entanglement)\, a solo exhibition in Budapest. In May 2025\, she will unveil a public art commission for the Lambert Castle Renovation in Paterson\, New Jersey. \nCallas holds an MFA from the New York Academy of Art and a BFA from the University of Michigan. She is currently an Associate Professor of Art at Monmouth University and maintains studios in Maine and New Jersey. \nEvent Details: \nExhibition: Ocean Bodies\nLocation: Ice House Gallery\, Monmouth University\, 400 Cedar Ave # 600\, West Long Branch\, NJ 07764\nOpening Reception: February 6\, 2025\, 5:30–7:30 PM\nExhibition Dates: February 6\, 2025 – April 27\, 2025\nGallery Hours: Mon-Fri\, 10am-5pm\, \nFor additional information\, please contact Scott Knauer\, 732.923.4786  or visit https://kimberlycallas.com/. \n 
URL:https://www.monmouth.edu/events/event/ocean-bodies-a-solo-exhibit-by-eco-artist-kimberly-callas-2/
LOCATION:Rotary Ice House Gallery
CATEGORIES:Academic Calendar,Alumni Calendar Featured,Art and Design,Art Exhibitions,Arts at Monmouth,Free
ATTACH;FMTTYPE=image/jpeg:https://www.monmouth.edu/events/wp-content/uploads/sites/19/2024/12/callas_header-1.jpg
ORGANIZER;CN="Art and Design Department":MAILTO:sknauer@monmouth.edu
END:VEVENT
BEGIN:VEVENT
DTSTART;TZID=America/New_York:20250301T090000
DTEND;TZID=America/New_York:20250302T150000
DTSTAMP:20260423T052654
CREATED:20250110T210051Z
LAST-MODIFIED:20250110T210106Z
UID:40810117832-1740819600-1740927600@www.monmouth.edu
SUMMARY:Monmouth Sailing @ Stony Brook Seawolf Women’s Spring Open
DESCRIPTION:Monmouth University will be heading to Port Jefferson\, NY\, to compete in the SBU Women’s Spring Open regatta March 1-2. The regatta currently has the following schools in attendance: Columbia\, University of Delaware\, Penn State\, Princeton\, Stony Brook\, Maryland\, & Monmouth. Both an A division and B division will be competing for 1st place. Three more spots are currently still open for schools to apply.
URL:https://www.monmouth.edu/events/event/monmouth-sailing-stony-brook-seawolf-womens-spring-open/
LOCATION:Port Jefferson Yacht Club\, Pass Way\, Port Jefferson\, 11777
CATEGORIES:Athletics
ATTACH;FMTTYPE=image/png:https://www.monmouth.edu/events/wp-content/uploads/sites/19/2025/01/Red-and-White-Dynamic-Modern-Football-Match-Instagram-Story.png
END:VEVENT
BEGIN:VEVENT
DTSTART;TZID=America/New_York:20250302T000000
DTEND;TZID=America/New_York:20250303T235959
DTSTAMP:20260423T052654
CREATED:20240911T234037Z
LAST-MODIFIED:20250303T192608Z
UID:40810113920-1740873600-1741046399@www.monmouth.edu
SUMMARY:Women's Golf vs 2025 Lady Bison at Hawkstone
DESCRIPTION:Monmouth University Women’s Golf vs 2025 Lady Bison at Hawkstone
URL:https://www.monmouth.edu/events/event/monmouth-university-womens-golf-vs-2025-lady-bison-at-hawkstone/
LOCATION:Hawkstone CC – Gainesville\, FL
CATEGORIES:Women's Golf
END:VEVENT
BEGIN:VEVENT
DTSTART;TZID=America/New_York:20250302T100000
DTEND;TZID=America/New_York:20250302T120000
DTSTAMP:20260423T052654
CREATED:20250106T191048Z
LAST-MODIFIED:20250301T194109Z
UID:40810117554-1740909600-1740916800@www.monmouth.edu
SUMMARY:Softball at SLU
DESCRIPTION:Monmouth University Softball at SLU
URL:https://www.monmouth.edu/events/event/monmouth-university-softball-at-slu/
LOCATION:Youngsville\, LA
CATEGORIES:Women's Softball
END:VEVENT
BEGIN:VEVENT
DTSTART;TZID=America/New_York:20250302T120000
DTEND;TZID=America/New_York:20250302T130000
DTSTAMP:20260423T052654
CREATED:20250122T172855Z
LAST-MODIFIED:20250122T172855Z
UID:40810118026-1740916800-1740920400@www.monmouth.edu
SUMMARY:Sweat It Out Sunday
DESCRIPTION:Join us for “Sweat It Out Sunday: Yoga Edition\,” a revitalizing session designed to stretch\, strengthen\, and energize your body for the week ahead. Unwind\, recharge\, and find your Zen in a calming yet invigorating yoga flow that’s perfect for all!
URL:https://www.monmouth.edu/events/event/sweat-it-out-sunday/
LOCATION:Boylan Gym South
ATTACH;FMTTYPE=image/jpeg:https://www.monmouth.edu/events/wp-content/uploads/sites/19/2025/01/41nuyq-9eUL._AC_UF8941000_QL80_.jpg
END:VEVENT
BEGIN:VEVENT
DTSTART;TZID=America/New_York:20250302T130000
DTEND;TZID=America/New_York:20250302T140000
DTSTAMP:20260423T052654
CREATED:20250221T220343Z
LAST-MODIFIED:20250221T220343Z
UID:40810118793-1740920400-1740924000@www.monmouth.edu
SUMMARY:Sunday Trivia at Magill Commons Dining Hall
DESCRIPTION:🎉 Think You Know It All? Prove It at Trivia in the Dining Hall! 🧠🔥 \nJoin us for  Sunday Trivia at Magill Commons Dining Hall.  An event filled with fun\, food\, and friendly competition! Gather your friends\, test your knowledge\, and battle it out for prizes. Whether you’re a pop culture pro\, history buff\, or sports fanatic\, there’s a question for everyone! Sunday\, March 2\, 1 pm at Magill Commons Dining  Hall
URL:https://www.monmouth.edu/events/event/sunday-trivia-at-magill-commons-dining-hall/
LOCATION:Magill Commons
ATTACH;FMTTYPE=image/jpeg:https://www.monmouth.edu/events/wp-content/uploads/sites/19/2025/01/shutterstock_686118184-2.jpg
END:VEVENT
BEGIN:VEVENT
DTSTART;TZID=America/New_York:20250302T130000
DTEND;TZID=America/New_York:20250302T150000
DTSTAMP:20260423T052654
CREATED:20250122T164907Z
LAST-MODIFIED:20250302T045608Z
UID:40810114278-1740920400-1740927600@www.monmouth.edu
SUMMARY:Women's Basketball at Stony Brook
DESCRIPTION:Monmouth University Women’s Basketball at Stony Brook\nStreaming Video: https://flosports.link/3IzwagG
URL:https://www.monmouth.edu/events/event/womens-basketball-at-stony-brook/
LOCATION:Stony Brook\, NY
CATEGORIES:Women's Basketball
END:VEVENT
BEGIN:VEVENT
DTSTART;TZID=America/New_York:20250302T130000
DTEND;TZID=America/New_York:20250302T160000
DTSTAMP:20260423T052654
CREATED:20250102T214034Z
LAST-MODIFIED:20250301T222608Z
UID:40810117357-1740920400-1740931200@www.monmouth.edu
SUMMARY:Baseball at George Mason
DESCRIPTION:Monmouth University Baseball at George Mason\nStreaming Video: https://www.espn.com/watch/player?id=e8f96f53-d900-4199-b807-d9fc7f45de0d
URL:https://www.monmouth.edu/events/event/monmouth-university-baseball-at-george-mason-3/
LOCATION:Fairfax\, VA
CATEGORIES:Men's Baseball
END:VEVENT
BEGIN:VEVENT
DTSTART;TZID=America/New_York:20250302T154500
DTEND;TZID=America/New_York:20250302T184500
DTSTAMP:20260423T052654
CREATED:20250102T201030Z
LAST-MODIFIED:20250302T152608Z
UID:40810117284-1740930300-1740941100@www.monmouth.edu
SUMMARY:Men's Tennis at Marist
DESCRIPTION:Monmouth University Men’s Tennis at Marist
URL:https://www.monmouth.edu/events/event/monmouth-university-mens-tennis-at-marist/
LOCATION:Poughkeepsie\, NY
CATEGORIES:Men's Tennis
END:VEVENT
BEGIN:VEVENT
DTSTART;TZID=America/New_York:20250302T180000
DTEND;TZID=America/New_York:20250302T190000
DTSTAMP:20260423T052654
CREATED:20250124T194315Z
LAST-MODIFIED:20250124T194315Z
UID:40810118494-1740938400-1740942000@www.monmouth.edu
SUMMARY:Abs\, Legs and Butt
DESCRIPTION:Sculpt your abs\, legs\, and butt with this moderate-intensity level class focusing on basic body weight movements such as squats and lunges. Work your core with planks\, crunches\, and other exercises for a total lower body/core workout.
URL:https://www.monmouth.edu/events/event/abs-legs-and-butt-2/2025-03-02/
LOCATION:Boylan Gym South
END:VEVENT
BEGIN:VEVENT
DTSTART;TZID=America/New_York:20250303T000000
DTEND;TZID=America/New_York:20250303T235959
DTSTAMP:20260423T052654
CREATED:20240903T140436Z
LAST-MODIFIED:20240904T165306Z
UID:40810113299-1740960000-1741046399@www.monmouth.edu
SUMMARY:Advanced Summer Registration
DESCRIPTION:
URL:https://www.monmouth.edu/events/event/advanced-summer-registration/
CATEGORIES:Academic Calendar
END:VEVENT
BEGIN:VEVENT
DTSTART;TZID=America/New_York:20250303T110000
DTEND;TZID=America/New_York:20250303T140000
DTSTAMP:20260423T052654
CREATED:20250123T141257Z
LAST-MODIFIED:20250123T141257Z
UID:40810118063-1740999600-1741010400@www.monmouth.edu
SUMMARY:Community Care Fair
DESCRIPTION:This event will feature a variety of campus organizations and departments\, each hosting a table promoting self-care\, health\, wellness\, and safety to empower students to utilize campus and community resources.
URL:https://www.monmouth.edu/events/event/community-care-fair/
LOCATION:Anacon Hall A and B
END:VEVENT
BEGIN:VEVENT
DTSTART;TZID=America/New_York:20250303T120000
DTEND;TZID=America/New_York:20250303T130000
DTSTAMP:20260423T052654
CREATED:20250119T134300Z
LAST-MODIFIED:20250119T134300Z
UID:40810117924-1741003200-1741006800@www.monmouth.edu
SUMMARY:LeaderHawk - Leadership Vision Boards for Student Leaders
DESCRIPTION:Facilitator: Lauren Pfisterer\, Area Coordinator\, Office of Residential Life\nMonday\, March 3\, 12pm-1pm | Student Center – Room 202-A\, SC \nDescription: Discover the power of visualization and strategic planning as you craft your vision for success. Through guided exercises and hands-on activities\, you’ll clarify your goals\, articulate your values\, and map out actionable steps to lead your organization to new heights!
URL:https://www.monmouth.edu/events/event/leaderhawk-leadership-vision-boards-for-student-leaders/
LOCATION:Student Center – Conference Room 202A
ATTACH;FMTTYPE=image/png:https://www.monmouth.edu/events/wp-content/uploads/sites/19/2025/01/LeaderHawk-Sessions.png
END:VEVENT
BEGIN:VEVENT
DTSTART;TZID=America/New_York:20250303T123000
DTEND;TZID=America/New_York:20250303T140000
DTSTAMP:20260423T052654
CREATED:20250123T141200Z
LAST-MODIFIED:20250123T141200Z
UID:40810118041-1741005000-1741010400@www.monmouth.edu
SUMMARY:Therapy Dogs
DESCRIPTION:Come hang out with our furry friends and brighten your day!
URL:https://www.monmouth.edu/events/event/therapy-dogs/2025-03-03/
LOCATION:Student Center – 1st Floor
END:VEVENT
BEGIN:VEVENT
DTSTART;TZID=America/New_York:20250304T000000
DTEND;TZID=America/New_York:20250305T235959
DTSTAMP:20260423T052654
CREATED:20241206T205513Z
LAST-MODIFIED:20250305T211108Z
UID:40810115965-1741046400-1741219199@www.monmouth.edu
SUMMARY:Men's Golf vs SHU Spring Break Invite
DESCRIPTION:Monmouth University Men’s Golf vs SHU Spring Break Invite
URL:https://www.monmouth.edu/events/event/monmouth-university-mens-golf-at-sacred-heart-spring-break-invite/
LOCATION:Orange Park\, FL
CATEGORIES:Men's Golf
END:VEVENT
BEGIN:VEVENT
DTSTART;TZID=America/New_York:20250304T120000
DTEND;TZID=America/New_York:20250304T160000
DTSTAMP:20260423T052654
CREATED:20250122T173255Z
LAST-MODIFIED:20250122T173255Z
UID:40810118029-1741089600-1741104000@www.monmouth.edu
SUMMARY:OSE Mardi Gras Pop-Up Event
DESCRIPTION:Celebrate Mardi Gras with the Office of Student Engagement at our festive pop-up event! Enjoy music\, treats\, and fun activities as we bring the spirit of New Orleans right to campus!  Noon-4 pm outside the Office of Student Engagement on the 2nd floor of the Student Center.
URL:https://www.monmouth.edu/events/event/ose-mardi-gras-pop-up-event/
LOCATION:2nd floor of the Student Center
ATTACH;FMTTYPE=image/jpeg:https://www.monmouth.edu/events/wp-content/uploads/sites/19/2025/01/download-1.jpg
END:VEVENT
BEGIN:VEVENT
DTSTART;TZID=America/New_York:20250304T120000
DTEND;TZID=America/New_York:20250304T160000
DTSTAMP:20260423T052654
CREATED:20250224T214918Z
LAST-MODIFIED:20250225T171641Z
UID:40810118797-1741089600-1741104000@www.monmouth.edu
SUMMARY:Mardis Gras in the Dining Hall
DESCRIPTION:Mardi Gras Celebration at Magill Commons! 🎭🎷🎉 \nLaissez les bons temps rouler! Get ready to experience the excitement of Mardi Gras right here at Monmouth University!  Join us in Magill Commons Dining Hall for a day of festive fun\, featuring a live jazz band\, your favorite Mardi Gras dishes and decor that will bring the spirit of New Orleans straight to campus!   Tuesday\, March 4 at noon\, Magill Commons Dining Hall \n\n$10 special rate for faculty and staff.\nNo meal plan?  $8.00 door rate for students.
URL:https://www.monmouth.edu/events/event/mardis-gras-in-the-dining-hall/
LOCATION:Magill Commons Dining Hall
ATTACH;FMTTYPE=image/jpeg:https://www.monmouth.edu/events/wp-content/uploads/sites/19/2025/02/download-3.jpg
END:VEVENT
BEGIN:VEVENT
DTSTART;TZID=America/New_York:20250304T150000
DTEND;TZID=America/New_York:20250304T160000
DTSTAMP:20260423T052654
CREATED:20250123T141250Z
LAST-MODIFIED:20250123T141250Z
UID:40810118057-1741100400-1741104000@www.monmouth.edu
SUMMARY:Grief IRL
DESCRIPTION:From Heartache to Healing: Find Meaning in Loss
URL:https://www.monmouth.edu/events/event/grief-irl-4/
LOCATION:Student Center – Conference Room 202A
END:VEVENT
BEGIN:VEVENT
DTSTART;TZID=America/New_York:20250304T153000
DTEND;TZID=America/New_York:20250304T183000
DTSTAMP:20260423T052654
CREATED:20250102T214047Z
LAST-MODIFIED:20250304T225608Z
UID:40810117358-1741102200-1741113000@www.monmouth.edu
SUMMARY:Baseball at NJIT
DESCRIPTION:Monmouth University Baseball at NJIT\nStreaming Video: https://americaeast.com/watch/default.aspx?Live=16779&path=conf
URL:https://www.monmouth.edu/events/event/monmouth-university-baseball-at-njit/
LOCATION:Montclair\, NJ
CATEGORIES:Men's Baseball
END:VEVENT
BEGIN:VEVENT
DTSTART;TZID=America/New_York:20250304T183000
DTEND;TZID=America/New_York:20250304T193000
DTSTAMP:20260423T052654
CREATED:20250124T194555Z
LAST-MODIFIED:20250124T194555Z
UID:40810118135-1741113000-1741116600@www.monmouth.edu
SUMMARY:Zumba
DESCRIPTION:This class takes the “work” out of workout\, by mixing low-intensity and high-intensity moves for an interval-style\, calorie-burning dance fitness party.
URL:https://www.monmouth.edu/events/event/zumba/2025-03-04/
LOCATION:Boylan Gym South
ATTACH;FMTTYPE=image/jpeg:https://www.monmouth.edu/events/wp-content/uploads/sites/19/2025/01/M-Recreation-1.jpg
END:VEVENT
BEGIN:VEVENT
DTSTART;TZID=America/New_York:20250304T193000
DTEND;TZID=America/New_York:20250304T210000
DTSTAMP:20260423T052654
CREATED:20240605T150207Z
LAST-MODIFIED:20240926T170054Z
UID:40810112489-1741116600-1741122000@www.monmouth.edu
SUMMARY:Dusty Springfield\, Dusty in Memphis
DESCRIPTION:It’s just like book club but with albums! With new advances in technology\, the way we consume music through our devices\, apps and on demand streaming services like Pandora\, Spotify and iTunes is making the idea of the “album” as an art form extinct. Get together with other music enthusiasts on Tuesday nights to discuss some of the greatest records of all-time! Listen to the album beforehand and then come prepared to discuss. This event will feature Dusty Springfield\, Dusty in Memphis. \nThis event is offered BOTH in person and via Zoom. Join us in person at the Great Hall Auditorium on the Campus of Monmouth University or join us via zoom. When you register you will be provided the ZOOM meeting link to join the conversation. \nFree and open to the public\, but registration is required.
URL:https://www.monmouth.edu/events/event/dusty-springfield-dusty-in-memphis/
LOCATION:The Great Hall Auditorium/Virtual\, 400 Cedar Ave\, West Long Branch\, NJ\, 07720\, United States
CATEGORIES:Alumni,Alumni Affairs,Alumni Events,Arts at Monmouth,Free,Lectures,Lectures/Workshops/Symposiums
ATTACH;FMTTYPE=image/jpeg:https://www.monmouth.edu/events/wp-content/uploads/sites/19/2024/06/dusty_header.jpg
END:VEVENT
BEGIN:VEVENT
DTSTART;TZID=America/New_York:20250305T120000
DTEND;TZID=America/New_York:20250305T140000
DTSTAMP:20260423T052654
CREATED:20250225T143020Z
LAST-MODIFIED:20250225T143020Z
UID:40810118795-1741176000-1741183200@www.monmouth.edu
SUMMARY:Mid-Day Game Break
DESCRIPTION:Come join the Neurodiversity Brain Collective as we host a destress game break from 12-2p on March 5th @ the ICC lounge!
URL:https://www.monmouth.edu/events/event/mid-day-game-break/
LOCATION:Intercultural Center Lounge (Magill Commons 102)
CATEGORIES:Diversity and Inclusion,Free,Intercultural Center Events,Social Events,Student Activities
ATTACH;FMTTYPE=image/png:https://www.monmouth.edu/events/wp-content/uploads/sites/19/2025/02/Game-Break-NBC.png
END:VEVENT
BEGIN:VEVENT
DTSTART;TZID=America/New_York:20250305T120000
DTEND;TZID=America/New_York:20250305T150000
DTSTAMP:20260423T052654
CREATED:20241227T185514Z
LAST-MODIFIED:20250305T164108Z
UID:40810117233-1741176000-1741186800@www.monmouth.edu
SUMMARY:Women's Lacrosse vs Rider
DESCRIPTION:Monmouth University Women’s Lacrosse vs Rider
URL:https://www.monmouth.edu/events/event/monmouth-university-womens-lacrosse-vs-rider/
LOCATION:Hesse Field on The Great Lawn
CATEGORIES:Women's Lacrosse
END:VEVENT
BEGIN:VEVENT
DTSTART;TZID=America/New_York:20250305T130000
DTEND;TZID=America/New_York:20250305T160000
DTSTAMP:20260423T052654
CREATED:20250211T211321Z
LAST-MODIFIED:20250211T211321Z
UID:40810118649-1741179600-1741190400@www.monmouth.edu
SUMMARY:Veteran Service Officer visits Campus
DESCRIPTION:Veteran Service Officer (VSO)\, Peter Midgley\, from Monmouth County\, will be on campus the first Wednesday of every month from 1pm-4pm in the Student Veteran Lounge located on the lower level of the Student Center. \nUpcoming Dates: March 5th & April 2nd \nVSO can assists Active Duty\, Guard\, Reserve\, Separated & Retired Veterans in filing benefits including\, any disability claim appeals\, education\, & health insurance. \nOpen to any student or employee Veteran! \n*No appointments necessary
URL:https://www.monmouth.edu/events/event/veteran-service-officer-visits-campus/2025-03-05/
LOCATION:Student Center\, Student Veterans Lounge\, Lower Level
CATEGORIES:Veterans Services
ATTACH;FMTTYPE=image/png:https://www.monmouth.edu/events/wp-content/uploads/sites/19/2025/02/TV-Ads.png
ORGANIZER;CN="Office of Student Support &amp%3B Veteran Services":MAILTO:xramirez@monmouth.edu
END:VEVENT
BEGIN:VEVENT
DTSTART;TZID=America/New_York:20250305T143000
DTEND;TZID=America/New_York:20250305T173000
DTSTAMP:20260423T052654
CREATED:20241223T162514Z
LAST-MODIFIED:20250305T222609Z
UID:40810117185-1741185000-1741195800@www.monmouth.edu
SUMMARY:Men's Lacrosse vs NJIT
DESCRIPTION:Monmouth University Men’s Lacrosse vs NJIT\nW 18-4\nStreaming Video: https://go.flosports.tv/partner/caa?utm_campaign=caa&utm_medium=partner&utm_source=teams&utm_content=teams&rtid=monmouth&coverage_id=\nTickets: https://mpv.tickets.com/schedule/?agency=MNMV_PLAGENCY_MPV&orgid=44869#/?event=lacrosse&view=list&includePackages=true
URL:https://www.monmouth.edu/events/event/monmouth-university-mens-lacrosse-vs-njit/
LOCATION:Kessler Stadium\, 107 Larchwood Ave\, West Long Branch\, NJ\, United States
CATEGORIES:Men's Lacrosse
GEO:40.279417;-74.010815
X-APPLE-STRUCTURED-LOCATION;VALUE=URI;X-ADDRESS=Kessler Stadium 107 Larchwood Ave West Long Branch NJ United States;X-APPLE-RADIUS=500;X-TITLE=107 Larchwood Ave:geo:-74.010815,40.279417
END:VEVENT
BEGIN:VEVENT
DTSTART;TZID=America/New_York:20250305T170000
DTEND;TZID=America/New_York:20250305T180000
DTSTAMP:20260423T052654
CREATED:20250219T150216Z
LAST-MODIFIED:20250219T150216Z
UID:40810118723-1741194000-1741197600@www.monmouth.edu
SUMMARY:Elevate and Energize
DESCRIPTION:Elevate and energize is an event hosted by Monmouth University Occupational Therapy capstone students that offers different mindfulness practices to help with stress reduction and relaxation for students such as yoga\, self care tool kits\, etc.
URL:https://www.monmouth.edu/events/event/elevate-and-energize/2025-03-05/
LOCATION:Intercultural Center Lounge
END:VEVENT
BEGIN:VEVENT
DTSTART;TZID=America/New_York:20250305T213000
DTEND;TZID=America/New_York:20250305T230000
DTSTAMP:20260423T052654
CREATED:20250122T191914Z
LAST-MODIFIED:20250122T192017Z
UID:40810118032-1741210200-1741215600@www.monmouth.edu
SUMMARY:Alpha Omicron Pi - Bachelorette Event
DESCRIPTION:Join Alpha Omicron Pi for a fun-filled Bachelorette Night\, where drama\, roses\, and laughter are guaranteed! Watch with friends\, and share your favorite predictions and hot takes!  Pollak Theatre\, 9:30 p.m.
URL:https://www.monmouth.edu/events/event/alpha-omicron-pi-bachelorette-event/
LOCATION:Pollak Theatre
ATTACH;FMTTYPE=image/png:https://www.monmouth.edu/events/wp-content/uploads/sites/19/2025/01/download-1.png
END:VEVENT
BEGIN:VEVENT
DTSTART;TZID=America/New_York:20250306T000000
DTEND;TZID=America/New_York:20250308T235959
DTSTAMP:20260423T052654
CREATED:20240927T234057Z
LAST-MODIFIED:20250308T164108Z
UID:40810114400-1741219200-1741478399@www.monmouth.edu
SUMMARY:Bowling vs Multiple Teams
DESCRIPTION:Monmouth University Bowling vs Multiple Teams
URL:https://www.monmouth.edu/events/event/monmouth-university-bowling-vs-multiple-teams-5/
LOCATION:TBD
CATEGORIES:Women's Bowling
END:VEVENT
BEGIN:VEVENT
DTSTART;TZID=America/New_York:20250306T120000
DTEND;TZID=America/New_York:20250306T140000
DTSTAMP:20260423T052654
CREATED:20250109T170727Z
LAST-MODIFIED:20250302T163344Z
UID:40810117764-1741262400-1741269600@www.monmouth.edu
SUMMARY:Oreo Day
DESCRIPTION:Satisfy your sweet cravings with our Oreo goodies!
URL:https://www.monmouth.edu/events/event/fried-oreos-hot-chocolate/
LOCATION:Student Center Patio
ATTACH;FMTTYPE=image/jpeg:https://www.monmouth.edu/events/wp-content/uploads/sites/19/2025/01/fried-oreos-recipe-card.jpg
END:VEVENT
END:VCALENDAR