BEGIN:VCALENDAR
VERSION:2.0
PRODID:-//Events - ECPv6.15.20//NONSGML v1.0//EN
CALSCALE:GREGORIAN
METHOD:PUBLISH
X-WR-CALNAME:Events
X-ORIGINAL-URL:https://www.monmouth.edu/events
X-WR-CALDESC:Events for Events
REFRESH-INTERVAL;VALUE=DURATION:PT1H
X-Robots-Tag:noindex
X-PUBLISHED-TTL:PT1H
BEGIN:VTIMEZONE
TZID:America/New_York
BEGIN:DAYLIGHT
TZOFFSETFROM:-0500
TZOFFSETTO:-0400
TZNAME:EDT
DTSTART:20170312T070000
END:DAYLIGHT
BEGIN:STANDARD
TZOFFSETFROM:-0400
TZOFFSETTO:-0500
TZNAME:EST
DTSTART:20171105T060000
END:STANDARD
BEGIN:DAYLIGHT
TZOFFSETFROM:-0500
TZOFFSETTO:-0400
TZNAME:EDT
DTSTART:20180311T070000
END:DAYLIGHT
BEGIN:STANDARD
TZOFFSETFROM:-0400
TZOFFSETTO:-0500
TZNAME:EST
DTSTART:20181104T060000
END:STANDARD
BEGIN:DAYLIGHT
TZOFFSETFROM:-0500
TZOFFSETTO:-0400
TZNAME:EDT
DTSTART:20190310T070000
END:DAYLIGHT
BEGIN:STANDARD
TZOFFSETFROM:-0400
TZOFFSETTO:-0500
TZNAME:EST
DTSTART:20191103T060000
END:STANDARD
END:VTIMEZONE
BEGIN:VEVENT
DTSTART;TZID=America/New_York:20181025T193000
DTEND;TZID=America/New_York:20181025T213000
DTSTAMP:20260422T075511
CREATED:20180725T203041Z
LAST-MODIFIED:20180808T153043Z
UID:40810100786-1540495800-1540503000@www.monmouth.edu
SUMMARY:King Lear
DESCRIPTION:By William Shakespeare \n★★★★★ ‘Ian McKellen reigns supreme in this triumphant production.’ (Daily Telegraph) \nBroadcast live from London’s West End\, see Ian McKellen’s ‘extraordinarily moving portrayal’ (Independent) of King Lear in cinemas. \nChichester Festival Theatre’s production received five-star reviews for its sell-out run\, and transfers to the West End for a limited season.  Jonathan Munby directs this ‘nuanced and powerful’ (The Times) contemporary retelling of Shakespeare’s tender\, violent\, moving and shocking play. \nConsidered by many to be the greatest tragedy ever written\, King Lear sees two ageing fathers – one a King\, one his courtier – reject the children who truly love them.  Their blindness unleashes a tornado of pitiless ambition and treachery\, as family and state are plunged into a violent power struggle with bitter ends. \nShow image photograph (Ian McKellen) by Andy Gotts
URL:https://www.monmouth.edu/events/event/kinglear/
LOCATION:Pollak Theatre
CATEGORIES:Arts at Monmouth,Broadcast in HD,Theatre
ATTACH;FMTTYPE=image/jpeg:https://www.monmouth.edu/events/wp-content/uploads/sites/19/2018/07/king20lear201400x60020px_1.jpg
END:VEVENT
BEGIN:VEVENT
DTSTART;TZID=America/New_York:20181026T200000
DTEND;TZID=America/New_York:20181026T230000
DTSTAMP:20260422T075511
CREATED:20180725T202913Z
LAST-MODIFIED:20181018T195943Z
UID:40810100685-1540584000-1540594800@www.monmouth.edu
SUMMARY:The Hunts
DESCRIPTION:Known for their harmony-laced take on alt-folk\, The Hunts are a Chesapeake\, Virginia-based band of seven siblings who’ve been playing music together almost their entire lives. Twin sisters Jessi and Jenni and five brothers Josh\, Jonathan\, Jordan\, Justin\, and Jamison\, now ranging in age from 26 down to 17\, learned to sing and play violin as young kids and spent much of their childhood performing in their community. After widening their following and playing at theaters\, festivals and universities around the country—and teaching themselves to play instruments like mandolin\, piano\, ukulele\, banjo\, and drums — The Hunts started experimenting with songwriting and soon brought to life a batch of songs that reveal their sophisticated sense of melody and undeniably dreamy innocence. \nInspired by shared memories\, The Hunts have created songs that capture heartache and wonder with a wide-eyed but wistful elegance. The Hunts hold true to a songwriting process that taps into each member’s unique strengths but remains intensely collaborative. That unified approach infuses their music with an irresistible richness of spirit. Their songs are artfully arranged yet instilled with a graceful simplicity. While getting seven strong-minded brothers and sisters to agree on every last note and lyric can sometimes be chaotic\, The Hunts note that the synergy born from that chaos is what makes the band so strong.
URL:https://www.monmouth.edu/events/event/thehunts/
LOCATION:Pollak Theatre
CATEGORIES:Arts at Monmouth,Concerts,Featured,Music
ATTACH;FMTTYPE=image/jpeg:https://www.monmouth.edu/events/wp-content/uploads/sites/19/2018/07/TheHunts1400x600px.jpg
END:VEVENT
BEGIN:VEVENT
DTSTART;TZID=America/New_York:20181027T130000
DTEND;TZID=America/New_York:20181027T163000
DTSTAMP:20260422T075511
CREATED:20180725T203119Z
LAST-MODIFIED:20180808T153644Z
UID:40810100834-1540645200-1540657800@www.monmouth.edu
SUMMARY:La Fanciulla del West (Giacomo Puccini)
DESCRIPTION:Soprano Eva-Maria Westbroek sings Puccini’s gun-slinging heroine in this romantic epic of the Wild West\, alongside star tenor Jonas Kaufmann in the role of the outlaw Dick Johnson. Baritone Željko Lučić is the vigilante sheriff Jack Rance\, and Marco Armiliato conducts. \nRun Time: 3:42
URL:https://www.monmouth.edu/events/event/lafanciulladelwest/
LOCATION:Pollak Theatre
CATEGORIES:Arts at Monmouth,Broadcast in HD
ATTACH;FMTTYPE=image/jpeg:https://www.monmouth.edu/events/wp-content/uploads/sites/19/2018/07/fanciulla201400x60020px_1.jpg
END:VEVENT
BEGIN:VEVENT
DTSTART;TZID=America/New_York:20181027T150000
DTEND;TZID=America/New_York:20181027T170000
DTSTAMP:20260422T075511
CREATED:20181024T170530Z
LAST-MODIFIED:20181024T170530Z
UID:40810104416-1540652400-1540659600@www.monmouth.edu
SUMMARY:Conservation Panel and Book Signing with John Morano
DESCRIPTION:Monmouth University Professor and Eco-Adventure Series author John Morano will host a book signing and Conservation Panel with Clean Ocean Action and the Urban Coast Institute (UCI) on Oct. 27 at the Eatontown Barnes & Noble\, located in Monmouth Mall. \nThe event will kick off with a signing at 3 p.m.\, followed by the panel from 3:30 to 4:30 p.m. and a second signing session at the discussion’s conclusion. A portion of sales revenues on the day will be donated to the UCI to support student-faculty research activities at Monmouth University. \nMorano will moderate an expert discussion with Clean Ocean Action Executive Director Cindy Zipf and UCI Director Tony MacDonald on topics such as threats facing Jersey Shore area marine environments and wildlife. An audience question and answer segment will follow. \nMorano’s Eco-Adventure Series work raises awareness of endangered species both in this region and throughout the world. The books present imperiled habitats as settings\, underpinning the relationship between wildlife and their environment. The stories stress that thinking globally and acting locally are imperative\, both to the sustainability of our environment and the betterment of our everyday eco-intertwined lives. \nA professor of journalism at Monmouth\, Morano has authored four novels in his Eco-Adventure Series. A writer very concerned with endangered species and habitat depletion\, Morano employs the journalistic ethic of giving a voice to the voiceless as he pens stories of imperiled creatures and habitats that can’t speak for themselves.
URL:https://www.monmouth.edu/events/event/conservation-panel-and-book-signing-with-john-morano/
LOCATION:Barnes & Noble\, Eatontown\, 180 Route 35\, Eatontown\, NJ\, 07724\, United States
CATEGORIES:Alumni,Community Member,Faculty,Graduate Student,Media,Prospective Undergraduate Student,Undergraduate Student,Urban Coast Institute
ATTACH;FMTTYPE=image/jpeg:https://www.monmouth.edu/events/wp-content/uploads/sites/19/2018/10/squareeagle.jpg
END:VEVENT
END:VCALENDAR