BEGIN:VCALENDAR
VERSION:2.0
PRODID:-//Events - ECPv6.15.20//NONSGML v1.0//EN
CALSCALE:GREGORIAN
METHOD:PUBLISH
X-WR-CALNAME:Events
X-ORIGINAL-URL:https://www.monmouth.edu/events
X-WR-CALDESC:Events for Events
REFRESH-INTERVAL;VALUE=DURATION:PT1H
X-Robots-Tag:noindex
X-PUBLISHED-TTL:PT1H
BEGIN:VTIMEZONE
TZID:America/New_York
BEGIN:DAYLIGHT
TZOFFSETFROM:-0500
TZOFFSETTO:-0400
TZNAME:EDT
DTSTART:20170312T070000
END:DAYLIGHT
BEGIN:STANDARD
TZOFFSETFROM:-0400
TZOFFSETTO:-0500
TZNAME:EST
DTSTART:20171105T060000
END:STANDARD
BEGIN:DAYLIGHT
TZOFFSETFROM:-0500
TZOFFSETTO:-0400
TZNAME:EDT
DTSTART:20180311T070000
END:DAYLIGHT
BEGIN:STANDARD
TZOFFSETFROM:-0400
TZOFFSETTO:-0500
TZNAME:EST
DTSTART:20181104T060000
END:STANDARD
BEGIN:DAYLIGHT
TZOFFSETFROM:-0500
TZOFFSETTO:-0400
TZNAME:EDT
DTSTART:20190310T070000
END:DAYLIGHT
BEGIN:STANDARD
TZOFFSETFROM:-0400
TZOFFSETTO:-0500
TZNAME:EST
DTSTART:20191103T060000
END:STANDARD
END:VTIMEZONE
BEGIN:VEVENT
DTSTART;TZID=America/New_York:20180608T090000
DTEND;TZID=America/New_York:20180831T230000
DTSTAMP:20260423T014511
CREATED:20180725T203336Z
LAST-MODIFIED:20190301T154320Z
UID:40810101017-1528448400-1535756400@www.monmouth.edu
SUMMARY:Art + Autism
DESCRIPTION:This juried exhibition will showcase the talents and abilities of artists living with Autism Spectrum Disorder and continue the conversation about the unique power of art in the autism community. Select pieces of work will be for sale and a portion of the proceeds will benefit the Autism Program Improvement Project at Monmouth University’s School of Education. \nFollowing the artist reception on August 8 at 7 PM\, there will be a screening of the National Theatre of London’s critically acclaimed production of The Curious Incident of the Dog in the Night-Time in the Pollak Theatre. The play\, which won 7 Olivier and 5 Tony Awards®\, concerns a mystery surrounding the death of a neighbor’s dog that is investigated by young Christopher Boone\, who has autism spectrum disorder\, and his relationships with his parents and school mentor.
URL:https://www.monmouth.edu/events/event/art_autism18/
LOCATION:Pollak Gallery
CATEGORIES:Art Exhibitions,Arts at Monmouth,Autism Awareness Month,Free
ATTACH;FMTTYPE=image/jpeg:https://www.monmouth.edu/events/wp-content/uploads/sites/19/2018/07/ArtAutism_hero1.jpg
END:VEVENT
BEGIN:VEVENT
DTSTART;VALUE=DATE:20180624
DTEND;VALUE=DATE:20180714
DTSTAMP:20260423T014511
CREATED:20180725T202951Z
LAST-MODIFIED:20190301T153859Z
UID:40810100708-1529798400-1531526399@www.monmouth.edu
SUMMARY:Nick Aristovulos 1945 - 2014
DESCRIPTION:Monmouth University celebrates the artwork of Nick Aristovulos. MU Adjunct Professor of Sculpture\, 1999 – 2014.Nick was a very talented illustrator\, sculptor who’s work appeared in many major publications. His works were also featured on several record albums. A beloved and inspiring teacher Nick enjoyed challenging students with his vast knowledge of sculptural techniques.
URL:https://www.monmouth.edu/events/event/nickaristovulos/
LOCATION:DiMattio Gallery at Rechnitz Hall
CATEGORIES:Arts at Monmouth,Free
ATTACH;FMTTYPE=image/jpeg:https://www.monmouth.edu/events/wp-content/uploads/sites/19/2018/07/NickA1400x600px_3.jpg
END:VEVENT
BEGIN:VEVENT
DTSTART;TZID=America/New_York:20180624T150000
DTEND;TZID=America/New_York:20180624T174500
DTSTAMP:20260423T014511
CREATED:20180725T203611Z
LAST-MODIFIED:20180725T203611Z
UID:40810101182-1529852400-1529862300@www.monmouth.edu
SUMMARY:Coppélia
DESCRIPTION:Music Leo Delibes \nChoreography Sergei Vikharev after Marius Petipa and Enrico Cecchetti \nCast The Bolshoi Principals\, Soloists and Corps de Ballet \nSwanhilda notices her fiancé Franz is infatuated with the beautiful Coppélia who sits reading on her balcony each day. Nearly breaking up the two sweethearts\, Coppélia is not what she seems and Swanhilda decides  to teach Franz a lesson… \nThe Bolshoi’s unique version of Coppélia exhibits a fascinating reconstruction of the original 19th century choreography of this ebullient comedy involving a feisty heroine\, a boyish fiancée with a wandering eye\, and an old dollmaker. The company’s stunning corps de ballet shines in the divertissements and famous “dance of the hours\,” and its principals abound in youthful energy and irresistible humor in this effervescent production. \nTotal runtime: 2 hours\, 45 minutes
URL:https://www.monmouth.edu/events/event/coppelia18/
LOCATION:Pollak Theatre
CATEGORIES:Broadcast in HD,Dance
ATTACH;FMTTYPE=image/jpeg:https://www.monmouth.edu/events/wp-content/uploads/sites/19/2018/07/coppelia_hero.jpg
END:VEVENT
BEGIN:VEVENT
DTSTART;TZID=America/New_York:20180627T190000
DTEND;TZID=America/New_York:20180627T210000
DTSTAMP:20260423T014511
CREATED:20180725T203236Z
LAST-MODIFIED:20180725T203236Z
UID:40810100942-1530126000-1530133200@www.monmouth.edu
SUMMARY:Macbeth
DESCRIPTION:Shakespeare’s most intense and terrifying tragedy\, directed by Rufus Norris (The Threepenny Opera\, London Road)\, will see Rory Kinnear (Young Marx\, Othello) and Anne-Marie Duff (Oil\, Suffragette) return to the National Theatre to play Macbeth and Lady Macbeth. \nThe ruined aftermath of a bloody civil war. Ruthlessly fighting to survive\, the Macbeths are propelled towards the crown by forces of elemental darkness.
URL:https://www.monmouth.edu/events/event/macbeth/
LOCATION:Pollak Theatre
CATEGORIES:Arts at Monmouth,Broadcast in HD,Theatre
ATTACH;FMTTYPE=image/png:https://www.monmouth.edu/events/wp-content/uploads/sites/19/2018/07/Macbeth_hero1.png
END:VEVENT
END:VCALENDAR