BEGIN:VCALENDAR
VERSION:2.0
PRODID:-//Events - ECPv6.15.20//NONSGML v1.0//EN
CALSCALE:GREGORIAN
METHOD:PUBLISH
X-WR-CALNAME:Events
X-ORIGINAL-URL:https://www.monmouth.edu/events
X-WR-CALDESC:Events for Events
REFRESH-INTERVAL;VALUE=DURATION:PT1H
X-Robots-Tag:noindex
X-PUBLISHED-TTL:PT1H
BEGIN:VTIMEZONE
TZID:America/New_York
BEGIN:DAYLIGHT
TZOFFSETFROM:-0500
TZOFFSETTO:-0400
TZNAME:EDT
DTSTART:20170312T070000
END:DAYLIGHT
BEGIN:STANDARD
TZOFFSETFROM:-0400
TZOFFSETTO:-0500
TZNAME:EST
DTSTART:20171105T060000
END:STANDARD
BEGIN:DAYLIGHT
TZOFFSETFROM:-0500
TZOFFSETTO:-0400
TZNAME:EDT
DTSTART:20180311T070000
END:DAYLIGHT
BEGIN:STANDARD
TZOFFSETFROM:-0400
TZOFFSETTO:-0500
TZNAME:EST
DTSTART:20181104T060000
END:STANDARD
BEGIN:DAYLIGHT
TZOFFSETFROM:-0500
TZOFFSETTO:-0400
TZNAME:EDT
DTSTART:20190310T070000
END:DAYLIGHT
BEGIN:STANDARD
TZOFFSETFROM:-0400
TZOFFSETTO:-0500
TZNAME:EST
DTSTART:20191103T060000
END:STANDARD
END:VTIMEZONE
BEGIN:VEVENT
DTSTART;TZID=America/New_York:20180401T100000
DTEND;TZID=America/New_York:20180531T190000
DTSTAMP:20260423T165644
CREATED:20180725T203339Z
LAST-MODIFIED:20190301T154430Z
UID:40810101020-1522576800-1527793200@www.monmouth.edu
SUMMARY:Artivism
DESCRIPTION:As a universal language\, the arts have always been an effective tool for addressing social issues. Artivism or “activist art” is a form of social protest that explores cultural and political concerns. However\, it is much more than just an innovative tactic\, Artivism involves an entire practice that attempts to inspire positive change in society. This juried exhibition features works of art that employ spectacle\, symbolism and collective participation to fight for issues of social justice including racial discrimination\, gender equality\, fair labor practices\, human rights and more. \nParticipating Artists Include: \nEllis Angel\nMarilyn M. Baldi\nJanet Boltax\nMerry Brennan\nRoberta C. Scott\nBeverly Crilly\nPatricia Dahlman\nMichael Dal Cerro\nIsabella DeAnglis\nDawn DiCicco\nMark Dornan\nAnne Dushanko Dobek\nShekira Farrell\nNette Forne Thomas\nSophie French\nJessenia Gaviria\nGhazel Ghazi\nEmily Gilman Beezley\nIndira Govindan\nSandra Gustafson\nStephen Harrison\nJesse Hill\nAnnie Hogan\nPatricia Hutchinson\nJulia Justo\nEdward Kelley\nLouise Krasniewicz\nRashna Madon\nStephen Marc\nAlexandra Martin\nBonnie McKee Totora\nIrmari Nacht\nChris Revelle\nAndrew Ricci\nPatrice Robinson\nStuart Robinson\nCharles Andrew Seaton\nRosary Solimanto\nWilliam Stoehr\nColleen Sweeney Gahrmann\nSandy Taylor\nJohn Taylor-Lehman\nBrad Terhune\nHannah Ueno\nJoseph Villa\nMaryann Vitiello\nTerrill Warrenburg\nJudy Wukitsch\nBelgin Yucelen
URL:https://www.monmouth.edu/events/event/artivism18/
LOCATION:Pollak Gallery
CATEGORIES:Art Exhibitions,Arts at Monmouth,Free
ATTACH;FMTTYPE=image/jpeg:https://www.monmouth.edu/events/wp-content/uploads/sites/19/2018/07/heroartivism.jpg
END:VEVENT
BEGIN:VEVENT
DTSTART;TZID=America/New_York:20180402T083000
DTEND;TZID=America/New_York:20180402T133000
DTSTAMP:20260423T165644
CREATED:20180725T203225Z
LAST-MODIFIED:20180725T203225Z
UID:40810100924-1522657800-1522675800@www.monmouth.edu
SUMMARY:Saving Our Own: Approaches to Suicide Prevention and PTSD for Law Enforcement Executives
DESCRIPTION:
URL:https://www.monmouth.edu/events/event/saving-our-own-approaches-to-suicide-prevention-and-ptsd-for-law-enforcement-executives/
LOCATION:Anacon Hall\, 2nd Floor\, Student Center
CATEGORIES:Alumni Affairs,Community Member,Faculty,Media,School of Social Work,Social Work
ATTACH;FMTTYPE=image/png:https://www.monmouth.edu/events/wp-content/uploads/sites/19/2018/07/MUSocialWork.png
END:VEVENT
BEGIN:VEVENT
DTSTART;TZID=America/New_York:20180403T110000
DTEND;TZID=America/New_York:20180403T180000
DTSTAMP:20260423T165644
CREATED:20180725T203841Z
LAST-MODIFIED:20180725T203841Z
UID:40810101524-1522753200-1522778400@www.monmouth.edu
SUMMARY:Blood Drive
DESCRIPTION:
URL:https://www.monmouth.edu/events/event/blood-drive-2/
LOCATION:Anacon Hall\, 2nd Floor\, Student Center
CATEGORIES:Current Student,Faculty
ATTACH;FMTTYPE=image/png:https://www.monmouth.edu/events/wp-content/uploads/sites/19/2018/07/MUBloodDrives2016-2017.png
END:VEVENT
BEGIN:VEVENT
DTSTART;TZID=America/New_York:20180403T163000
DTEND;TZID=America/New_York:20180403T190000
DTSTAMP:20260423T165644
CREATED:20180725T203507Z
LAST-MODIFIED:20190301T182823Z
UID:40810101104-1522773000-1522782000@www.monmouth.edu
SUMMARY:Artist Talk with Chris Clavio
DESCRIPTION:Chris Clavio is an Electronic Artist and Entrepreneur living and working in Santa Fe\, NM. His work explores the sublime and perception using light\, sound\, and interactive environments. Currently he is the Director of IT and Electrical Infrastructure Systems for the artist collective Meow Wolf. \nClavio has shown work across the United States\, most recently in Pittsburgh\, PA\, with Energy Flow\, a project in collaboration with Andrea Polli that highlights the Rachel Carson bridge with wind-turbine powered LEDs. His current projects integrate several software platforms and various hardware configurations to create immersive and interactive environments that stimulate the senses in order to evoke the imagination and push the limits of our perceived reality. \nMore info: www.clavionline.com
URL:https://www.monmouth.edu/events/event/artisttalkclavio18/
LOCATION:The Great Hall Auditorium
CATEGORIES:Arts at Monmouth,Free,Lectures,Lectures/Workshops/Symposiums
ATTACH;FMTTYPE=image/jpeg:https://www.monmouth.edu/events/wp-content/uploads/sites/19/2018/07/clavio_hero1.jpg
END:VEVENT
BEGIN:VEVENT
DTSTART;TZID=America/New_York:20180403T180000
DTEND;TZID=America/New_York:20180403T193000
DTSTAMP:20260423T165644
CREATED:20180725T203222Z
LAST-MODIFIED:20190301T182753Z
UID:40810100918-1522778400-1522783800@www.monmouth.edu
SUMMARY:Straight Talk on #FakeNews
DESCRIPTION:What is the difference between #FakeNews and fake news? Attempts to undermine the credibility of news reports can weaken an essential pillar of a healthy democracy. A panel of professionals will discuss the current environment and future of the Fourth Estate from the perspectives of print media\, broadcasting\, and data reporting. The forum will include an opportunity for audience Q&A. \nSponsored by the Monmouth University Polling Institute\, Department of Communication\, Monmouth Oral Communication Center (MOCC)\, Wayne D. McMurray School of Humanities and Social Sciences \n\nPanelists\n\n \nJack Ford is an Emmy and Peabody Award-winning journalist\, documentary producer\, prominent trial attorney\, author\, and professor. He is currently a CBS News Correspondent for “60 Minutes Sports” and Host of “Metro Focus” on PBS (WNET-New York). He is also the Co-Founder and Chief Anchor of the American Education Network and a consultant for the NCAA. Mr. Ford was an original anchor at the launch of Court TV and was Chief Legal Correspondent at NBC News. Mr. Ford has been awarded five honorary degrees\, recognizing his professional accomplishments and his extensive public service work. \n\n\n \nKatie Jennings is a reporter for POLITICO New Jersey. She writes about policy and politics with a focus on health care. Previously\, she worked with a team from Columbia Journalism School on a year-long investigation into ExxonMobil’s internal climate change knowledge\, which was published in collaboration with the Los Angeles Times in 2015. Her investigation into a secretive committee convened by the American Medical Association that helps determine how much Medicare should pay doctors was published in POLITICO Magazine in 2014. \n\n\n \nPatrick Murray was named the founding director of the Monmouth University Polling Institute in 2005. In that short time\, the Monmouth University Poll has established itself as one of the nation’s leading independent survey research centers\, earning an A+ rating from FiveThirtyEight.com\, making it one of only five polling organizations out of nearly 400 nationally to receive this top grade. Murray frequently appears as a commentator on national and regional TV and radio. During federal election years\, he also serves as an exit poll analyst for the NBC News Decision Desk. \n\n\n \nMichael Phillips-Anderson is an Associate Professor of Communication at Monmouth University. He is concerned with the role of public discourse in the creation of active citizenship. His teaching and writing examine historical and contemporary public address\, new media and political rhetoric\, and the strategic use of humor. He is currently writing a book about comedians who have performed satirical presidential campaigns.
URL:https://www.monmouth.edu/events/event/straight-talk-on-fakenews/
LOCATION:The Great Hall Auditorium
CATEGORIES:Alumni,Communication,Community Member,Current Student,Faculty,Media,School of Humanities and Social Sciences
ATTACH;FMTTYPE=image/png:https://www.monmouth.edu/events/wp-content/uploads/sites/19/2018/07/JackFordPromo.png
END:VEVENT
BEGIN:VEVENT
DTSTART;TZID=America/New_York:20180405T193000
DTEND;TZID=America/New_York:20180405T230000
DTSTAMP:20260423T165644
CREATED:20180725T203422Z
LAST-MODIFIED:20180725T203422Z
UID:40810101062-1522956600-1522969200@www.monmouth.edu
SUMMARY:Julius Caesar
DESCRIPTION:Ben Whishaw (The Danish Girl\, Skyfall\, Hamlet) and Michelle Fairley (Fortitude\, Game of Thrones) play Brutus and Cassius\, David Calder (The Lost City of Z\, The Hatton Garden Job) plays Caesar and David Morrissey (The Missing\, Hangmen\, The Walking Dead) is Mark Antony. Broadcast live from The Bridge Theatre\, London. \nCaesar returns in triumph to Rome and the people pour out of their homes to celebrate. Alarmed by the autocrat’s popularity\, the educated élite conspire to bring him down. After his assassination\, civil war erupts on the streets of the capital. \nNicholas Hytner’s production will thrust the audience into the street party that greets Caesar’s return\, the congress that witnesses his murder\, the rally that assembles for his funeral and the chaos that explodes in its wake.  \nRun Time: 180 minutes 
URL:https://www.monmouth.edu/events/event/juliuscaesar18/
LOCATION:Pollak Theatre
CATEGORIES:Arts at Monmouth,Broadcast in HD,Theatre
ATTACH;FMTTYPE=image/jpeg:https://www.monmouth.edu/events/wp-content/uploads/sites/19/2018/07/caesar_hero1.jpg
END:VEVENT
BEGIN:VEVENT
DTSTART;TZID=America/New_York:20180406T100000
DTEND;TZID=America/New_York:20180413T170000
DTSTAMP:20260423T165644
CREATED:20180725T203517Z
LAST-MODIFIED:20190301T183859Z
UID:40810101113-1523008800-1523638800@www.monmouth.edu
SUMMARY:Second Senior Show: Graphic Design
DESCRIPTION:Featuring the work of Monmouth University graduating seniors who will receive their degrees in Graphic Design.
URL:https://www.monmouth.edu/events/event/secondseniorshow18/
LOCATION:Joan and Robert Rechnitz Hall
CATEGORIES:Art and Design,Art Exhibitions,Arts at Monmouth,Free
ATTACH;FMTTYPE=image/jpeg:https://www.monmouth.edu/events/wp-content/uploads/sites/19/2018/07/secondseniorshow_hero2.jpg
END:VEVENT
END:VCALENDAR