BEGIN:VCALENDAR
VERSION:2.0
PRODID:-//Events - ECPv6.15.20//NONSGML v1.0//EN
CALSCALE:GREGORIAN
METHOD:PUBLISH
X-ORIGINAL-URL:https://www.monmouth.edu/events
X-WR-CALDESC:Events for Events
REFRESH-INTERVAL;VALUE=DURATION:PT1H
X-Robots-Tag:noindex
X-PUBLISHED-TTL:PT1H
BEGIN:VTIMEZONE
TZID:America/New_York
BEGIN:DAYLIGHT
TZOFFSETFROM:-0500
TZOFFSETTO:-0400
TZNAME:EDT
DTSTART:20170312T070000
END:DAYLIGHT
BEGIN:STANDARD
TZOFFSETFROM:-0400
TZOFFSETTO:-0500
TZNAME:EST
DTSTART:20171105T060000
END:STANDARD
BEGIN:DAYLIGHT
TZOFFSETFROM:-0500
TZOFFSETTO:-0400
TZNAME:EDT
DTSTART:20180311T070000
END:DAYLIGHT
BEGIN:STANDARD
TZOFFSETFROM:-0400
TZOFFSETTO:-0500
TZNAME:EST
DTSTART:20181104T060000
END:STANDARD
BEGIN:DAYLIGHT
TZOFFSETFROM:-0500
TZOFFSETTO:-0400
TZNAME:EDT
DTSTART:20190310T070000
END:DAYLIGHT
BEGIN:STANDARD
TZOFFSETFROM:-0400
TZOFFSETTO:-0500
TZNAME:EST
DTSTART:20191103T060000
END:STANDARD
END:VTIMEZONE
BEGIN:VEVENT
DTSTART;TZID=America/New_York:20180116T100000
DTEND;TZID=America/New_York:20180311T170000
DTSTAMP:20260421T004726
CREATED:20180725T203521Z
LAST-MODIFIED:20191021T134007Z
UID:40810101119-1516096800-1520787600@www.monmouth.edu
SUMMARY:Oceanids by Joseph Coscia Jr.
DESCRIPTION:Oceanids are some 3000 nymphs in Greek mythology who watch over fresh water: rain\, clouds\, lakes\, springs and rivers\, as well as pastures\, breezes and flowers. They are the daughters of Oceanus and Tethys. Coscia\, the Chief Photographer at the Metropolitan Museum of Art has spent countless hours with classical sculptures\, photographing them in various settings and seasons. He focuses on the qualities of light on sculpture in changing conditions\, and the shifting effects of natural light on stone surfaces. His photographs of museum pieces explore elements of the art outside the context of the museum setting. \nHis recent work draws on Man Ray’s solarization techniques. This effect reverses the shadow areas and transforms the sense of weight and volume of the objects\, so that they appear suspended in air or water. The forms are evocative of earthly creatures or fossils; photographing and printing them using recreated old photographic techniques removes time specificity\, so that they also are suspended in time. \nCoscia\, Jr. received his MFA from Hunter College in 1989 and his BFA from Kutztown University of Pennsylvania in 1982. His photographs have appeared in numerous publications and museum books\, most notably Light on Stone\, a photographic essay published by Yale Press in 2004.
URL:https://www.monmouth.edu/events/event/coscia18/
LOCATION:Joan and Robert Rechnitz Hall
CATEGORIES:Art and Design,Art Exhibitions,Arts at Monmouth,Free
ATTACH;FMTTYPE=image/jpeg:https://www.monmouth.edu/events/wp-content/uploads/sites/19/2018/07/coscia_hero1.jpg
END:VEVENT
BEGIN:VEVENT
DTSTART;TZID=America/New_York:20180116T100000
DTEND;TZID=America/New_York:20180323T170000
DTSTAMP:20260421T004726
CREATED:20180725T203524Z
LAST-MODIFIED:20211115T133824Z
UID:40810101122-1516096800-1521824400@www.monmouth.edu
SUMMARY:Maunderings by Tonya D. Lee
DESCRIPTION:In this exhibition\, artist and Monmouth University Art and Design faculty member\, Tonya D. Lee presents a collection of multi-discipline work that explores the abstraction of nature and environment through the combination shapes\, patterns\, moments and pauses that are derived from passive spaces\, fleeting thoughts and changing winds. Location and process are in a conversation about ephemeral moments of beauty. Using a multi-disciplinary process of combining painting\, drawing\, collage\, construction\, and digital media\, the obsessions with materiality explore form and color as an echo of the present overlapping past presents — form and color negotiating to exist as object and subject.
URL:https://www.monmouth.edu/events/event/tonyalee18/
LOCATION:Rotary Ice House Gallery
CATEGORIES:Art and Design,Art Exhibitions,Arts at Monmouth,Free
ATTACH;FMTTYPE=image/jpeg:https://www.monmouth.edu/events/wp-content/uploads/sites/19/2018/07/tonyalee_hero.jpg
END:VEVENT
BEGIN:VEVENT
DTSTART;TZID=America/New_York:20180223T090000
DTEND;TZID=America/New_York:20180323T190000
DTSTAMP:20260421T004726
CREATED:20180725T203343Z
LAST-MODIFIED:20190301T154538Z
UID:40810101029-1519376400-1521831600@www.monmouth.edu
SUMMARY:Jacob Landau and His Circle
DESCRIPTION:An exhibition of paintings by the late Jacob Landau and works by members of the artist’s circle who were strongly influenced by his vision including Myron Wasserman\, Jack McGovern and Joanne Leone. The exhibition was curated by Leone who studied with Landau from 1985-2001. This event is part of the Jewish Cultural Studies Program.
URL:https://www.monmouth.edu/events/event/landau18/
LOCATION:Pollak Gallery
CATEGORIES:Art Exhibitions,Arts at Monmouth,Free
ATTACH;FMTTYPE=image/jpeg:https://www.monmouth.edu/events/wp-content/uploads/sites/19/2018/07/landau_hero1.jpg
END:VEVENT
BEGIN:VEVENT
DTSTART;TZID=America/New_York:20180225T160000
DTEND;TZID=America/New_York:20180225T190000
DTSTAMP:20260421T004726
CREATED:20180725T203406Z
LAST-MODIFIED:20231026T142844Z
UID:40810101041-1519574400-1519585200@www.monmouth.edu
SUMMARY:CAROLYN DORFMAN DANCE: The Legacy Project: A Dance Of Hope
DESCRIPTION:The Legacy Project: A Dance of Hope \nAcclaimed choreographer and storyteller Carolyn Dorfman has created an exultant “dance-theatre” trilogy that connects us through our common human experience. Told through the lens of a child of Holocaust survivors\, dances illustrate the devastation\, yet inspires hope as immigrants’ journey to a new land that promises new beginnings! Our deepest desires for peace\, freedom and family are illuminated in this triumphant work that will make you cry\, laugh\, think and celebrate the capacity of the human spirit to rise above all circumstance. \nDescribed by critics as “ingenious” (The Star-Ledger) and “emotionally resonant” (The New York Times)\, the dances in the Legacy Project bring together Dorfman’s family stories\, Jewish history\, and a universal struggle for identity. Through this combination\, Dorfman inspires in her audience feelings of familiarity and unity\, creating dances that serve as metaphors for the greater truths of the human experience\, “In her works\, visual images become still photographs that capture and freeze certain universal truths…both reflect[ing] and engender[ing] a profound humanity. Because her dances are about people and life experience\, often moving from the autobiographical to the universal\, they hold immediate appeal” (The New York Times). \nAbout Carolyn Dorfman Dance\nCarolyn Dorfman Dance connects life and dance in bold\, athletic and dramatic works by Carolyn Dorfman and nationally renowned choreographers. The company’s ten multi-ethnic and stunning dancers tap their unique talents to present high-energy and technically demanding dance that unleashes the powerful storytelling and imagery of its visionary creator. This distinctive combination takes audiences on intellectual and emotional journeys that ultimately illuminate and celebrate the human experience. This is contemporary dance that moves you to think\, feel\, laugh\, cry and engage. The highly acclaimed ensemble is known for emotional resonance and artistic excellence both in performance and in its interactions with audiences\, students and the community. Sharing art and process is the hallmark of this company.  Celebrating 35 years\, Carolyn Dorfman Dance continues to impact audiences at major theaters\, dance festivals\, universities\, schools\, museums and galleries regionally\, nationally and internationally.
URL:https://www.monmouth.edu/events/event/carolyndorfmandance18/
LOCATION:Pollak Theatre
CATEGORIES:Arts at Monmouth,Dance
ATTACH;FMTTYPE=image/jpeg:https://www.monmouth.edu/events/wp-content/uploads/sites/19/2018/07/carolyn_hero11.jpg
END:VEVENT
BEGIN:VEVENT
DTSTART;TZID=America/New_York:20180228T200000
DTEND;TZID=America/New_York:20180228T200000
DTSTAMP:20260421T004726
CREATED:20240919T134137Z
LAST-MODIFIED:20240919T134137Z
UID:40810114223-1519848000-1519848000@www.monmouth.edu
SUMMARY:Sylvia
DESCRIPTION:Feb. 28 – March 4 & March 6-8\, 2018\nAll shows 8 PM except Sun. matinees at 3 PM.  \nSylvia is one of A.R.Gurney’s funniest plays. Greg and Kate move back to New York city after raising two children and wanting the active life of Manhattan. Greg finds an adorable mutt while on a walk and decides to bring the pooch home. Sylvia immediately becomes an issue for Greg and Kate and begins to test their marriage in both funny and touching ways. Gurney is an expert at examining middle class life as we watch Sylvia bring Greg and Kate back on track in their new but lonely city life.
URL:https://www.monmouth.edu/events/event/sylvia/
LOCATION:Lauren K. Woods Theatre
CATEGORIES:Arts at Monmouth,Student Performances,Theatre
ATTACH;FMTTYPE=image/jpeg:https://www.monmouth.edu/events/wp-content/uploads/sites/19/2018/07/slyvia560x560px1-8.jpg
END:VEVENT
BEGIN:VEVENT
DTSTART;TZID=America/New_York:20180301T193000
DTEND;TZID=America/New_York:20180301T230000
DTSTAMP:20260421T004726
CREATED:20180725T203402Z
LAST-MODIFIED:20180725T203402Z
UID:40810101035-1519932600-1519945200@www.monmouth.edu
SUMMARY:Danú
DESCRIPTION:Hailing from Waterford\, Dublin\, Donegal and Cork\, Danú is one of the leading traditional Irish ensembles of today. Their standing room only concerts throughout Ireland are true events featuring high-energy performances and a glorious mix of ancient Irish music and new repertoire. For over two decades\, Danú’s virtuosi players on flute\, tin whistle\, fiddle\, button accordion\, bouzouki\, and vocals (Irish and English)\, have performed around the globe and recorded seven critically acclaimed albums. Their live DVD\, One Night Stand\, was filmed at Vicar St. Dublin.  \nWinners of numerous awards from the BBC and Irish Music Magazine\, Danú has toured throughout Europe\, the Middle East\, and North America with stops at The Hollywood Bowl in Los Angeles\, Symphony Space in New York City\, and major concert engagements in the United Kingdom\, India\, Israel\, and across Europe. Danú takes its audiences on a musical journey to their native Ireland\, offering a moving and memorable concert experience. Danú’s popular recordings are available on the Shanachie label and live performances are often broadcast on NPR\, the CBC\, and the BBC \n “…impressive\, immersive and uniquely and unmistakably Irish”~ Strings Magazine \n“…a powerhouse band…”~ The Irish Times \n“A spirit-raising concoction” ~ The Irish Times \n“…a vibrant mix of virtuosity\, energy\, and empathy”~ The Washington Post \n“… (Danú) stirs the blood and lifts the heart.”~Irish Music Magazine \n“…fierce fiddle reels to pensive ballads.”~ The New York Times \n“Compellingly original”~ The Los Angeles Times \nMore info: www.danu.net \n 
URL:https://www.monmouth.edu/events/event/danu18/
LOCATION:Pollak Theatre
CATEGORIES:Concerts,Music
ATTACH;FMTTYPE=image/jpeg:https://www.monmouth.edu/events/wp-content/uploads/sites/19/2018/07/danu_hero11.jpg
END:VEVENT
BEGIN:VEVENT
DTSTART;TZID=America/New_York:20180303T190000
DTEND;TZID=America/New_York:20180303T230000
DTSTAMP:20260421T004726
CREATED:20180725T203229Z
LAST-MODIFIED:20180725T203229Z
UID:40810100936-1520103600-1520118000@www.monmouth.edu
SUMMARY:ICCA Mid-Atlantic Quarterfinal at Monmouth University
DESCRIPTION:The top two finishing groups at this event will advance to the ICCA Mid-Atlantic Semifinal. 10 Universities will compete; Monmouth University\, Rider\, Wagner\, Hofstra\, Rutgers\, The College of New Jersey and Georgetown. We invite you to tweet and Instagram this event using #ICCA \nMonmouth University’s Sea Sharps will host and compete.
URL:https://www.monmouth.edu/events/event/iccaquarterfinal/
LOCATION:Pollak Theatre
CATEGORIES:Music,Student Performances
ATTACH;FMTTYPE=image/png:https://www.monmouth.edu/events/wp-content/uploads/sites/19/2018/07/icca201400x600.png
END:VEVENT
END:VCALENDAR