BEGIN:VCALENDAR
VERSION:2.0
PRODID:-//Events - ECPv6.15.20//NONSGML v1.0//EN
CALSCALE:GREGORIAN
METHOD:PUBLISH
X-ORIGINAL-URL:https://www.monmouth.edu/events
X-WR-CALDESC:Events for Events
REFRESH-INTERVAL;VALUE=DURATION:PT1H
X-Robots-Tag:noindex
X-PUBLISHED-TTL:PT1H
BEGIN:VTIMEZONE
TZID:America/New_York
BEGIN:DAYLIGHT
TZOFFSETFROM:-0500
TZOFFSETTO:-0400
TZNAME:EDT
DTSTART:20120311T070000
END:DAYLIGHT
BEGIN:STANDARD
TZOFFSETFROM:-0400
TZOFFSETTO:-0500
TZNAME:EST
DTSTART:20121104T060000
END:STANDARD
BEGIN:DAYLIGHT
TZOFFSETFROM:-0500
TZOFFSETTO:-0400
TZNAME:EDT
DTSTART:20130310T070000
END:DAYLIGHT
BEGIN:STANDARD
TZOFFSETFROM:-0400
TZOFFSETTO:-0500
TZNAME:EST
DTSTART:20131103T060000
END:STANDARD
BEGIN:DAYLIGHT
TZOFFSETFROM:-0500
TZOFFSETTO:-0400
TZNAME:EDT
DTSTART:20140309T070000
END:DAYLIGHT
BEGIN:STANDARD
TZOFFSETFROM:-0400
TZOFFSETTO:-0500
TZNAME:EST
DTSTART:20141102T060000
END:STANDARD
END:VTIMEZONE
BEGIN:VEVENT
DTSTART;VALUE=DATE:20130211
DTEND;VALUE=DATE:20130601
DTSTAMP:20260423T155514
CREATED:20180725T204846Z
LAST-MODIFIED:20190301T201539Z
UID:40810103774-1360540800-1370044799@www.monmouth.edu
SUMMARY:Student Movie Posters from the Department of Art & Design
DESCRIPTION:2nd Floor\, Rechnitz Hall \nWhat can you do with 4 colors\, 4 names\, 2 locations\, 2 dates\, 2 films genres and 4 adjectives?\n\nFor this project\, students are asked to create a concept for a movie poster for a film that does not exist. As a point of departure\, students are asked to type up a list of colors\, locations\, names\, dates\, adjectives\, and film genres. These words are then cut and distributed (via the nearest baseball hat). This compilation of information is then used as the catalyst for the story. From this exercise\, students write a summary of the movie including plot line and character development. Once the story concept is discussed and approved\, each student begins a visual journey resulting in the work displayed here on the gallery walls.\n\nCoursework from:\n\nAR374 Digital Imaging: Fall 2011\, Spring 2012\, Fall 2012\nProfessors Bright and Cresson
URL:https://www.monmouth.edu/events/event/student-movie-posters-from-the-department-of-art-design/
LOCATION:Joan and Robert Rechnitz Hall
ATTACH;FMTTYPE=image/jpeg:https://www.monmouth.edu/events/wp-content/uploads/sites/19/2018/07/Student_Movie_Posters_Thumb.jpg
END:VEVENT
BEGIN:VEVENT
DTSTART;VALUE=DATE:20130411
DTEND;VALUE=DATE:20130608
DTSTAMP:20260423T155514
CREATED:20180725T204843Z
LAST-MODIFIED:20190301T190454Z
UID:40810103765-1365638400-1370649599@www.monmouth.edu
SUMMARY:Advocacy\, Revelation\, Transcendence - Jacob Landau
DESCRIPTION:Opening Reception: Thurs. April 11 | 6 p.m.\nGallery Talk: Wed. April 17 | 5 p.m. by Dr. David Herrstrom\, President of the Jacob Landau Institute\nGallery Hours: Monday – Friday 9 a.m. – 7 p.m.\nDocent tours are available. \nThe exhibition features a selection of 32 pieces from Monmouth University’s extensive collection of Jacob Landau’s work\, which is comprised of over 300 prints\, drawings\, and paintings. The collection was gifted to Monmouth University in 2008 by the Jacob Landau Institute of Roosevelt\, NJ. \nBorn in Philadelphia in 1917\, Jacob Landau launched his career as an illustrator\, winning national prizes at age 16 and a scholarship to the Philadelphia College of Art. He had over sixty one-person shows and was the recipient of many awards\, including Tiffany\, Guggenheim and National Arts Council grants. Many of his works are featured in permanent collections in the Philadelphia Museum of Art\, the Metropolitan Museum of Art\, and the Museum of Modern Art in New York\, among others. A master teacher\, he retired as professor emeritus at New York’s Pratt Institute. In 1996\, he was awarded an honorary Doctorate in Fine Arts by Monmouth University. \nLandau\, who died in 2001\, won praise for his “humanist” approach to art\, which explored the basic themes of human existence and morality\, according to Institute president David Herrstrom. Having lived through the Great Depression\, Landau faced tough times and human cruelty\, influences that can be seen throughout his works. Herrstrom explains that “As a humanist\, Landau was committed to the belief that art must do more than entertain or please. Creating inner conflict\, art can precipitate a small crisis of perception or conscience in us and contribute to human growth.” \nDates/Times docents will be in the gallery to give guided tours: \nFri. April 12 | 4 pm – 8 pm\nSat. April 13 | 6 pm – 8 pm\nSun. April 14 | 11 am – 2 pm\nMon. April 15 | 12 pm – 2 pm\nTues. April 16 | 11 am – 12 pm\nWed. April 17 | 11 am – 2 pm\nThurs. April 18 | 4:30 pm – 8 pm\nFri. April 19 | 11 am – 1 pm\, 6 pm – 8 pm\nMon. April 22 | 12 pm – 2pm\nTues. April 23 | 11 am – 4 pm\nWed. April 24 | 11am – 3 pm
URL:https://www.monmouth.edu/events/event/advocacy-revelation-transcendence-jacob-landau/
LOCATION:Pollak Gallery
ATTACH;FMTTYPE=image/jpeg:https://www.monmouth.edu/events/wp-content/uploads/sites/19/2018/07/landau_2013_thumb.jpg
END:VEVENT
BEGIN:VEVENT
DTSTART;VALUE=DATE:20130411
DTEND;VALUE=DATE:20130719
DTSTAMP:20260423T155514
CREATED:20180725T205212Z
LAST-MODIFIED:20190301T183815Z
UID:40810104305-1365638400-1374191999@www.monmouth.edu
SUMMARY:Second Senior Show: Graphic Design
DESCRIPTION:  \nRechnitz Hall\, The Dimattio Gallery\nOpening Reception: Fri. April 11\, from 7 – 9 p.m.\n 
URL:https://www.monmouth.edu/events/event/second-senior-show-graphic-design-2/
LOCATION:Joan and Robert Rechnitz Hall
ATTACH;FMTTYPE=image/jpeg:https://www.monmouth.edu/events/wp-content/uploads/sites/19/2018/07/second_senior_show_thumb.jpg
END:VEVENT
BEGIN:VEVENT
DTSTART;VALUE=DATE:20130412
DTEND;VALUE=DATE:20130420
DTSTAMP:20260423T155515
CREATED:20180725T204842Z
LAST-MODIFIED:20190228T144316Z
UID:40810103759-1365724800-1366415999@www.monmouth.edu
SUMMARY:Second Senior Exhibition - Fine Art
DESCRIPTION:April 12 – 19\, 2013\nIce House Gallery\nJoan and Robert Rechnitz Hall\nFree & Open to Public\n\nOpening Reception: Friday\, April 12 | 7 – 9 p.m.\n\nFeaturing the work of Monmouth University graduating seniors who will receive their degrees in Fine Art.
URL:https://www.monmouth.edu/events/event/second-senior-exhibition-fine-art/
LOCATION:Rotary Ice House Gallery
ATTACH;FMTTYPE=image/jpeg:https://www.monmouth.edu/events/wp-content/uploads/sites/19/2018/07/second_senior_2013_thumb.jpg
END:VEVENT
BEGIN:VEVENT
DTSTART;TZID=America/New_York:20130414T125500
DTEND;TZID=America/New_York:20130414T125500
DTSTAMP:20260423T155515
CREATED:20180725T205005Z
LAST-MODIFIED:20180731T133515Z
UID:40810104020-1365944100-1365944100@www.monmouth.edu
SUMMARY:Met Opera: FRANCESCA DA RIMINI (Encore) (Broadcast in HD)
DESCRIPTION:Zandonai’s FRANCESCA DA RIMINI ENCORE \nApprox. Runtime:  3:57 \nZandonai’s compelling opera\, inspired by an episode from Dante’s Inferno\, returns in the Met’s ravishingly beautiful production\, last seen in 1986. Dramatic soprano Eva-Maria Westbroek and tenor Marcello Giordani are the doomed lovers. Marco Armiliato conducts. \nBroadcast in HD 
URL:https://www.monmouth.edu/events/event/met-opera-francesca-da-rimini-encore-broadcast-in-hd/
ATTACH;FMTTYPE=image/jpeg:https://www.monmouth.edu/events/wp-content/uploads/sites/19/2018/07/Francesca_da_Rimini_Thumb.jpg
END:VEVENT
BEGIN:VEVENT
DTSTART;TZID=America/New_York:20130416T163000
DTEND;TZID=America/New_York:20130416T163000
DTSTAMP:20260423T155515
CREATED:20180725T204809Z
LAST-MODIFIED:20180731T133448Z
UID:40810103699-1366129800-1366129800@www.monmouth.edu
SUMMARY:Visiting Arts Lecture: Jen Davis
DESCRIPTION:Location: Wilson Auditorium \nJen Davis is a New York based photographer. For the past 11 years she has been working on a series of Self-Portraits dealing with issues regarding beauty\, identity\, and body image. An accomplished photographer\, she received her MFA from Yale University and has been exhibited nationally and internationally. \nLecture funded by the Gender Studies Program
URL:https://www.monmouth.edu/events/event/visiting-arts-lecture-jen-davis/
CATEGORIES:Arts at Monmouth
ATTACH;FMTTYPE=image/jpeg:https://www.monmouth.edu/events/wp-content/uploads/sites/19/2018/07/jen_davis_thumb.jpg
END:VEVENT
BEGIN:VEVENT
DTSTART;TZID=America/New_York:20130418T130000
DTEND;TZID=America/New_York:20130418T130000
DTSTAMP:20260423T155515
CREATED:20180725T204905Z
LAST-MODIFIED:20180731T133458Z
UID:40810103873-1366290000-1366290000@www.monmouth.edu
SUMMARY:Roger McGuinn Workshop and Guitar Circle
DESCRIPTION:Cost: Free with ticket to 8 p.m. concert or $20Please call 732.263.5715 to reserve your place  \nThis\n workshop will include the history of The Byrds’ musical revolution and\ncontemporary technical information – highlighting the computer\ntechniques McGuinn uses in recording. Bring your guitar to participate\nin the Guitar Circle!
URL:https://www.monmouth.edu/events/event/roger-mcguinn-workshop-and-guitar-circle-2/
ATTACH;FMTTYPE=image/jpeg:https://www.monmouth.edu/events/wp-content/uploads/sites/19/2018/07/roger_mcguinn_thumb.jpg
END:VEVENT
BEGIN:VEVENT
DTSTART;TZID=America/New_York:20130418T193000
DTEND;TZID=America/New_York:20130418T193000
DTSTAMP:20260423T155515
CREATED:20180725T204905Z
LAST-MODIFIED:20190108T184712Z
UID:40810103870-1366313400-1366313400@www.monmouth.edu
SUMMARY:Giants of the Baroque - Spring Concert
DESCRIPTION:GIANTS OF THE BAROQUE \nDepartment of Music and Theatre Arts Spring Concert \nMonmouth University’s orchestra\, choirs and distinguished\nsoloists will be under the direction of Dr. David Tripold in a concert\nfeaturing three giants of the 18th century High Baroque period.\nMusic includes Bach’s Orchestra Suite No. 3 in D major and\nthe monumental Double Violin Concerto in\nD minor\, Antonio Vivaldi’s Gloria\nand arias by Handel.
URL:https://www.monmouth.edu/events/event/giants-of-the-baroque-spring-concert/
ATTACH;FMTTYPE=image/jpeg:https://www.monmouth.edu/events/wp-content/uploads/sites/19/2018/07/Spring_Awakenings_Thumbnail.jpg
END:VEVENT
BEGIN:VEVENT
DTSTART;TZID=America/New_York:20130419T200000
DTEND;TZID=America/New_York:20130419T200000
DTSTAMP:20260423T155515
CREATED:20180725T204903Z
LAST-MODIFIED:20180731T133458Z
UID:40810103864-1366401600-1366401600@www.monmouth.edu
SUMMARY:Roger McGuinn
DESCRIPTION:*Workshop and Guitar Circle: April 18 at 1:00 p.m.  | Wilson AuditoriumCost: $33 (workshop FREE with concert ticket or $20 stand alone) \nAs the leader of the influential 1960’s group The Byrds\, Roger\nMcGuinn was on the leading edge\, combining the rock beat of The Beatles\nwith the folk sensibilities of Bob Dylan\, to create the genre known as\n“folk-rock.” The Rock and Roll Hall of Famer brings his granny glasses\,\nhis jingle-jangling 12-string and his encyclopedic mastery of American\nmusic back for another solo flight of songs and stories — mixing many of\n rock’s timeless classics with a portfolio of traditional treasures from\n the singer-guitarist’s formidable Folk Den Project\, which Rolling Stone\n called “damn near perfect”. \nWorkshop and Guitar Circle: This workshop will include the history of\n The Byrds’ musical revolution and contemporary technical information –\nhighlighting the computer techniques McGuinn uses in recording. Bring\nyour guitar to participate in the Guitar Circle! Please call 732.263.5715 to reserve your place.   \n*
URL:https://www.monmouth.edu/events/event/roger-mcguinn-2/
ATTACH;FMTTYPE=image/jpeg:https://www.monmouth.edu/events/wp-content/uploads/sites/19/2018/07/roger_mcguinn_thumb.jpg
END:VEVENT
BEGIN:VEVENT
DTSTART;TZID=America/New_York:20130420T160000
DTEND;TZID=America/New_York:20130420T160000
DTSTAMP:20260423T155515
CREATED:20180725T204857Z
LAST-MODIFIED:20180731T133456Z
UID:40810103834-1366473600-1366473600@www.monmouth.edu
SUMMARY:Senior Recital - Jonah Santorello
DESCRIPTION:
URL:https://www.monmouth.edu/events/event/senior-recital-jonah-santorello/
ATTACH;FMTTYPE=image/jpeg:https://www.monmouth.edu/events/wp-content/uploads/sites/19/2018/07/Jonah_Recital_Thumb.jpg
END:VEVENT
END:VCALENDAR