BEGIN:VCALENDAR
VERSION:2.0
PRODID:-//Events - ECPv6.15.20//NONSGML v1.0//EN
CALSCALE:GREGORIAN
METHOD:PUBLISH
X-WR-CALNAME:Events
X-ORIGINAL-URL:https://www.monmouth.edu/events
X-WR-CALDESC:Events for Events
REFRESH-INTERVAL;VALUE=DURATION:PT1H
X-Robots-Tag:noindex
X-PUBLISHED-TTL:PT1H
BEGIN:VTIMEZONE
TZID:America/New_York
BEGIN:DAYLIGHT
TZOFFSETFROM:-0500
TZOFFSETTO:-0400
TZNAME:EDT
DTSTART:20120311T070000
END:DAYLIGHT
BEGIN:STANDARD
TZOFFSETFROM:-0400
TZOFFSETTO:-0500
TZNAME:EST
DTSTART:20121104T060000
END:STANDARD
BEGIN:DAYLIGHT
TZOFFSETFROM:-0500
TZOFFSETTO:-0400
TZNAME:EDT
DTSTART:20130310T070000
END:DAYLIGHT
BEGIN:STANDARD
TZOFFSETFROM:-0400
TZOFFSETTO:-0500
TZNAME:EST
DTSTART:20131103T060000
END:STANDARD
BEGIN:DAYLIGHT
TZOFFSETFROM:-0500
TZOFFSETTO:-0400
TZNAME:EDT
DTSTART:20140309T070000
END:DAYLIGHT
BEGIN:STANDARD
TZOFFSETFROM:-0400
TZOFFSETTO:-0500
TZNAME:EST
DTSTART:20141102T060000
END:STANDARD
END:VTIMEZONE
BEGIN:VEVENT
DTSTART;VALUE=DATE:20130211
DTEND;VALUE=DATE:20130601
DTSTAMP:20260423T074302
CREATED:20180725T204846Z
LAST-MODIFIED:20190301T201539Z
UID:40810103774-1360540800-1370044799@www.monmouth.edu
SUMMARY:Student Movie Posters from the Department of Art & Design
DESCRIPTION:2nd Floor\, Rechnitz Hall \nWhat can you do with 4 colors\, 4 names\, 2 locations\, 2 dates\, 2 films genres and 4 adjectives?\n\nFor this project\, students are asked to create a concept for a movie poster for a film that does not exist. As a point of departure\, students are asked to type up a list of colors\, locations\, names\, dates\, adjectives\, and film genres. These words are then cut and distributed (via the nearest baseball hat). This compilation of information is then used as the catalyst for the story. From this exercise\, students write a summary of the movie including plot line and character development. Once the story concept is discussed and approved\, each student begins a visual journey resulting in the work displayed here on the gallery walls.\n\nCoursework from:\n\nAR374 Digital Imaging: Fall 2011\, Spring 2012\, Fall 2012\nProfessors Bright and Cresson
URL:https://www.monmouth.edu/events/event/student-movie-posters-from-the-department-of-art-design/
LOCATION:Joan and Robert Rechnitz Hall
ATTACH;FMTTYPE=image/jpeg:https://www.monmouth.edu/events/wp-content/uploads/sites/19/2018/07/Student_Movie_Posters_Thumb.jpg
END:VEVENT
BEGIN:VEVENT
DTSTART;TZID=America/New_York:20130324T130000
DTEND;TZID=America/New_York:20130324T130000
DTSTAMP:20260423T074302
CREATED:20180725T205007Z
LAST-MODIFIED:20180731T133516Z
UID:40810104029-1364130000-1364130000@www.monmouth.edu
SUMMARY:Met Opera: LES TROYENS (Encore)
DESCRIPTION:Berlioz’s LES TROYENS ENCORE \nApprox. Runtime: 5:41 \nThe Met offers a rare opportunity to witness Berlioz’s vast epic\, last performed at the Met in 2003. Deborah Voigt\, Susan Graham\, Marcello Giordani\, and Dwayne Croft lead the starry cast\, portraying characters from the Trojan War. Met Principal Conductor Fabio Luisi marshals the large-scale musical forces.
URL:https://www.monmouth.edu/events/event/met-opera-les-troyens-encore/
ATTACH;FMTTYPE=image/jpeg:https://www.monmouth.edu/events/wp-content/uploads/sites/19/2018/07/Les_Troyens_Thumb.jpg
END:VEVENT
BEGIN:VEVENT
DTSTART;TZID=America/New_York:20130326T193000
DTEND;TZID=America/New_York:20130326T193000
DTSTAMP:20260423T074303
CREATED:20180725T204740Z
LAST-MODIFIED:20190115T141713Z
UID:40810103579-1364326200-1364326200@www.monmouth.edu
SUMMARY:Provost Film Series: Munyurangabo
DESCRIPTION:Munyurangabo \nIn this film by Lee Isaac Chung\, an orphan of the Rwandan genocide\ntravels from Kigali to the countryside on a quest for justice.
URL:https://www.monmouth.edu/events/event/provost-film-series-munyurangabo/
ATTACH;FMTTYPE=image/jpeg:https://www.monmouth.edu/events/wp-content/uploads/sites/19/2018/07/munyurangabo_thumb.jpg
END:VEVENT
BEGIN:VEVENT
DTSTART;VALUE=DATE:20130328
DTEND;VALUE=DATE:20130329
DTSTAMP:20260423T074303
CREATED:20180725T204844Z
LAST-MODIFIED:20190301T201500Z
UID:40810103768-1364428800-1364515199@www.monmouth.edu
SUMMARY:Senior Animation and Motion Graphics Screening
DESCRIPTION:Featuring the work of Monmouth University graduating seniors who have taken animation and motion graphics courses. \nScreening Event: Thursday\, March 28th | 7-9 p.m. – In conjunction with the Graphic Design Senior Exhibition
URL:https://www.monmouth.edu/events/event/senior-animation-and-motion-graphics-screening/
LOCATION:Joan and Robert Rechnitz Hall
ATTACH;FMTTYPE=image/jpeg:https://www.monmouth.edu/events/wp-content/uploads/sites/19/2018/07/Senior_motion_screening_thumb.jpg
END:VEVENT
BEGIN:VEVENT
DTSTART;VALUE=DATE:20130328
DTEND;VALUE=DATE:20130406
DTSTAMP:20260423T074303
CREATED:20180725T204845Z
LAST-MODIFIED:20190228T144357Z
UID:40810103771-1364428800-1365206399@www.monmouth.edu
SUMMARY:First Senior Exhibition - Graphic Design
DESCRIPTION:March 28 – April 5\, 2013\nIce House Gallery\nJoan and Robert Rechnitz Hall\nFree & Open to Public\n\nOpening Reception: Thursday\, March 28 | 7 – 9 p.m.\n\nFeaturing the work of Monmouth University graduating seniors who will receive their degrees in Graphic Design.
URL:https://www.monmouth.edu/events/event/first-senior-exhibition-graphic-design/
LOCATION:Rotary Ice House Gallery
ATTACH;FMTTYPE=image/jpeg:https://www.monmouth.edu/events/wp-content/uploads/sites/19/2018/07/first_senior_2013_thumb.jpg
END:VEVENT
BEGIN:VEVENT
DTSTART;TZID=America/New_York:20130328T210000
DTEND;TZID=America/New_York:20130328T210000
DTSTAMP:20260423T074303
CREATED:20180725T204806Z
LAST-MODIFIED:20181220T191506Z
UID:40810103690-1364504400-1364504400@www.monmouth.edu
SUMMARY:NICK OFFERMAN
DESCRIPTION:NICK OFFERMAN\nStar of NBC’s PARKS AND RECREATION \n\nThursday\, March 28th\, 2013\nat the Pollak Theatre*\nDoors open at 8:00 p.m.\nShow at 9:00 p.m.\n*please note that this show location has been moved from the MAC\nSeating Chart\n\nThere is an eight (8) ticket limit per household.\nTicket prices: $25\, $35\nThere are also a limited number of $20 Monmouth student tickets available at the MAC and Pollak Theatre box offices\n\nOn sale Friday\, February 15th at noon through Ticketmaster.com\, phone charge at 800.745.3000 and in person at the MAC and Pollak Theatre box offices.\nProduced by TTM\, Inc and AEG Live
URL:https://www.monmouth.edu/events/event/nick-offerman/
ATTACH;FMTTYPE=image/jpeg:https://www.monmouth.edu/events/wp-content/uploads/sites/19/2018/07/offerman_thumb.jpg
END:VEVENT
END:VCALENDAR