BEGIN:VCALENDAR
VERSION:2.0
PRODID:-//Events - ECPv6.15.20//NONSGML v1.0//EN
CALSCALE:GREGORIAN
METHOD:PUBLISH
X-ORIGINAL-URL:https://www.monmouth.edu/events
X-WR-CALDESC:Events for Events
REFRESH-INTERVAL;VALUE=DURATION:PT1H
X-Robots-Tag:noindex
X-PUBLISHED-TTL:PT1H
BEGIN:VTIMEZONE
TZID:America/New_York
BEGIN:DAYLIGHT
TZOFFSETFROM:-0500
TZOFFSETTO:-0400
TZNAME:EDT
DTSTART:20110313T070000
END:DAYLIGHT
BEGIN:STANDARD
TZOFFSETFROM:-0400
TZOFFSETTO:-0500
TZNAME:EST
DTSTART:20111106T060000
END:STANDARD
BEGIN:DAYLIGHT
TZOFFSETFROM:-0500
TZOFFSETTO:-0400
TZNAME:EDT
DTSTART:20120311T070000
END:DAYLIGHT
BEGIN:STANDARD
TZOFFSETFROM:-0400
TZOFFSETTO:-0500
TZNAME:EST
DTSTART:20121104T060000
END:STANDARD
BEGIN:DAYLIGHT
TZOFFSETFROM:-0500
TZOFFSETTO:-0400
TZNAME:EDT
DTSTART:20130310T070000
END:DAYLIGHT
BEGIN:STANDARD
TZOFFSETFROM:-0400
TZOFFSETTO:-0500
TZNAME:EST
DTSTART:20131103T060000
END:STANDARD
END:VTIMEZONE
BEGIN:VEVENT
DTSTART;VALUE=DATE:20121101
DTEND;VALUE=DATE:20121222
DTSTAMP:20260424T070215
CREATED:20180725T204850Z
LAST-MODIFIED:20190301T194205Z
UID:40810103792-1351728000-1356134399@www.monmouth.edu
SUMMARY:Gallery Exhibition: Historic Wilson Hall
DESCRIPTION:Historic Wilson Hall\nDesignated a Historical Landmark in 1985\nNovember 1 – December 21\, 2012\nPollak Gallery\nFree & Open to Public\nThe splendor of the golden age of American palaces will be featured in  an exhibit of photographs depicting Shadow lawn estate as it appeared from 1903 through 1937. The exhibit features images of the original colonial wood frame structure built in 1903 that was destroyed by fire in 1927\, and the neoclassical French limestone structure that replaced it in 1929. The exhibit includes images of President Woodrow Wilson making his acceptance speech on the steps  of Shadow Lawn\, the opulent décor of the interiors\, and the greenhouses and grounds that supported the estate.\n\nThis exhibition is part of an ongoing historical project that we hope to grow and enhance by learning more through oral histories and individual memories. If you or a family member had a special connection or story to share about Shadow Lawn Mansion or Wilson Hall\, please submit it. We will be collecting this information for use in future research and exhibitions.
URL:https://www.monmouth.edu/events/event/gallery-exhibition-historic-wilson-hall/
LOCATION:Pollak Gallery
ATTACH;FMTTYPE=image/jpeg:https://www.monmouth.edu/events/wp-content/uploads/sites/19/2018/07/wilson_thumb.jpg
END:VEVENT
BEGIN:VEVENT
DTSTART;TZID=America/New_York:20121209T200000
DTEND;TZID=America/New_York:20121209T200000
DTSTAMP:20260424T070215
CREATED:20180725T204804Z
LAST-MODIFIED:20180731T133446Z
UID:40810103681-1355083200-1355083200@www.monmouth.edu
SUMMARY:MARTINA McBRIDE THE JOY OF CHRISTMAS TOUR
DESCRIPTION:Thunder 106’s WINTER THUNDERLAND: \nMARTINA McBRIDE: THE JOY OF CHRISTMAS TOUR \n  \nSunday\, December 9\, 2012 \nMAC at Monmouth University \nShowtime at 8 p.m.  \n Doors at 7 p.m. \nParking lot opens at 5:30 p.m. \nBox Office opens at 5:00 p.m. \nThere is a $10 parking fee \n \nSeating Chart \n \nTicket prices: $45\, $55\, $65\, $85 \nThere is an eight (8) ticket limit per household. \n  \nBuy tickets through Ticketmaster.com\, Charge By Phone at 800.745.3000 and in person at the MAC and Pollak Theatre box offices at Monmouth University
URL:https://www.monmouth.edu/events/event/martina-mcbride-the-joy-of-christmas-tour/
ATTACH;FMTTYPE=image/jpeg:https://www.monmouth.edu/events/wp-content/uploads/sites/19/2018/07/Martina_McBride_Thumb.jpg
END:VEVENT
BEGIN:VEVENT
DTSTART;TZID=America/New_York:20121212T103000
DTEND;TZID=America/New_York:20121212T103000
DTSTAMP:20260424T070215
CREATED:20180725T204730Z
LAST-MODIFIED:20180731T133431Z
UID:40810103537-1355308200-1355308200@www.monmouth.edu
SUMMARY:Skippyjon Jones - 10:30 SHOW SOLD OUT
DESCRIPTION:Skippyjon Jones – SOLD OUT* \n Please note that the 10:30 show is sold out. A 12:45 show has been added. \n  \nSkippyjon Jones is a little kitten with big ears and even bigger\ndreams! Sometimes he pretends to be a bird\, sometimes he pretends to be a\n llama\, and sometimes he pretends to be a whale… Anything BUT a Siamese\ncat! \nHis Mama sends him to his room so that he can think about behaving\nlike the cat he really is. While bouncing on his big boy bed\,\nSkippyjon’s wild imagination takes over again as he catches his\nreflection in a mirror. “Holy guacamole\,” Skippyjon exclaims. “My ears\nare too big for my head\, my head is too big for my body. I am not a\nSiamese cat – I am a CHIHUAHUA!” \nAnd not just any Chihuahua. He dons a mask\, a cape\, and an accent\,\nand transforms into Skippito Friskito\, the greatest canine sword fighter\n in old Mexico! But when the local pack of chihuahuas is terrorized by\nthe gigantic bee\, Alfredo Buzzito El Blimpo Bublebeeto Bandito\, will\nSkippyjon be a ‘fraidy-cat or the top dog? Based on the book by Judy\nSchachner\, and from the creators of Theatreworks USA’s Junie B. Jones\nand Click\, Clack\, Moo\, Skippyjon Jones is an enchanting musical about\nunleashing your powerful imagination and following your dreams. \nAppropriate for Grades K – 3 
URL:https://www.monmouth.edu/events/event/skippyjon-jones-1030-show-sold-out/
ATTACH;FMTTYPE=image/jpeg:https://www.monmouth.edu/events/wp-content/uploads/sites/19/2018/07/skippyjones_Thumb.jpg
END:VEVENT
BEGIN:VEVENT
DTSTART;TZID=America/New_York:20121212T124500
DTEND;TZID=America/New_York:20121212T124500
DTSTAMP:20260424T070215
CREATED:20180725T204729Z
LAST-MODIFIED:20180731T133431Z
UID:40810103531-1355316300-1355316300@www.monmouth.edu
SUMMARY:Skippyjon Jones- SECOND SHOW ADDED AT 12:45
DESCRIPTION:Skippyjon Jones is a little kitten with big ears and even bigger\ndreams! Sometimes he pretends to be a bird\, sometimes he pretends to be a\n llama\, and sometimes he pretends to be a whale… Anything BUT a Siamese\ncat! \nHis Mama sends him to his room so that he can think about behaving\nlike the cat he really is. While bouncing on his big boy bed\,\nSkippyjon’s wild imagination takes over again as he catches his\nreflection in a mirror. “Holy guacamole\,” Skippyjon exclaims. “My ears\nare too big for my head\, my head is too big for my body. I am not a\nSiamese cat – I am a CHIHUAHUA!” \nAnd not just any Chihuahua. He dons a mask\, a cape\, and an accent\,\nand transforms into Skippito Friskito\, the greatest canine sword fighter\n in old Mexico! But when the local pack of chihuahuas is terrorized by\nthe gigantic bee\, Alfredo Buzzito El Blimpo Bublebeeto Bandito\, will\nSkippyjon be a ‘fraidy-cat or the top dog? Based on the book by Judy\nSchachner\, and from the creators of Theatreworks USA’s Junie B. Jones\nand Click\, Clack\, Moo\, Skippyjon Jones is an enchanting musical about\nunleashing your powerful imagination and following your dreams. \nAppropriate for Grades K – 3 
URL:https://www.monmouth.edu/events/event/skippyjon-jones-second-show-added-at-1245/
ATTACH;FMTTYPE=image/jpeg:https://www.monmouth.edu/events/wp-content/uploads/sites/19/2018/07/skippyjones_Thumb.jpg
END:VEVENT
BEGIN:VEVENT
DTSTART;TZID=America/New_York:20121215T125500
DTEND;TZID=America/New_York:20121215T125500
DTSTAMP:20260424T070215
CREATED:20180725T205014Z
LAST-MODIFIED:20180731T133521Z
UID:40810104062-1355576100-1355576100@www.monmouth.edu
SUMMARY:Met Opera: AIDA (Broadcast in HD)
DESCRIPTION:Verdi’s AIDA \nEncore: Sun. February 24\, 2013 at 1 p.m. \nBroadcast in HD   \nApprox. Runtime:  3:54 \nThe Met’s unforgettable production of Verdi’s ancient Egyptian drama stars Liudmyla Monastyrska and Hui He. The story centers on the enslaved Ethiopian princess caught in a love triangle with the heroic Radamès\, played by Roberto Alagna\, and the proud Egyptian princess Amneris\, sung by Olga Borodina. Fabio Luisi conducts this revival\, which features recent choreography by Alexei Ratmansky.
URL:https://www.monmouth.edu/events/event/met-opera-aida-broadcast-in-hd-2/
ATTACH;FMTTYPE=image/jpeg:https://www.monmouth.edu/events/wp-content/uploads/sites/19/2018/07/aida_thumb.jpg
END:VEVENT
END:VCALENDAR