BEGIN:VCALENDAR
VERSION:2.0
PRODID:-//Events - ECPv6.15.20//NONSGML v1.0//EN
CALSCALE:GREGORIAN
METHOD:PUBLISH
X-WR-CALNAME:Events
X-ORIGINAL-URL:https://www.monmouth.edu/events
X-WR-CALDESC:Events for Events
REFRESH-INTERVAL;VALUE=DURATION:PT1H
X-Robots-Tag:noindex
X-PUBLISHED-TTL:PT1H
BEGIN:VTIMEZONE
TZID:America/New_York
BEGIN:DAYLIGHT
TZOFFSETFROM:-0500
TZOFFSETTO:-0400
TZNAME:EDT
DTSTART:20110313T070000
END:DAYLIGHT
BEGIN:STANDARD
TZOFFSETFROM:-0400
TZOFFSETTO:-0500
TZNAME:EST
DTSTART:20111106T060000
END:STANDARD
BEGIN:DAYLIGHT
TZOFFSETFROM:-0500
TZOFFSETTO:-0400
TZNAME:EDT
DTSTART:20120311T070000
END:DAYLIGHT
BEGIN:STANDARD
TZOFFSETFROM:-0400
TZOFFSETTO:-0500
TZNAME:EST
DTSTART:20121104T060000
END:STANDARD
BEGIN:DAYLIGHT
TZOFFSETFROM:-0500
TZOFFSETTO:-0400
TZNAME:EDT
DTSTART:20130310T070000
END:DAYLIGHT
BEGIN:STANDARD
TZOFFSETFROM:-0400
TZOFFSETTO:-0500
TZNAME:EST
DTSTART:20131103T060000
END:STANDARD
END:VTIMEZONE
BEGIN:VEVENT
DTSTART;VALUE=DATE:20120910
DTEND;VALUE=DATE:20121117
DTSTAMP:20260424T095643
CREATED:20180725T204850Z
LAST-MODIFIED:20190228T144522Z
UID:40810103789-1347235200-1353110399@www.monmouth.edu
SUMMARY:Steven Brower - Influence\, Parody\, and Process
DESCRIPTION:September 10 – November 16\, 2012\nIce House Gallery \nArtist Lecture:  \nThurs. September 13 | 4:30 p.m.\nWilson Hall Auditorium\nOpening Reception in Gallery: \nThurs. September 13 | 5:30 – 7 p.m.\nFree and Open to the Public \nDesigner Steven Brower explores his origins and how he filters early and later influences through his own personal sensibility. Not limited to visual art\, graphic design or illustrations those influences include Groucho Marx\, Woody Guthrie\, Louis Armstrong\, right along side PushPin Studios\, Mad Magazine\, and Jack Kirby.
URL:https://www.monmouth.edu/events/event/steven-brower-influence-parody-and-process/
LOCATION:Rotary Ice House Gallery
ATTACH;FMTTYPE=image/jpeg:https://www.monmouth.edu/events/wp-content/uploads/sites/19/2018/07/brower_thumb.jpg
END:VEVENT
BEGIN:VEVENT
DTSTART;TZID=America/New_York:20120917T190000
DTEND;TZID=America/New_York:20121022T190000
DTSTAMP:20260424T095643
CREATED:20180725T204732Z
LAST-MODIFIED:20180725T204732Z
UID:40810103546-1347908400-1350932400@www.monmouth.edu
SUMMARY:Argentine TANGO CLASSES
DESCRIPTION:Argentine TANGO CLASSES \n6 Week Session : \nSeptember 17 – October 22\, 2012 \nMon. at 7 p.m.  \nLocation: Changed to EYAS Lounge\, 2nd Floor of the MAC  \n \nEveryone is welcome. Join us for a series of Tango classes with Lee Sager of Tango Pantera. No partner or experience needed.  \nSeries Fee \nMonmouth Students: $50 \nMonmouth Faculty and Staff: $75 \nGeneral Public: $100 \nTo register please call the box office at 732-263-6889 or buy online
URL:https://www.monmouth.edu/events/event/argentine-tango-classes-2/
LOCATION:The Great Hall
ATTACH;FMTTYPE=image/jpeg:https://www.monmouth.edu/events/wp-content/uploads/sites/19/2018/07/ArgentineTangoClasses_Thumb.jpg
END:VEVENT
BEGIN:VEVENT
DTSTART;TZID=America/New_York:20121021T190000
DTEND;TZID=America/New_York:20121021T190000
DTSTAMP:20260424T095643
CREATED:20180725T204927Z
LAST-MODIFIED:20180731T133504Z
UID:40810103921-1350846000-1350846000@www.monmouth.edu
SUMMARY:Tinariwen with Special Guest Kishi Bashi
DESCRIPTION:Location: Pollak Theatre \nThe multi-generational\, Grammy winning musical force that is\nTinariwen (tee-nahree-WEN) brings the sound and culture of the Sahara’s\nnomadic Tuareg people to the Jersey Shore for the first time — mixing\nregional ethnic forms with Western pop influences within an electrified\nwall of sound. Tinariwen have won new fans on five continents\, a journey\n that’s taken them from the refugee camps of Gaddafi’s Libya to\ntop-ticket music fests and The Colbert Report. \nKishi Bashi\, a master at building songs from live violin loops\, layered singing and beatboxing\, will open the show. \nwww.tinariwen.com
URL:https://www.monmouth.edu/events/event/tinariwen-with-special-guest-kishi-bashi/
ATTACH;FMTTYPE=image/jpeg:https://www.monmouth.edu/events/wp-content/uploads/sites/19/2018/07/tinariwen_thumb.jpg
END:VEVENT
END:VCALENDAR