BEGIN:VCALENDAR
VERSION:2.0
PRODID:-//Events - ECPv6.15.20//NONSGML v1.0//EN
CALSCALE:GREGORIAN
METHOD:PUBLISH
X-WR-CALNAME:Events
X-ORIGINAL-URL:https://www.monmouth.edu/events
X-WR-CALDESC:Events for Events
REFRESH-INTERVAL;VALUE=DURATION:PT1H
X-Robots-Tag:noindex
X-PUBLISHED-TTL:PT1H
BEGIN:VTIMEZONE
TZID:America/New_York
BEGIN:DAYLIGHT
TZOFFSETFROM:-0500
TZOFFSETTO:-0400
TZNAME:EDT
DTSTART:20110313T070000
END:DAYLIGHT
BEGIN:STANDARD
TZOFFSETFROM:-0400
TZOFFSETTO:-0500
TZNAME:EST
DTSTART:20111106T060000
END:STANDARD
BEGIN:DAYLIGHT
TZOFFSETFROM:-0500
TZOFFSETTO:-0400
TZNAME:EDT
DTSTART:20120311T070000
END:DAYLIGHT
BEGIN:STANDARD
TZOFFSETFROM:-0400
TZOFFSETTO:-0500
TZNAME:EST
DTSTART:20121104T060000
END:STANDARD
BEGIN:DAYLIGHT
TZOFFSETFROM:-0500
TZOFFSETTO:-0400
TZNAME:EDT
DTSTART:20130310T070000
END:DAYLIGHT
BEGIN:STANDARD
TZOFFSETFROM:-0400
TZOFFSETTO:-0500
TZNAME:EST
DTSTART:20131103T060000
END:STANDARD
END:VTIMEZONE
BEGIN:VEVENT
DTSTART;TZID=America/New_York:20120711T190000
DTEND;TZID=America/New_York:20120711T190000
DTSTAMP:20260423T074223
CREATED:20180725T205027Z
LAST-MODIFIED:20181220T192152Z
UID:40810104089-1342033200-1342033200@www.monmouth.edu
SUMMARY:Met Opera: LES CONTES D'HOFFMANN Encore (Broadcast in HD)
DESCRIPTION:Offenbach’s LES CONTES D’HOFFMANN \nBartlett Sher’s 2009 production stars Joseph Calleja in the tour-de-force title role of this fictionalized take on the life and loves of the German Romantic writer E.T.A. Hoffmann. Anna Netrebko is the tragic Antonia and Alan Held sings the demonic four villains. Met Music Director James Levine conducts. \nConductor: James Levine \nProduction: Bartlett Sher \nCast: Kathleen Kim\, Anna Netrebko\, Ekaterina Gubanova\, Kate Lindsey\, Joseph Calleja\, Alan Held \nThe Live in HD production of Les Contes d’Hoffmann does not include the partial nudity seen in the stage production. \nOriginal transmission: December 19\, 2009 \nBroadcast in HD \n 
URL:https://www.monmouth.edu/events/event/met-opera-les-contes-dhoffmann-encore-broadcast-in-hd-2/
ATTACH;FMTTYPE=image/jpeg:https://www.monmouth.edu/events/wp-content/uploads/sites/19/2018/07/Les_Contes_DHoffmann_Thumb.jpg
END:VEVENT
BEGIN:VEVENT
DTSTART;TZID=America/New_York:20120712T200000
DTEND;TZID=America/New_York:20120729T190000
DTSTAMP:20260423T074223
CREATED:20180725T204900Z
LAST-MODIFIED:20180725T204900Z
UID:40810103852-1342123200-1343588400@www.monmouth.edu
SUMMARY:Teddy and Alice
DESCRIPTION:Thursdays – Saturdays at 8 p.mSundays at 7 p.m. Friday matinee at 2 p.m.  \nBook by Jerome Alden; Music by John Phillip Sousa; Lyrics by Hal Hackady Adaptations and Original Music by Richard Kapp“I\n can do one of two things\,” says Teddy Roosevelt at the top of “Teddy\n& Alice\,” “I can either be President of the United States or I can\ncontrol Alice. I cannot possibly do both!” The battle of wills between\nthe great American President and his free-spirited daughter provides a\nspectacular double-star turn in this high-stepping\, flag-waving and\nheart-warming family drama\, set to the immortal strains of John Philip\nSousa.
URL:https://www.monmouth.edu/events/event/teddy-and-alice/
LOCATION:Lauren K. Woods Theatre
ATTACH;FMTTYPE=image/jpeg:https://www.monmouth.edu/events/wp-content/uploads/sites/19/2018/07/Teddy_Alice_Thumb.jpg
END:VEVENT
END:VCALENDAR