BEGIN:VCALENDAR
VERSION:2.0
PRODID:-//Events - ECPv6.15.20//NONSGML v1.0//EN
CALSCALE:GREGORIAN
METHOD:PUBLISH
X-WR-CALNAME:Events
X-ORIGINAL-URL:https://www.monmouth.edu/events
X-WR-CALDESC:Events for Events
REFRESH-INTERVAL;VALUE=DURATION:PT1H
X-Robots-Tag:noindex
X-PUBLISHED-TTL:PT1H
BEGIN:VTIMEZONE
TZID:America/New_York
BEGIN:DAYLIGHT
TZOFFSETFROM:-0500
TZOFFSETTO:-0400
TZNAME:EDT
DTSTART:20110313T070000
END:DAYLIGHT
BEGIN:STANDARD
TZOFFSETFROM:-0400
TZOFFSETTO:-0500
TZNAME:EST
DTSTART:20111106T060000
END:STANDARD
BEGIN:DAYLIGHT
TZOFFSETFROM:-0500
TZOFFSETTO:-0400
TZNAME:EDT
DTSTART:20120311T070000
END:DAYLIGHT
BEGIN:STANDARD
TZOFFSETFROM:-0400
TZOFFSETTO:-0500
TZNAME:EST
DTSTART:20121104T060000
END:STANDARD
BEGIN:DAYLIGHT
TZOFFSETFROM:-0500
TZOFFSETTO:-0400
TZNAME:EDT
DTSTART:20130310T070000
END:DAYLIGHT
BEGIN:STANDARD
TZOFFSETFROM:-0400
TZOFFSETTO:-0500
TZNAME:EST
DTSTART:20131103T060000
END:STANDARD
END:VTIMEZONE
BEGIN:VEVENT
DTSTART;TZID=America/New_York:20120514T183000
DTEND;TZID=America/New_York:20120514T183000
DTSTAMP:20260423T022615
CREATED:20180725T205054Z
LAST-MODIFIED:20220509T191630Z
UID:40810104110-1337020200-1337020200@www.monmouth.edu
SUMMARY:Met Opera: Ring Cycle - Die Walküre
DESCRIPTION:To purchase a discounted subscription package to all five Ring Cycle broadcasts for $80 please call the box office at 732.263.6889. \nThis extraordinarily powerful work of theater focuses on some of the Ring’s most interesting characters at decisive moments of their lives: Wotan\, whose violation of his own laws has jeopardized the gods’ rule; his twin offspring\, Siegmund and Sieglinde\, who are meant to save the gods; and\, above all\, his heroic Valkyrie daughter Brünnhilde\, who makes a fateful decision that shatters her world. This production marked soprano Deborah Voigt’s first performances as Brünnhilde. Bryn Terfel again is Wotan\, Jonas Kaufmann and Eva-Maria Westbroek star as the twins\, Siegmund and Sieglinde\, and Stephanie Blythe sings Fricka. \nConductor: James Levine \nCast: Deborah Voigt\, Eva-Maria Westbroek\, Stephanie Blythe; Jonas Kaufmann\, Bryn Terfel\, Hans-Peter König \nOriginal Live in HD transmission: May 14\, 2011 \nFor more information visit The Metropolitan Opera online.
URL:https://www.monmouth.edu/events/event/met-opera-ring-cycle-die-walkure/
ATTACH;FMTTYPE=image/jpeg:https://www.monmouth.edu/events/wp-content/uploads/sites/19/2018/07/Die_Walkure_Thumb.jpg
END:VEVENT
BEGIN:VEVENT
DTSTART;TZID=America/New_York:20120516T183000
DTEND;TZID=America/New_York:20120516T183000
DTSTAMP:20260423T022615
CREATED:20180725T205049Z
LAST-MODIFIED:20181221T153113Z
UID:40810104107-1337193000-1337193000@www.monmouth.edu
SUMMARY:Met Opera: Ring Cycle - Siegfried
DESCRIPTION:To purchase a discounted subscription package to all five Ring Cycle broadcasts for $80 please call the box office at 732.263.6889. \nPart three of the “Ring” follows the journey of Siegfried\, son of Siegmund and Sieglinde\, from naive fearless boy to supreme hero. With the re-forged sword of his father\, he conquers magical obstacles to reach his prize\, Brünnhilde. Jay Hunter Morris took over the title role\, one of the most demanding in the repertoire\, days before the production’s premiere and reprised his acclaimed portrayal in this live transmission the following week. Deborah Voigt is Brünnhilde and Bryn Terfel sings the Wanderer. \nConductor: Fabio Luisi \nCast: Deborah Voigt\, Patricia Bardon; Jay Hunter Morris\, Gerhard Siegel\, Bryn Terfel\, Eric Owens \nOriginal Live in HD transmission: November 5\, 2011 \nFor more information visit The Metropolitan Opera online.
URL:https://www.monmouth.edu/events/event/met-opera-ring-cycle-siegfried/
ATTACH;FMTTYPE=image/jpeg:https://www.monmouth.edu/events/wp-content/uploads/sites/19/2018/07/siegfried_thumb.jpg
END:VEVENT
END:VCALENDAR