BEGIN:VCALENDAR
VERSION:2.0
PRODID:-//Events - ECPv6.15.20//NONSGML v1.0//EN
CALSCALE:GREGORIAN
METHOD:PUBLISH
X-ORIGINAL-URL:https://www.monmouth.edu/events
X-WR-CALDESC:Events for Events
REFRESH-INTERVAL;VALUE=DURATION:PT1H
X-Robots-Tag:noindex
X-PUBLISHED-TTL:PT1H
BEGIN:VTIMEZONE
TZID:America/New_York
BEGIN:DAYLIGHT
TZOFFSETFROM:-0500
TZOFFSETTO:-0400
TZNAME:EDT
DTSTART:20110313T070000
END:DAYLIGHT
BEGIN:STANDARD
TZOFFSETFROM:-0400
TZOFFSETTO:-0500
TZNAME:EST
DTSTART:20111106T060000
END:STANDARD
BEGIN:DAYLIGHT
TZOFFSETFROM:-0500
TZOFFSETTO:-0400
TZNAME:EDT
DTSTART:20120311T070000
END:DAYLIGHT
BEGIN:STANDARD
TZOFFSETFROM:-0400
TZOFFSETTO:-0500
TZNAME:EST
DTSTART:20121104T060000
END:STANDARD
BEGIN:DAYLIGHT
TZOFFSETFROM:-0500
TZOFFSETTO:-0400
TZNAME:EDT
DTSTART:20130310T070000
END:DAYLIGHT
BEGIN:STANDARD
TZOFFSETFROM:-0400
TZOFFSETTO:-0500
TZNAME:EST
DTSTART:20131103T060000
END:STANDARD
END:VTIMEZONE
BEGIN:VEVENT
DTSTART;TZID=America/New_York:20120426T090000
DTEND;TZID=America/New_York:20120426T160000
DTSTAMP:20260422T004516
CREATED:20180725T204735Z
LAST-MODIFIED:20190304T160916Z
UID:40810103558-1335430800-1335456000@www.monmouth.edu
SUMMARY:a drift: Erin V. Sotak
DESCRIPTION:Erin V. Sotak – photographer and installation artist \nAudiences can come and go as they please.  If students want to take part in creating Erin Sotak’s site specific performance\, they can contact\nAnne Massoni at amassoni@monmouth.edu. \nThis collaborative site-specific performance transforms ordinary experience into performative action and elevates everyday life encounters. Mundane and significant events are amplified and altered through repetition and recreation while fabricated narratives interrupt reality and engage the fantastical. A hopeless romantic and devout absurdist\, Sotak regales the arduous adventures of comically courting the ever-shifting and always fleeting in an attempt to stall\, freeze and simply endure. \nArtist bio:\nErin V. Sotak has exhibited both nationally and internationally and is the recipient of numerous grants and awards. She has been an invited lecturer and an artist in residence at prestigious universities\, and her work has been published in several art journals. She describes her work as “less a conversation and more a short story. I narrate using symbolic colors\, iconic objects\, cultural references and historical allusions… My work\nmost often takes the form of installation and performance that is concerned with labor\, endurance\, absurdity\, collections\, consumption and\naesthetics. The work ultimately and most importantly exists as a photograph.” \nFor more information visit: http://www.erinvsotak.com/Erin_V_Sotak/erin_v._sotak.html
URL:https://www.monmouth.edu/events/event/a-drift-erin-v-sotak/
LOCATION:Shadow Lawn
ATTACH;FMTTYPE=image/jpeg:https://www.monmouth.edu/events/wp-content/uploads/sites/19/2018/07/ErinV.Sotak_Thumbnail.jpg
END:VEVENT
BEGIN:VEVENT
DTSTART;TZID=America/New_York:20120426T190000
DTEND;TZID=America/New_York:20120426T190000
DTSTAMP:20260422T004516
CREATED:20180725T205114Z
LAST-MODIFIED:20181221T155314Z
UID:40810104119-1335466800-1335466800@www.monmouth.edu
SUMMARY:Met Opera: Manon Encore - Massenet
DESCRIPTION:Anna Netrebko’s dazzling portrayal of the tragic heroine in Laurent Pelly’s new production travels to the Met from the Royal Opera House\, Covent Garden. Piotr Beczala and Paulo Szot also star\, with the Met’s Principal Guest Conductor Fabio Luisi on the podium. (4 hours 8 minutes\, 2 intermissions) \nFor more information visit The Metropolitan Opera online.
URL:https://www.monmouth.edu/events/event/met-opera-manon-encore-massenet/
ATTACH;FMTTYPE=image/jpeg:https://www.monmouth.edu/events/wp-content/uploads/sites/19/2018/07/manon_thumb.jpg
END:VEVENT
END:VCALENDAR