BEGIN:VCALENDAR
VERSION:2.0
PRODID:-//Events - ECPv6.15.20//NONSGML v1.0//EN
CALSCALE:GREGORIAN
METHOD:PUBLISH
X-WR-CALNAME:Events
X-ORIGINAL-URL:https://www.monmouth.edu/events
X-WR-CALDESC:Events for Events
REFRESH-INTERVAL;VALUE=DURATION:PT1H
X-Robots-Tag:noindex
X-PUBLISHED-TTL:PT1H
BEGIN:VTIMEZONE
TZID:America/New_York
BEGIN:DAYLIGHT
TZOFFSETFROM:-0500
TZOFFSETTO:-0400
TZNAME:EDT
DTSTART:20110313T070000
END:DAYLIGHT
BEGIN:STANDARD
TZOFFSETFROM:-0400
TZOFFSETTO:-0500
TZNAME:EST
DTSTART:20111106T060000
END:STANDARD
BEGIN:DAYLIGHT
TZOFFSETFROM:-0500
TZOFFSETTO:-0400
TZNAME:EDT
DTSTART:20120311T070000
END:DAYLIGHT
BEGIN:STANDARD
TZOFFSETFROM:-0400
TZOFFSETTO:-0500
TZNAME:EST
DTSTART:20121104T060000
END:STANDARD
BEGIN:DAYLIGHT
TZOFFSETFROM:-0500
TZOFFSETTO:-0400
TZNAME:EDT
DTSTART:20130310T070000
END:DAYLIGHT
BEGIN:STANDARD
TZOFFSETFROM:-0400
TZOFFSETTO:-0500
TZNAME:EST
DTSTART:20131103T060000
END:STANDARD
END:VTIMEZONE
BEGIN:VEVENT
DTSTART;VALUE=DATE:20120117
DTEND;VALUE=DATE:20120310
DTSTAMP:20260422T075407
CREATED:20180725T204853Z
LAST-MODIFIED:20190228T144606Z
UID:40810103813-1326758400-1331337599@www.monmouth.edu
SUMMARY:MU Faculty Exhibition
DESCRIPTION:MU Faculty Exhibition \n  \nJanuary 17 – March 9\, 2012 \nOpening Reception: \nFriday\, January 27 from 7 – 9 p.m. \nICE HOUSE GALLERY \nFeaturing the work of the Monmouth University Department of Art & Design faculty. \n 
URL:https://www.monmouth.edu/events/event/mu-faculty-exhibition/
LOCATION:Rotary Ice House Gallery
ATTACH;FMTTYPE=image/jpeg:https://www.monmouth.edu/events/wp-content/uploads/sites/19/2018/07/Faculty_Exhibition_Thumb.jpg
END:VEVENT
BEGIN:VEVENT
DTSTART;TZID=America/New_York:20120130T170000
DTEND;TZID=America/New_York:20120315T190000
DTSTAMP:20260422T075407
CREATED:20180725T204852Z
LAST-MODIFIED:20190301T194402Z
UID:40810103801-1327942800-1331838000@www.monmouth.edu
SUMMARY:SAMINA QURAESHI - Reflections on a Sufi Path
DESCRIPTION:SAMINA QURAESHI: Reflections on a Sufi Path  \nJanuary 30 – March 15\, 2012  \nOpening Reception:  \nJanuary 30\, 2012 \nfrom 5:00-7:00 pm \nPollak Gallery \nAdmission compliments of Monmouth University \nImaginative\, vibrant\, and saturated with the rich colors of South Asia\, Samina Quraeshi’s photographs\, calligraphic works\, and mixed media montages reflect the diversity of Islamic expressions of faith. Her work is a creative response to the experience of pilgrimage to the Sufi shrines in the Indus Valley. The images evoke the music\, dance\, and acts of faith that animate these sacred spaces. \nClick for more information on the Caravanserai events.
URL:https://www.monmouth.edu/events/event/samina-quraeshi-reflections-on-a-sufi-path/
LOCATION:Pollak Gallery
ATTACH;FMTTYPE=image/jpeg:https://www.monmouth.edu/events/wp-content/uploads/sites/19/2018/07/Samina_Thumbnail.jpg
END:VEVENT
BEGIN:VEVENT
DTSTART;TZID=America/New_York:20120212T150000
DTEND;TZID=America/New_York:20120212T150000
DTSTAMP:20260422T075407
CREATED:20180725T204947Z
LAST-MODIFIED:20180731T133509Z
UID:40810103966-1329058800-1329058800@www.monmouth.edu
SUMMARY:In The Mood: A 1940s Musical Revue
DESCRIPTION:Back by popular demand\, In the Mood returns with their big band orchestra\, singers\, and swing dancers. This retro 1940s musical revives the music that moved a nation’s spirit and helped win a war. The combination of up-tempo instrumentals and intimate\, romantic ballads set the mood for a future filled with promise\, hope\, and prosperity. This Big Band theatrical Swing revue features the music of Glenn Miller\, Tommy Dorsey\, Artie Shaw\, Benny Goodman\, Harry James\, Erskin Hawkins\, The Andrews Sisters\, Frank Sinatra\, and more. \n \nFor More Information \nIn The Mood Web Site \n Cost: $42/35
URL:https://www.monmouth.edu/events/event/in-the-mood-a-1940s-musical-revue/
CATEGORIES:Arts at Monmouth,Concerts,Dance,Theatre
ATTACH;FMTTYPE=image/jpeg:https://www.monmouth.edu/events/wp-content/uploads/sites/19/2018/07/In_the_mood_Thumb1-1.jpg
END:VEVENT
BEGIN:VEVENT
DTSTART;TZID=America/New_York:20120216T190000
DTEND;TZID=America/New_York:20120216T190000
DTSTAMP:20260422T075407
CREATED:20180725T205118Z
LAST-MODIFIED:20220420T154045Z
UID:40810104137-1329418800-1329418800@www.monmouth.edu
SUMMARY:Faust Encore - Gounod (Broadcast in HD)
DESCRIPTION:With Jonas Kaufmann in the title role\, René Pape as the devil\, and Marina Poplavskaya as Marguerite\, Gounod’s classic retelling of the Faust legend couldn’t be better served. Tony Award-winning director Des McAnuff updates the story to the first half of the 20th century with a production that won praise in London last season. Yannick Nézet-Séguin conducts on the heels of his Don Carlo success.\n(4 hours 20 minutes\, 2 intermissions) \nBroadcast in HD\nFor more information visit The Metropolitan Opera online.
URL:https://www.monmouth.edu/events/event/faust-encore-gounod-broadcast-in-hd/
ATTACH;FMTTYPE=image/jpeg:https://www.monmouth.edu/events/wp-content/uploads/sites/19/2018/07/Faust_Thumb.jpg
END:VEVENT
BEGIN:VEVENT
DTSTART;TZID=America/New_York:20120217T200000
DTEND;TZID=America/New_York:20120217T200000
DTSTAMP:20260422T075407
CREATED:20180725T204946Z
LAST-MODIFIED:20180731T133509Z
UID:40810103963-1329508800-1329508800@www.monmouth.edu
SUMMARY:Carolina Chocolate Drops with M Shanghai String Band
DESCRIPTION:“The Carolina Chocolate Drops are…revisiting\, with a joyful vengeance\, black string-band and jug-band music of the Twenties and Thirties—the dirt-floor dance electricity of the Mississippi Sheiks and Cannon’s Jug Stompers.” — Rolling Stone \n“To call them a string band does not really do justice to the flying instruments\, the role changes and the strong and sometimes dangerous singing of Rhiannon Giddens …” — New York Times \n“The hottest thing to hit the old-time music community in decades.” — NPR  \nThe M Shanghai String Band will open the show. For more information about the bands visit: carolinachocolatedrops.com and mshanghaistringband.com \n Cost: $32
URL:https://www.monmouth.edu/events/event/carolina-chocolate-drops-with-m-shanghai-string-band/
ATTACH;FMTTYPE=image/jpeg:https://www.monmouth.edu/events/wp-content/uploads/sites/19/2018/07/Carolina_Chocolate_Thumb.jpg
END:VEVENT
END:VCALENDAR