BEGIN:VCALENDAR
VERSION:2.0
PRODID:-//Events - ECPv6.15.20//NONSGML v1.0//EN
CALSCALE:GREGORIAN
METHOD:PUBLISH
X-WR-CALNAME:Events
X-ORIGINAL-URL:https://www.monmouth.edu/events
X-WR-CALDESC:Events for Events
REFRESH-INTERVAL;VALUE=DURATION:PT1H
X-Robots-Tag:noindex
X-PUBLISHED-TTL:PT1H
BEGIN:VTIMEZONE
TZID:America/New_York
BEGIN:DAYLIGHT
TZOFFSETFROM:-0500
TZOFFSETTO:-0400
TZNAME:EDT
DTSTART:20100314T070000
END:DAYLIGHT
BEGIN:STANDARD
TZOFFSETFROM:-0400
TZOFFSETTO:-0500
TZNAME:EST
DTSTART:20101107T060000
END:STANDARD
BEGIN:DAYLIGHT
TZOFFSETFROM:-0500
TZOFFSETTO:-0400
TZNAME:EDT
DTSTART:20110313T070000
END:DAYLIGHT
BEGIN:STANDARD
TZOFFSETFROM:-0400
TZOFFSETTO:-0500
TZNAME:EST
DTSTART:20111106T060000
END:STANDARD
BEGIN:DAYLIGHT
TZOFFSETFROM:-0500
TZOFFSETTO:-0400
TZNAME:EDT
DTSTART:20120311T070000
END:DAYLIGHT
BEGIN:STANDARD
TZOFFSETFROM:-0400
TZOFFSETTO:-0500
TZNAME:EST
DTSTART:20121104T060000
END:STANDARD
END:VTIMEZONE
BEGIN:VEVENT
DTSTART;TZID=America/New_York:20111211T160000
DTEND;TZID=America/New_York:20111211T160000
DTSTAMP:20260423T025530
CREATED:20180725T204950Z
LAST-MODIFIED:20180731T133510Z
UID:40810103975-1323619200-1323619200@www.monmouth.edu
SUMMARY:Deck The Halls
DESCRIPTION:From the company that brought you the hit Sing\, Sing Sing! comes their new seasonal musical marvel\,Deck The Halls!. With a company of more than 40 singers\, tap dancers\, and musicians\, your favorite family holiday songs will come reeling to life at the Pollak Theatre. Resplendent with magnificent Dickens costumes\, as well as a myriad of theatrical delights\, this musical extravaganza is sure to delight the entire family. \nGuinness Book record holder in Tap Dancing\, David J.V. Meenan\, will lead his company of Broadway friends through an evening that you will talk about for years! \nCost: $38/30 \n 
URL:https://www.monmouth.edu/events/event/deck-the-halls/
ATTACH;FMTTYPE=image/jpeg:https://www.monmouth.edu/events/wp-content/uploads/sites/19/2018/07/Deck_the_Halls_Thumb.jpg
END:VEVENT
BEGIN:VEVENT
DTSTART;TZID=America/New_York:20111215T190000
DTEND;TZID=America/New_York:20111215T190000
DTSTAMP:20260423T025530
CREATED:20180725T205120Z
LAST-MODIFIED:20181221T160744Z
UID:40810104146-1323975600-1323975600@www.monmouth.edu
SUMMARY:Don Giovanni Encore - Mozart
DESCRIPTION:Mariusz Kwiecien brings his youthful and sensual interpretation of Mozart’s timeless anti-hero to the Met for the first time\, under the direction of Tony Award®-winning director Michael Grandage and with James Levine conducting. Also starring Marina Rebeka\, Barbara Frittoli\, Ramón Vargas\, and Luca Pisaroni. (3 hours 55 minutes\, 1 intermission) \nFor more information visit The Metropolitan Opera online.
URL:https://www.monmouth.edu/events/event/don-giovanni-encore-mozart/
ATTACH;FMTTYPE=image/jpeg:https://www.monmouth.edu/events/wp-content/uploads/sites/19/2018/07/Don_Giovanni_Thumb.jpg
END:VEVENT
END:VCALENDAR