BEGIN:VCALENDAR
VERSION:2.0
PRODID:-//Events - ECPv6.15.20//NONSGML v1.0//EN
CALSCALE:GREGORIAN
METHOD:PUBLISH
X-ORIGINAL-URL:https://www.monmouth.edu/events
X-WR-CALDESC:Events for Events
REFRESH-INTERVAL;VALUE=DURATION:PT1H
X-Robots-Tag:noindex
X-PUBLISHED-TTL:PT1H
BEGIN:VTIMEZONE
TZID:America/New_York
BEGIN:DAYLIGHT
TZOFFSETFROM:-0500
TZOFFSETTO:-0400
TZNAME:EDT
DTSTART:20100314T070000
END:DAYLIGHT
BEGIN:STANDARD
TZOFFSETFROM:-0400
TZOFFSETTO:-0500
TZNAME:EST
DTSTART:20101107T060000
END:STANDARD
BEGIN:DAYLIGHT
TZOFFSETFROM:-0500
TZOFFSETTO:-0400
TZNAME:EDT
DTSTART:20110313T070000
END:DAYLIGHT
BEGIN:STANDARD
TZOFFSETFROM:-0400
TZOFFSETTO:-0500
TZNAME:EST
DTSTART:20111106T060000
END:STANDARD
BEGIN:DAYLIGHT
TZOFFSETFROM:-0500
TZOFFSETTO:-0400
TZNAME:EDT
DTSTART:20120311T070000
END:DAYLIGHT
BEGIN:STANDARD
TZOFFSETFROM:-0400
TZOFFSETTO:-0500
TZNAME:EST
DTSTART:20121104T060000
END:STANDARD
END:VTIMEZONE
BEGIN:VEVENT
DTSTART;TZID=America/New_York:20111202T190000
DTEND;TZID=America/New_York:20111209T210000
DTSTAMP:20260423T064510
CREATED:20180725T204853Z
LAST-MODIFIED:20220420T152901Z
UID:40810103810-1322852400-1323464400@www.monmouth.edu
SUMMARY:December Senior Exhibition
DESCRIPTION:December Senior Show\nDecember 2 – 9\, 2011\nOpening Reception:\nFriday\, December 2\, 7 – 9 p.m. \nFeaturing the work of Monmouth University graduate seniors who will receive their degrees in graphic design or fine art.
URL:https://www.monmouth.edu/events/event/december-senior-exhibition/
LOCATION:Rotary Ice House Gallery
ATTACH;FMTTYPE=image/jpeg:https://www.monmouth.edu/events/wp-content/uploads/sites/19/2018/07/Senior_Exhibition_Thumb.jpg
END:VEVENT
BEGIN:VEVENT
DTSTART;TZID=America/New_York:20111207T200000
DTEND;TZID=America/New_York:20111207T200000
DTSTAMP:20260423T064510
CREATED:20180725T204951Z
LAST-MODIFIED:20220419T144904Z
UID:40810103981-1323288000-1323288000@www.monmouth.edu
SUMMARY:Psychic Medium John Edward
DESCRIPTION:PSYCHIC MEDIUM JOHN EDWARD \n  \nAn evening with John Edward and special guests!! \nJoin John and internationally acclaimed psychic mediums\nChar Margolis and Jonathan Louis \n Doors open at 7:30 p.m. \n  \n  \nTickets go on sale Friday\, April\, 29\, 2011 at 10 a.m. \nTicket Prices \nStandard tickets: $60\, $85\, and $135 \nSpecial Pre-Show Reception Tickets: $300 Limited quantity available \nReception from 6:30 p.m. to 7:30 p.m.; Includes a Meet And Greet\, Book Signing With John Edward and Char\, Appetizers\, and Refreshments. Seats will be within the first six rows of the stage. \nTickets will be on sale through Ticketmaster.com\, Ticketmaster phone charge 800-745-3000 and select Ticketmaster outlets. \nJohn Edward is an internationally renowned psychic medium whose ability to contact the dead has kept him on cable television since the late 1990s. His show “Crossing Over with John Edward” appeared on the Sci-Fi Channel from1999-2004 and “John Edward Cross Country” has appeared on We TV since 2006. Edward concluded he was a medium when he was a teenager\, and feels he is able to communicate with people who have died and “crossed over.” He has written numerous books on the subject including “Crossing Over” (2001)\, “After Life” (2003) and “Infinite Quest” (2010). \nAll proceeds will benefit Joan Dancy and Pals – ALS Organization www.joandancyandpals.com \nFor More Information\, please call 732-571-3512. \nProduced by Concerts East\nwww.concertseast.com
URL:https://www.monmouth.edu/events/event/psychic-medium-john-edward/
ATTACH;FMTTYPE=image/jpeg:https://www.monmouth.edu/events/wp-content/uploads/sites/19/2018/07/John_Edwards_Thumb.jpg
END:VEVENT
BEGIN:VEVENT
DTSTART;VALUE=DATE:20111208
DTEND;VALUE=DATE:20111209
DTSTAMP:20260423T064510
CREATED:20180725T204902Z
LAST-MODIFIED:20180725T204902Z
UID:40810103861-1323302400-1323388799@www.monmouth.edu
SUMMARY:Season's Greetings
DESCRIPTION:The Department of Music and Theatre Arts presents \nHoliday Concert
URL:https://www.monmouth.edu/events/event/seasons-greetings/
LOCATION:The Great Hall
ATTACH;FMTTYPE=image/jpeg:https://www.monmouth.edu/events/wp-content/uploads/sites/19/2018/07/Seasons_Greetings_Thumb.jpg
END:VEVENT
BEGIN:VEVENT
DTSTART;VALUE=DATE:20111208
DTEND;VALUE=DATE:20111209
DTSTAMP:20260423T064510
CREATED:20180725T204951Z
LAST-MODIFIED:20180725T204951Z
UID:40810103984-1323302400-1323388799@www.monmouth.edu
SUMMARY:Season's Greetings
DESCRIPTION:The Department of Music and Theatre Arts presents \nHoliday Concert
URL:https://www.monmouth.edu/events/event/seasons-greetings-2/
LOCATION:The Great Hall
ATTACH;FMTTYPE=image/jpeg:https://www.monmouth.edu/events/wp-content/uploads/sites/19/2018/07/Seasons_Greetings_Thumb.jpg
END:VEVENT
BEGIN:VEVENT
DTSTART;TZID=America/New_York:20111209T200000
DTEND;TZID=America/New_York:20111209T200000
DTSTAMP:20260423T064510
CREATED:20180725T204950Z
LAST-MODIFIED:20180731T133511Z
UID:40810103972-1323460800-1323460800@www.monmouth.edu
SUMMARY:Martin Sexton
DESCRIPTION:A Winter Night: \nAn Intimate Solo Acoustic Performance \n Cost: prices vary \n  \nThe New York Times wrote that this artist” jumps beyond standard fare on the strength of his voice\, a blue-eyed soul man’s supple instrument\,” adding that “his unpretentious heartiness helps him focus on every soul singer’s goal: to amplify the sound of the ordinary heart.“Martin Sexton is ripe with raw\, expansive talent.His voice comes in a hundred impossible shades. His songs are sweet and spirited and soulful. His repertoire is like a cross country tour of the American musical vernacular.” — Boston Globe \nVIP/meet and greet available!Check with the box office for more information. \nProduced by Concerts East\, Inc
URL:https://www.monmouth.edu/events/event/martin-sexton/
ATTACH;FMTTYPE=image/jpeg:https://www.monmouth.edu/events/wp-content/uploads/sites/19/2018/07/Martin_Sexton_Thumb.jpg
END:VEVENT
BEGIN:VEVENT
DTSTART;TZID=America/New_York:20111210T130000
DTEND;TZID=America/New_York:20111210T130000
DTSTAMP:20260423T064510
CREATED:20180725T205121Z
LAST-MODIFIED:20180731T133530Z
UID:40810104155-1323522000-1323522000@www.monmouth.edu
SUMMARY:Faust - Gounod (Broadcast in HD)
DESCRIPTION:Faust – Gounod (New Production) \nEncore Date: Thursday\, February 16\, 2012 at 7 p.m. \nWith Jonas Kaufmann in the  title role\, René Pape as the devil\, and Marina Poplavskaya as  Marguerite\, Gounod’s classic retelling of the Faust legend couldn’t be  better served. Tony Award-winning director Des McAnuff updates the story to the first half of the 20th century with a production that won praise in London last season. Yannick Nézet-Séguin conducts on the heels of  his Don Carlo success. (4 hours 20 minutes\, 2 intermissions)  \nBroadcast in HD 
URL:https://www.monmouth.edu/events/event/faust-gounod-broadcast-in-hd/
ATTACH;FMTTYPE=image/jpeg:https://www.monmouth.edu/events/wp-content/uploads/sites/19/2018/07/Faust_Thumb.jpg
END:VEVENT
END:VCALENDAR