BEGIN:VCALENDAR
VERSION:2.0
PRODID:-//Events - ECPv6.15.20//NONSGML v1.0//EN
CALSCALE:GREGORIAN
METHOD:PUBLISH
X-ORIGINAL-URL:https://www.monmouth.edu/events
X-WR-CALDESC:Events for Events
REFRESH-INTERVAL;VALUE=DURATION:PT1H
X-Robots-Tag:noindex
X-PUBLISHED-TTL:PT1H
BEGIN:VTIMEZONE
TZID:America/New_York
BEGIN:DAYLIGHT
TZOFFSETFROM:-0500
TZOFFSETTO:-0400
TZNAME:EDT
DTSTART:20100314T070000
END:DAYLIGHT
BEGIN:STANDARD
TZOFFSETFROM:-0400
TZOFFSETTO:-0500
TZNAME:EST
DTSTART:20101107T060000
END:STANDARD
BEGIN:DAYLIGHT
TZOFFSETFROM:-0500
TZOFFSETTO:-0400
TZNAME:EDT
DTSTART:20110313T070000
END:DAYLIGHT
BEGIN:STANDARD
TZOFFSETFROM:-0400
TZOFFSETTO:-0500
TZNAME:EST
DTSTART:20111106T060000
END:STANDARD
BEGIN:DAYLIGHT
TZOFFSETFROM:-0500
TZOFFSETTO:-0400
TZNAME:EDT
DTSTART:20120311T070000
END:DAYLIGHT
BEGIN:STANDARD
TZOFFSETFROM:-0400
TZOFFSETTO:-0500
TZNAME:EST
DTSTART:20121104T060000
END:STANDARD
END:VTIMEZONE
BEGIN:VEVENT
DTSTART;TZID=America/New_York:20111202T190000
DTEND;TZID=America/New_York:20111209T210000
DTSTAMP:20260423T133259
CREATED:20180725T204853Z
LAST-MODIFIED:20220420T152901Z
UID:40810103810-1322852400-1323464400@www.monmouth.edu
SUMMARY:December Senior Exhibition
DESCRIPTION:December Senior Show\nDecember 2 – 9\, 2011\nOpening Reception:\nFriday\, December 2\, 7 – 9 p.m. \nFeaturing the work of Monmouth University graduate seniors who will receive their degrees in graphic design or fine art.
URL:https://www.monmouth.edu/events/event/december-senior-exhibition/
LOCATION:Rotary Ice House Gallery
ATTACH;FMTTYPE=image/jpeg:https://www.monmouth.edu/events/wp-content/uploads/sites/19/2018/07/Senior_Exhibition_Thumb.jpg
END:VEVENT
BEGIN:VEVENT
DTSTART;TZID=America/New_York:20111202T200000
DTEND;TZID=America/New_York:20111202T230000
DTSTAMP:20260423T133259
CREATED:20180725T204951Z
LAST-MODIFIED:20180725T204951Z
UID:40810103978-1322856000-1322866800@www.monmouth.edu
SUMMARY:Father Alphonse Stephenson and the Orchestra of St. Peter by the Sea
DESCRIPTION:There’s simply no better way to start the holiday season than to spend this special evening with Father Alphonse Stephenson and the Orchestra of Saint Peter by the Sea as they perform a concert of carols and holiday favorites. This well-established Christmas tradition is celebrating its 21st year at Monmouth University. Call the box office today to see if tickets are available for this annual sell-out. \nCost: $39
URL:https://www.monmouth.edu/events/event/father-alphonse-stephenson-and-the-orchestra-of-st-peter-by-the-sea/
LOCATION:Pollak Theatre
CATEGORIES:Arts at Monmouth,Concerts
ATTACH;FMTTYPE=image/jpeg:https://www.monmouth.edu/events/wp-content/uploads/sites/19/2018/07/Father_Alphonse_Thumb.jpg
END:VEVENT
BEGIN:VEVENT
DTSTART;TZID=America/New_York:20111203T123000
DTEND;TZID=America/New_York:20111203T123000
DTSTAMP:20260423T133259
CREATED:20180725T205121Z
LAST-MODIFIED:20181221T160449Z
UID:40810104152-1322915400-1322915400@www.monmouth.edu
SUMMARY:Rodelinda - Handel
DESCRIPTION:Encore Date:Thursday\, January 19\, 2012 at 7 p.m. \nSensational in the 2004 Met premiere of Stephen Wadsworth’s much-heralded production\, Renée Fleming reprises the title role. She’s joined by Stephanie Blythe and countertenor Andreas Scholl\, and Baroque specialist Harry Bicket conducts. (4 hours 15 minutes\, 2 intermissions) \nFor more information visit The Metropolitan Opera online.
URL:https://www.monmouth.edu/events/event/rodelinda-handel/
ATTACH;FMTTYPE=image/jpeg:https://www.monmouth.edu/events/wp-content/uploads/sites/19/2018/07/Rodelinda_Thumbnail.jpg
END:VEVENT
END:VCALENDAR