BEGIN:VCALENDAR
VERSION:2.0
PRODID:-//Events - ECPv6.15.20//NONSGML v1.0//EN
CALSCALE:GREGORIAN
METHOD:PUBLISH
X-ORIGINAL-URL:https://www.monmouth.edu/events
X-WR-CALDESC:Events for Events
REFRESH-INTERVAL;VALUE=DURATION:PT1H
X-Robots-Tag:noindex
X-PUBLISHED-TTL:PT1H
BEGIN:VTIMEZONE
TZID:America/New_York
BEGIN:DAYLIGHT
TZOFFSETFROM:-0500
TZOFFSETTO:-0400
TZNAME:EDT
DTSTART:20100314T070000
END:DAYLIGHT
BEGIN:STANDARD
TZOFFSETFROM:-0400
TZOFFSETTO:-0500
TZNAME:EST
DTSTART:20101107T060000
END:STANDARD
BEGIN:DAYLIGHT
TZOFFSETFROM:-0500
TZOFFSETTO:-0400
TZNAME:EDT
DTSTART:20110313T070000
END:DAYLIGHT
BEGIN:STANDARD
TZOFFSETFROM:-0400
TZOFFSETTO:-0500
TZNAME:EST
DTSTART:20111106T060000
END:STANDARD
BEGIN:DAYLIGHT
TZOFFSETFROM:-0500
TZOFFSETTO:-0400
TZNAME:EDT
DTSTART:20120311T070000
END:DAYLIGHT
BEGIN:STANDARD
TZOFFSETFROM:-0400
TZOFFSETTO:-0500
TZNAME:EST
DTSTART:20121104T060000
END:STANDARD
END:VTIMEZONE
BEGIN:VEVENT
DTSTART;VALUE=DATE:20111025
DTEND;VALUE=DATE:20111124
DTSTAMP:20260423T161703
CREATED:20180725T204853Z
LAST-MODIFIED:20220509T192234Z
UID:40810103807-1319500800-1322092799@www.monmouth.edu
SUMMARY:Puzzle Project
DESCRIPTION:Puzzle Project \nOctober 25 – November 23\, 2011\nPuzzle Pieces are $10 each \nPollak Gallery \nWe invite you to be part of the Monmouth University Puzzle Project\, a collaborative group art exhibition. Participants purchase a 24″ x 24″ universal puzzle piece and then turn it into a unique work of art. When the piece is complete it is inserted into the puzzle\, which will continue to grow over time on the walls of the Pollak Gallery. The University’s puzzle will eventually be added to over 5\,000 other pieces for an exhibition in New York City. This project is co-sponsored by the Student Activities Board and the Center for the Arts. \nThe Puzzle Installation & Collaborative Project is a growing & traveling\, group art exhibition. It was initially sponsored by the Monmouth County Arts Council and was created and developed by the artists Tim Kelly & Sandy Taylor (MCAC) and Marie Maber (Brookdale Community College) for the 2009 Teen Arts Festival at Brookdale. Click here for more information about the project. \nTo purchase a puzzle piece please come to the Pollak Theatre Box Office or email at SAB@monmouth.edu. \n*All proceeds from the Monmouth University Puzzle Project go to Autism Awareness* \nUse this link for updates on the puzzle project.
URL:https://www.monmouth.edu/events/event/puzzle-project/
LOCATION:Pollak Gallery
ATTACH;FMTTYPE=image/jpeg:https://www.monmouth.edu/events/wp-content/uploads/sites/19/2018/07/puzzle-project_thumb.jpg
END:VEVENT
BEGIN:VEVENT
DTSTART;TZID=America/New_York:20111120T190000
DTEND;TZID=America/New_York:20111120T190000
DTSTAMP:20260423T161703
CREATED:20180725T204953Z
LAST-MODIFIED:20180731T133512Z
UID:40810103990-1321815600-1321815600@www.monmouth.edu
SUMMARY:Paul Byrom
DESCRIPTION:Paul Byrom \nThis Is The Moment Tour  \nCost: $30/25 \nPaul Byrom is often hailed as Ireland’s premier young tenor and with good reason. From an early age his special vocal talent brought him the attention of music coaches and talent spotters. His talent as a tenor has taken him far and wide\, and some of the many highlights of his career to date include performing for many dignitaries such as Irish President Mary McAleese\, Emperor Akihito of Japan\, Former Irish President and UN Commissioner for Human Rights\, Mary Robinson and most recently for United States President\, Barack Obama. In 2007 Paul was invited to join Celtic Thunder as one of the five soloists. Fans call Byrom “The Swanky Tenor” for his suave and romantic style in performing\, which is stamped on such numbers in Celtic Thunder as “Remember Me Recuerde Me” and “She”.
URL:https://www.monmouth.edu/events/event/paul-byrom/
ATTACH;FMTTYPE=image/jpeg:https://www.monmouth.edu/events/wp-content/uploads/sites/19/2018/07/Paul_Byrom_Thumbnail.jpg
END:VEVENT
BEGIN:VEVENT
DTSTART;TZID=America/New_York:20111121T193000
DTEND;TZID=America/New_York:20111121T193000
DTSTAMP:20260423T161703
CREATED:20180725T204952Z
LAST-MODIFIED:20180731T133511Z
UID:40810103987-1321903800-1321903800@www.monmouth.edu
SUMMARY:Simple Gifts
DESCRIPTION:Three women plus twelve instruments equals one good time when Simple Gifts takes the stage. Drawing on an impressive variety of ethnic folk styles\, this award-winning trio plays everything from lively Irish jigs and down-home American reels to hard-driving Klezmer frailachs and haunting Gypsy melodies\, spicing the mix with the distinctive rhythms of Balkan dance music\, the lush sounds of Scandinavian twin fiddling\, and original compositions written in a traditional style. \nCost: $22
URL:https://www.monmouth.edu/events/event/simple-gifts/
ATTACH;FMTTYPE=image/jpeg:https://www.monmouth.edu/events/wp-content/uploads/sites/19/2018/07/Simples_Gifts_Thumb.jpg
END:VEVENT
END:VCALENDAR